Workbook

Sheet в часах
C1: СОГЛАСОВАНО Руководитель ГУ "Отдел образования по Буландынскому району управления образования Акмолинской области" Жолдыгулова А.А. ________________ | I1: УТВЕРЖДАЮ Руководитель КГУ "Общеобразовательная школа села Вознесенка" Абдрахманов М.Е.. _____________ | M1: Показатели на начало учебного года | S1: 0 кл | T1: 1-4 кл. | U1: 5-9 кл. | V1: 10-12 кл. | W1: ВСЕГО
M2: 1)Число классов (групп) | S2: 1 | T2: 4 | U2: 5 | V2: 2 | W2: =SUM(T2:V2) -> 11
M3: 2)Число кл-комплектов | S3: 1 | T3: 4 | U3: 5 | V3: 2 | W3: =SUM(T3:V3) -> 11
M4: 3)Число учащихся | S4: 10 | T4: 50 | U4: 85 | V4: 11 | W4: =SUM(T4:V4) -> 146
M5: 4)Общее число часов преподавательской работы в неделю по тарификации, в т.ч. | S5: =S6+S9+S14 -> 16 | T5: =T6+T9+T14 -> 105.5 | U5: =U7+U8+U9 -> 170 | V5: =V6+V9+V14 -> 66 | W5: =SUM(T5:V5) -> 341.5
M6: а) число часов по учебному плану, из них: | S6: =S7+S8 -> 16 | T6: 97.5 | U6: 157 | V6: 66 | W6: =SUM(T6:V6) -> 320.5
M7: инвариантная часть | S7: 16 | T7: 97.5 | U7: 157 | V7: 54 | W7: =SUM(T7:V7) -> 308.5
M8: вариативная часть | S8: 0 | T8: 0 | U8: 3 | V8: 12 | W8: =SUM(T8:V8) -> 15
M9: б) дополнительных часов, всего | S9: =SUM(S10:S24) -> 0 | T9: =SUM(T10:T13) -> 8 | U9: =SUM(U10:U13) -> 10 | V9: =SUM(V10:V13) -> 0 | W9: =SUM(T9:V9) -> 18
M10: из них: в связи с освобождением учителей начальных классов от ведения уроков: | W10: =SUM(T10:V10) -> 0
M11: обучение на дому | T11: 8 | U11: 10 | W11: =SUM(T11:V11) -> 18
M12: физической культуры | W12: =SUM(T12:V12) -> 0
D13: ТАРИФИКАЦИОННЫЙ СПИСОК | M13: музыки | W13: =SUM(T13:V13) -> 0
D14: учителей на 1 января 2023 года | M14: в связи с делением классов на группы при проведении занятий по: | S14: =SUM(S15:S24) -> 0 | T14: =SUM(T15:T24) -> 0 | U14: 0 | V14: =SUM(V15:V24) -> 0 | W14: =SUM(T14:V14) -> 0
M15: иностранному языку | W15: =SUM(T15:V15) -> 0
C16: Коммунальное государственное учреждение "Общеобразовательная школа села Вознесенка отдела образования по Буландынскому району управления образования Акмолинской области" | M16: трудовому обучению | U16: 7 | W16: =SUM(T16:V16) -> 7
M17: физической культуре | W17: =SUM(T17:V17) -> 0
M18: информатике и основам вычислительной техники | W18: =SUM(T18:V18) -> 0
M19: обучение на дому | W19: =SUM(T19:V19) -> 0
M20: технологии | W20: =SUM(T20:V20) -> 0
M21: русскому языку в классах с казахским языком обучения | W21: =SUM(T21:V21) -> 0
M22: казахскому языку в классах с русским языком обучения | W22: =SUM(T22:V22) -> 0
M23: казахской литературы в классах с русским языком обучения | W23: =SUM(T23:V23) -> 0
M24: по профильным предметам (самопознание) | W24: =SUM(T24:V24) -> 0
M25: ИТОГО | S25: =S6+S9+S14 -> 16 | T25: =T6+T9+T14 -> 105.5 | U25: =U6+U9+U14+U16+U8 -> 177 | V25: =V6+V9+V14 -> 66 | W25: =SUM(T25:V25) -> 348.5
B27: БДО: 17697 тенге | D27: МРП: 3063 тенге | H27: МЗП: 60000 тенге
R29: 127 вид | S29: 122 вид | AD29: 1-4 класс 130 вид, 5-12 класс 124 вид | AJ29: 111 вид- 20% и 112 вид 30% | AL29: мастер 144 вид, исследователь 143 вид, эксперт 142 вид, модератор 141 вид
A30: № п/п | B30: Ф.И.О. | C30: Преподаваемый предмет | D30: Образование | E30: Педагогический стаж | F30: категория | G30: Ступень/звено | H30: Коэффициент | I30: Коэффициент повышения | J30: Ставка | K30: Количество ставок | L30: Заработная плата (кол-во часов в неделю) | P30: Повышение за работу в сельской местности 25% | Q30: Доплата 10% | R30: Доплата по обновленному содержанию образования 30% от ДО | S30: Доплата за работу с детьми особыми образовательными потребностями (ООП) 40% от БДО | T30: Доплата за проверку тетрадей | AF30: классное руководство | AL30: Доплата за квалификацию педагогического мастерства ( мастер-50%, исследователь-40%,эксперт-35%, модератор-30%) от ДО | AP30: Доплата за степень магистра по научно-педагогическому направлению ( 10 МРП) | AQ30: Доплата за наставничество (100 % от БДО) | AR30: Доплата за ведение внеурочных спортивных занятий ( 100% от БДО) | AS30: За ведение на английском языке предметов: физики, химии, биологии, информатики | AT30: За ведение кабинета (в школах, школах-интернатах, в детских домах | AV30: Подпись
L31: Основные часы | T31: 1-4 | X31: 5-9 | AB31: 10-11 | AF31: 1-4кл | AH31: 5-9 кл | AJ31: 10-11кл | AL31: мастер-50% | AM31: исследователь-40% | AN31: эксперт-35% | AO31: модератор-30% | AT31: кабинеты и мастерские - 20% от БДО | AU31: Комбинированные мастерские 30% от БДО
L32: 0 | M32: 1-4 | N32: 5-9 | O32: 10-11 | T32: 0.4 | V32: 0.5 | X32: 0.4 | Z32: 0.5 | AB32: 0.4 | AD32: 0.5 | AF32: 0.5 | AH32: 0.6 | AJ32: 0.6
L33: кл | M33: кл | N33: кл | O33: кл | R33: часы | S33: часы | T33: 0.5 | U33: 1 | V33: 0.5 | W33: 1 | X33: 0.5 | Y33: 1 | Z33: 0.5 | AA33: 1 | AB33: 0.5 | AC33: 1 | AD33: 0.5 | AE33: 1 | AF33: 0.5 | AG33: 1 | AH33: 0.5 | AI33: 1 | AJ33: 0.5 | AK33: 1 | AL33: % | AM33: % | AN33: % | AO33: % | AP33: МРП | AQ33: % | AR33: % | AS33: % | AT33: % | AU33: %
B34: Вакансия | C34: английский язык | D34: высшее Кокшетауский унив. Им.Мырзахметова 2018 | E34: 05.02,18 | F34: педагог-модератор №75 от 24.12.2020 | G34: B23 - 05-07 | H34: 4.66 | I34: 1.75 | J34: =17697*I34*H34 -> 144319.04 | K34: =((L34/24)+((M34+N34+O34)/16)) -> 0.25 | O34: 4 | P34: 0.25 | Q34: 0.1 | R34: =M34+N34+O34 -> 4 | AB34: 4
A35: 1 | B35: Нацаренус Мария Александровна | C35: учитель началных классов | D35: высшее. СКГУ, Омский государственный педагогический университет | E35: 21.00.01 | F35: педагог - эксперт№ 553 от 20.12.2021 | G35: B22 - 20-25 | H35: 5.12 | I35: 1.75 | J35: =17697*I35*H35 -> 158565.12 | K35: =((L35/24)+((M35+N35+O35)/16)) -> 1.0625 | M35: 17 | P35: 0.25 | Q35: 0.1 | R35: =M35+N35+O35 -> 17 | T35: 14 | AF35: 0.25 | AN35: 0.35 | AP35: 10 | AT35: 0.2
A36: =A35+1 -> 2 | B36: Ахметова Дана Турсунбековна | C36: Глобальная компетенция | D36: Бакалавр педагогики и психологии | E36: 18,05,15 | F36: б/к | G36: В24-16-20 | H36: 4.59 | I36: 1.75 | J36: =17697*I36*H36 -> 142151.15 | K36: =((L36/24)+((M36+N36+O36)/16)) -> 0.125 | N36: 2 | P36: 0.25 | Q36: 0.1 | R36: =M36+N36+O36 -> 2
A37: =A36+1 -> 3 | B37: Шульга Евгений Викторович | C37: курс ОБИП | D37: высшее. Академия "Кокше", 2013, ФК и спорт | E37: 17.07.18 | F37: б\к | G37: В24-16-20 | H37: 4.59 | I37: 1.75 | J37: =17697*I37*H37 -> 142151.15 | K37: =((L37/24)+((M37+N37+O37)/16)) -> 0.0625 | O37: 1 | P37: 0.25 | Q37: 0.1 | R37: =M37+N37+O37 -> 1
A38: =A37+1 -> 4 | B38: Шульга Евгений Викторович | C38: художественный труд | D38: учитель (курсы переподготовки) | E38: 17.07.18 | F38: б\к | G38: В24-16-20 | H38: 4.59 | I38: 1.75 | J38: =17697*I38*H38 -> 142151.15 | K38: =((L38/24)+((M38+N38+O38)/16)) -> 0.4375 | N38: 7 | P38: 0.25 | Q38: 0.1 | R38: =M38+N38+O38 -> 7 | AU38: 0.3
A39: =A38+1 -> 5 | B39: Ахметов Берик Турсунбекович | C39: физическая культура | D39: высшее. Академия "Кокше", 2013, ФК и спорт | E39: 14.07.14. | F39: педагог-модератор №150 от 12.07 2021 | G39: B23 - 13-16 | H39: 4.9 | I39: 1.75 | J39: =17697*I39*H39 -> 151751.78 | K39: =((L39/24)+((M39+N39+O39)/16)) -> 0.9375 | M39: 6 | N39: 6 | O39: 3 | P39: 0.25 | Q39: 0.1 | R39: =M39+N39+O39 -> 15 | AO39: 0.3 | AR39: 1 | AT39: 0.2
A40: =A39+1 -> 6 | B40: Нацаренус Дмитрий Викторович | C40: физическая культура | D40: Высшее. Академия "Кокше" 2012 | E40: 15.09.29 | F40: б/к | G40: B24 - 13-16 | H40: 4.49 | I40: 1.75 | J40: =17697*I40*H40 -> 139054.18 | K40: =((L40/24)+((M40+N40+O40)/16)) -> 0.9375 | N40: 9 | O40: 6 | P40: 0.25 | Q40: 0.1 | R40: =M40+N40+O40 -> 15 | AR40: 1
A41: =A40+1 -> 7 | B41: Химченко Наталья Владимировна | C41: начальные классы | D41: Высшее Кокчетауский пед.инст | E41: 26.00.05. | F41: педагог-исследователь № 68 от 12.07.2021 | G41: B21 -25-30 | H41: 5.41 | I41: 1.75 | J41: =17697*I41*H41 -> 167546.35 | K41: =((L41/24)+((M41+N41+O41)/16)) -> 1.0625 | M41: 17 | P41: 0.25 | Q41: 0.1 | R41: =M41+N41+O41 -> 17 | T41: 14 | AF41: 0.25 | AM41: 0.4 | AT41: 0.2
A42: =A41+1 -> 8 | B42: Ходаковская Виктория Юрьевна | C42: русский язык и литература | D42: Высшее Кокчетауский пед.инст, Омская гуманитарная академия | E42: 18.00.03. | F42: педагог-модератор № 191 от 23.12.2020 | G42: B23 - 16-20 | H42: 4.99 | I42: 1.75 | J42: =17697*I42*H42 -> 154539.05 | K42: =((L42/24)+((M42+N42+O42)/16)) -> 0.75 | N42: 10 | O42: 2 | P42: 0.25 | Q42: 0.1 | R42: =M42+N42+O42 -> 12 | Z42: 5 | AA42: 5 | AD42: 2 | AH42: 0.3 | AO42: 0.3
...

Sheet в сумме
C1: СОГЛАСОВАНО Руководитель ГУ "Отдел образования по Буландынскому району управления образования Акмолинской области" Жолдыгулова А.А. ________________ | O1: УТВЕРЖДАЮ Годовой фонд заработной платы _6643108_ тенге. Руководитель КГУ "Общеобразовательная школа села Вознесенка " Абдрахманов М.Е. _____________
E3: ТАРИФИКАЦИОННЫЙ СПИСОК
E4: учителей на 1 января 2022 года
E6: Коммунальное государственное учреждение "Общеобразовательная школа села Вознесенка отдела образования по Буландынскому району управления образования Акмолинской области"
C10: БДО: 17697 тенге | E10: МРП: 3063 тенге | K10: МЗП: 60000 тенге
T12: 127 вид | U12: 122 вид | AF12: 1-4 класс 130 вид, 5-12 класс 124 вид | AL12: 111 вид- 20% и 112 вид 30% | AN12: мастер 144 вид, исследователь 143 вид, эксперт 142 вид, модератор 141 вид
A13: № п/п | B13: Ф.И.О. | C13: Преподаваемый предмет | D13: Образование | E13: Педагогический стаж | F13: категория | G13: Ступень/звено | H13: Коэффициент | I13: Коэффициент повышения | J13: Ставка | K13: Количество ставок | L13: Заработная плата (кол-во часов в неделю) | Q13: Повышение за работу в сельской местности 25% | R13: Всего ДО | S13: Доплата за особые условия труда 10% от ДО | T13: Доплата по обновленному содержанию образования 30% от ДО | U13: Доплата за работу с детьми особыми образовательными потребностями (ООП) 40% от БДО | V13: Доплата за проверку тетрадей | AH13: классное руководство | AN13: Доплата за квалификацию педагогического мастерства ( мастер-50%, исследователь-40%,эксперт-35%, модератор-30%) от ДО | AR13: Доплата за степень магистра по научно-педагогическому направлению ( 10 МРП) | AS13: Доплата за наставничество (100 % от БДО) | AT13: Доплата за ведение внеурочных спортивных занятий ( 100% от БДО) | AU13: За ведение на английском языке предметов: физики, химии, биологии, информатики | AV13: За ведение кабинета (в школах, школах-интернатах, в детских домах | AX13: Всего доплат | AY13: ИТОГО МЕСЯЧНЫЙ ФОТ | AZ13: Кол-во месяцев | BA13: ИТОГО ГОДОВОЙ ФОТ | BB13: Подпись
L14: Основные часы | P14: Итого с учетом повышения | V14: 1-4 | Z14: 5-9 | AD14: 10-11 | AH14: 1-4кл | AJ14: 5-9 кл | AL14: 10-11кл | AN14: мастер-50% | AO14: исследователь-40% | AP14: эксперт-35% | AQ14: модератор-30% | AV14: кабинеты и мастерские - 20% от БДО | AW14: Комбинированные мастерские 30% от БДО
L15: 0 | M15: 1-4 | N15: 5-9 | O15: 10-11 | V15: 0.4 | X15: 0.5 | Z15: 0.4 | AB15: 0.5 | AD15: 0.4 | AF15: 0.5 | AH15: 0.5 | AJ15: 0.6 | AL15: 0.6
L16: кл | M16: кл | N16: кл | O16: кл | V16: 0.5 | W16: 1 | X16: 0.5 | Y16: 1 | Z16: 0.5 | AA16: 1 | AB16: 0.5 | AC16: 1 | AD16: 0.5 | AE16: 1 | AF16: 0.5 | AG16: 1 | AH16: 0.5 | AI16: 1 | AJ16: 0.5 | AK16: 1 | AL16: 0.5 | AM16: 1 | AN16: % | AO16: % | AP16: % | AQ16: % | AR16: МРП | AS16: % | AT16: % | AU16: % | AV16: % | AW16: % | AX16: тенге | AY16: тенге | BA16: тенге
B17: ='в часах'!B34 -> Вакансия | C17: ='в часах'!C34 -> английский язык | D17: ='в часах'!D34 -> высшее Кокшетауский унив. Им.Мырзахметова 2018 | E17: ='в часах'!E34 -> 05.02,18 | F17: ='в часах'!F34 -> педагог-модератор №75 от 24.12.2020 | G17: ='в часах'!G34 -> B23 - 05-07 | H17: ='в часах'!H34 -> 4.66 | I17: ='в часах'!I34 -> 1.75 | ... K17: ='в часах'!K34 -> 0.25 | L17: =J17/24*'в часах'!L34 -> 0 | M17: =J17/16*'в часах'!M34 -> 0 | N17: =J17/16*'в часах'!N34 -> 0 | O17: =J17/16*'в часах'!O34 -> 36079.759 | P17: =L17+M17+N17+O17 -> 36079.759 | Q17: =P17*'в часах'!P34 -> 9019.9397 | R17: =P17+Q17 -> 45099.698 | S17: =P17*'в часах'!Q34 -> 3607.9759 | T17: =(M17+N17+O17)*1.25*30% -> 13529.91 | U17: =17697*40%/16*'в часах'!S34 -> 0 | V17: =17697*20%/16*'в часах'!T34 -> 0 | W17: =17697*40%/16*'в часах'!U34 -> 0 | X17: =17697*25%/16*'в часах'!V34 -> 0 | Y17: =17697*50%/16*'в часах'!W34 -> 0 | Z17: =17697*20%/16*'в часах'!X34 -> 0 | AA17: =17697*40%/16*'в часах'!Y34 -> 0 | AB17: =17697*25%/16*'в часах'!Z34 -> 0 | AC17: =17697*50%/16*'в часах'!AA34 -> 0 | AD17: =17697*20%/16*'в часах'!AB34 -> 884.85 | AE17: =17697*40%/16*'в часах'!AC34 -> 0 | AF17: =17697*25%/16*'в часах'!AD34 -> 0 | AG17: =17697*50%/16*'в часах'!AE34 -> 0 | AH17: =17697*'в часах'!AF34 -> 0 | AI17: =17697*'в часах'!AG34 -> 0 | AJ17: =17697*'в часах'!AH34 -> 0 | AK17: =17697*'в часах'!AI34 -> 0 | AL17: =17697*'в часах'!AJ34 -> 0 | AM17: =17697*'в часах'!AK34 -> 0 | AO17: =R17*'в часах'!AM34 -> 0 | AP17: =R17*'в часах'!AN34 -> 0 | AQ17: =R17*'в часах'!AO34 -> 0 | AR17: =3063*'в часах'!AP34 -> 0 | AS17: =17697*'в часах'!AQ34 -> 0 | AT17: =17697*'в часах'!AR34 -> 0 | AU17: =17697*'в часах'!AS34 -> 0 | AV17: =17697*'в часах'!AT34 -> 0 | AW17: =17697*'в часах'!AU34 -> 0 | AX17: =SUM(S17:AW17) -> 18022.735 | AY17: =AX17+R17 -> 63122.434 | AZ17: 12 | BA17: =AZ17*AY17 -> 757469.21
A18: 1 | B18: ='в часах'!B35 -> Нацаренус Мария Александровна | C18: ='в часах'!C35 -> учитель началных классов | D18: ='в часах'!D35 -> высшее. СКГУ, Омский государственный педагогический университет | E18: ='в часах'!E35 -> 21.00.01 | F18: ='в часах'!F35 -> педагог - эксперт№ 553 от 20.12.2021 | G18: ='в часах'!G35 -> B22 - 20-25 | H18: ='в часах'!H35 -> 5.12 | I18: ='в часах'!I35 -> 1.75 | ... K18: ='в часах'!K35 -> 1.0625 | L18: =J18/24*'в часах'!L35 -> 0 | M18: =J18/16*'в часах'!M35 -> 168475.44 | N18: =J18/16*'в часах'!N35 -> 0 | O18: =J18/16*'в часах'!O35 -> 0 | P18: =L18+M18+N18+O18 -> 168475.44 | Q18: =P18*'в часах'!P35 -> 42118.86 | R18: =P18+Q18 -> 210594.3 | S18: =P18*'в часах'!Q35 -> 16847.544 | T18: =(M18+N18+O18)*1.25*30% -> 63178.29 | U18: =17697*40%/16*'в часах'!S35 -> 0 | V18: =17697*20%/16*'в часах'!T35 -> 3096.975 | W18: =17697*40%/16*'в часах'!U35 -> 0 | X18: =17697*25%/16*'в часах'!V35 -> 0 | Y18: =17697*50%/16*'в часах'!W35 -> 0 | Z18: =17697*20%/16*'в часах'!X35 -> 0 | AA18: =17697*40%/16*'в часах'!Y35 -> 0 | AB18: =17697*25%/16*'в часах'!Z35 -> 0 | AC18: =17697*50%/16*'в часах'!AA35 -> 0 | AD18: =17697*20%/16*'в часах'!AB35 -> 0 | AE18: =17697*40%/16*'в часах'!AC35 -> 0 | AF18: =17697*25%/16*'в часах'!AD35 -> 0 | AG18: =17697*50%/16*'в часах'!AE35 -> 0 | AH18: =17697*'в часах'!AF35 -> 4424.25 | AI18: =17697*'в часах'!AG35 -> 0 | AJ18: =17697*'в часах'!AH35 -> 0 | AK18: =17697*'в часах'!AI35 -> 0 | AL18: =17697*'в часах'!AJ35 -> 0 | AM18: =17697*'в часах'!AK35 -> 0 | AO18: =R18*'в часах'!AM35 -> 0 | AP18: =R18*'в часах'!AN35 -> 73708.005 | AQ18: =R18*'в часах'!AO35 -> 0 | AR18: =3063*'в часах'!AP35 -> 30630 | AS18: =17697*'в часах'!AQ35 -> 0 | AT18: =17697*'в часах'!AR35 -> 0 | AU18: =17697*'в часах'!AS35 -> 0 | AV18: =17697*'в часах'!AT35 -> 3539.4 | AW18: =17697*'в часах'!AU35 -> 0 | AX18: =SUM(S18:AW18) -> 195424.46 | AY18: =AX18+R18 -> 406018.76 | AZ18: 12 | BA18: =AZ18*AY18 -> 4872225.2
A19: =A18+1 -> 2 | B19: ='в часах'!B36 -> Ахметова Дана Турсунбековна | C19: ='в часах'!C36 -> Глобальная компетенция | D19: ='в часах'!D36 -> Бакалавр педагогики и психологии | E19: ='в часах'!E36 -> 18,05,15 | F19: ='в часах'!F36 -> б/к | G19: ='в часах'!G36 -> В24-16-20 | H19: ='в часах'!H36 -> 4.59 | I19: ='в часах'!I36 -> 1.75 | ... K19: ='в часах'!K36 -> 0.125 | L19: =J19/24*'в часах'!L36 -> 0 | M19: =J19/16*'в часах'!M36 -> 0 | N19: =J19/16*'в часах'!N36 -> 17768.894 | O19: =J19/16*'в часах'!O36 -> 0 | P19: =L19+M19+N19+O19 -> 17768.894 | Q19: =P19*'в часах'!P36 -> 4442.2235 | R19: =P19+Q19 -> 22211.118 | S19: =P19*'в часах'!Q36 -> 1776.8894 | T19: =(M19+N19+O19)*1.25*30% -> 6663.3353 | U19: =17697*40%/16*'в часах'!S36 -> 0 | V19: =17697*20%/16*'в часах'!T36 -> 0 | W19: =17697*40%/16*'в часах'!U36 -> 0 | X19: =17697*25%/16*'в часах'!V36 -> 0 | Y19: =17697*50%/16*'в часах'!W36 -> 0 | Z19: =17697*20%/16*'в часах'!X36 -> 0 | AA19: =17697*40%/16*'в часах'!Y36 -> 0 | AB19: =17697*25%/16*'в часах'!Z36 -> 0 | AC19: =17697*50%/16*'в часах'!AA36 -> 0 | AD19: =17697*20%/16*'в часах'!AB36 -> 0 | AE19: =17697*40%/16*'в часах'!AC36 -> 0 | AF19: =17697*25%/16*'в часах'!AD36 -> 0 | AG19: =17697*50%/16*'в часах'!AE36 -> 0 | AH19: =17697*'в часах'!AF36 -> 0 | AI19: =17697*'в часах'!AG36 -> 0 | AJ19: =17697*'в часах'!AH36 -> 0 | AK19: =17697*'в часах'!AI36 -> 0 | AL19: =17697*'в часах'!AJ36 -> 0 | AM19: =17697*'в часах'!AK36 -> 0 | AO19: =R19*'в часах'!AM36 -> 0 | AP19: =R19*'в часах'!AN36 -> 0 | AQ19: =R19*'в часах'!AO36 -> 0 | AR19: =3063*'в часах'!AP36 -> 0 | AS19: =17697*'в часах'!AQ36 -> 0 | AT19: =17697*'в часах'!AR36 -> 0 | AU19: =17697*'в часах'!AS36 -> 0 | AV19: =17697*'в часах'!AT36 -> 0 | AW19: =17697*'в часах'!AU36 -> 0 | AX19: =SUM(S19:AW19) -> 8440.2247 | AY19: =AX19+R19 -> 30651.342 | AZ19: 12 | BA19: =AZ19*AY19 -> 367816.11
A20: =A19+1 -> 3 | B20: ='в часах'!B37 -> Шульга Евгений Викторович | C20: ='в часах'!C37 -> курс ОБИП | D20: ='в часах'!D37 -> высшее. Академия "Кокше", 2013, ФК и спорт | E20: ='в часах'!E37 -> 17.07.18 | F20: ='в часах'!F37 -> б\к | G20: ='в часах'!G37 -> В24-16-20 | H20: ='в часах'!H37 -> 4.59 | I20: ='в часах'!I37 -> 1.75 | ... K20: ='в часах'!K37 -> 0.0625 | L20: =J20/24*'в часах'!L37 -> 0 | M20: =J20/16*'в часах'!M37 -> 0 | N20: =J20/16*'в часах'!N37 -> 0 | O20: =J20/16*'в часах'!O37 -> 8884.447 | P20: =L20+M20+N20+O20 -> 8884.447 | Q20: =P20*'в часах'!P37 -> 2221.1118 | R20: =P20+Q20 -> 11105.559 | S20: =P20*'в часах'!Q37 -> 888.4447 | T20: =(M20+N20+O20)*1.25*30% -> 3331.6676 | U20: =17697*40%/16*'в часах'!S37 -> 0 | V20: =17697*20%/16*'в часах'!T37 -> 0 | W20: =17697*40%/16*'в часах'!U37 -> 0 | X20: =17697*25%/16*'в часах'!V37 -> 0 | Y20: =17697*50%/16*'в часах'!W37 -> 0 | Z20: =17697*20%/16*'в часах'!X37 -> 0 | AA20: =17697*40%/16*'в часах'!Y37 -> 0 | AB20: =17697*25%/16*'в часах'!Z37 -> 0 | AC20: =17697*50%/16*'в часах'!AA37 -> 0 | AD20: =17697*20%/16*'в часах'!AB37 -> 0 | AE20: =17697*40%/16*'в часах'!AC37 -> 0 | AF20: =17697*25%/16*'в часах'!AD37 -> 0 | AG20: =17697*50%/16*'в часах'!AE37 -> 0 | AH20: =17697*'в часах'!AF36 -> 0 | AI20: =17697*'в часах'!AG36 -> 0 | AJ20: =17697*'в часах'!AH36 -> 0 | AK20: =17697*'в часах'!AI36 -> 0 | AL20: =17697*'в часах'!AJ37 -> 0 | AM20: =17697*'в часах'!AK37 -> 0 | AO20: =R20*'в часах'!AM37 -> 0 | AP20: =R20*'в часах'!AN37 -> 0 | AQ20: =R20*'в часах'!AO37 -> 0 | AR20: =3063*'в часах'!AP37 -> 0 | AS20: =17697*'в часах'!AQ37 -> 0 | AT20: =17697*'в часах'!AR37 -> 0 | AU20: =17697*'в часах'!AS37 -> 0 | AV20: =17697*'в часах'!AT37 -> 0 | AW20: =17697*'в часах'!AU37 -> 0 | AX20: =SUM(S20:AW20) -> 4220.1123 | AY20: =AX20+R20 -> 15325.671 | AZ20: 12 | BA20: =AZ20*AY20 -> 183908.05
A21: =A20+1 -> 4 | B21: ='в часах'!B38 -> Шульга Евгений Викторович | C21: ='в часах'!C38 -> художественный труд | D21: ='в часах'!D38 -> учитель (курсы переподготовки) | E21: ='в часах'!E38 -> 17.07.18 | F21: ='в часах'!F38 -> б\к | G21: ='в часах'!G38 -> В24-16-20 | H21: ='в часах'!H38 -> 4.59 | I21: ='в часах'!I38 -> 1.75 | ... K21: ='в часах'!K38 -> 0.4375 | L21: =J21/24*'в часах'!L38 -> 0 | M21: =J21/16*'в часах'!M38 -> 0 | N21: =J21/16*'в часах'!N38 -> 62191.129 | O21: =J21/16*'в часах'!O38 -> 0 | P21: =L21+M21+N21+O21 -> 62191.129 | Q21: =P21*'в часах'!P38 -> 15547.782 | R21: =P21+Q21 -> 77738.912 | S21: =P21*'в часах'!Q38 -> 6219.1129 | T21: =(M21+N21+O21)*1.25*30% -> 23321.673 | U21: =17697*40%/16*'в часах'!S38 -> 0 | V21: =17697*20%/16*'в часах'!T38 -> 0 | W21: =17697*40%/16*'в часах'!U38 -> 0 | X21: =17697*25%/16*'в часах'!V38 -> 0 | Y21: =17697*50%/16*'в часах'!W38 -> 0 | Z21: =17697*20%/16*'в часах'!X38 -> 0 | AA21: =17697*40%/16*'в часах'!Y38 -> 0 | AB21: =17697*25%/16*'в часах'!Z38 -> 0 | AC21: =17697*50%/16*'в часах'!AA38 -> 0 | AD21: =17697*20%/16*'в часах'!AB38 -> 0 | AE21: =17697*40%/16*'в часах'!AC38 -> 0 | AF21: =17697*25%/16*'в часах'!AD38 -> 0 | AG21: =17697*50%/16*'в часах'!AE38 -> 0 | AH21: =17697*'в часах'!AF37 -> 0 | AI21: =17697*'в часах'!AG37 -> 0 | AJ21: =17697*'в часах'!AH37 -> 0 | AK21: =17697*'в часах'!AI37 -> 0 | AL21: =17697*'в часах'!AJ38 -> 0 | AM21: =17697*'в часах'!AK38 -> 0 | AO21: =R21*'в часах'!AM38 -> 0 | AP21: =R21*'в часах'!AN38 -> 0 | AQ21: =R21*'в часах'!AO38 -> 0 | AR21: =3063*'в часах'!AP38 -> 0 | AS21: =17697*'в часах'!AQ38 -> 0 | AT21: =17697*'в часах'!AR38 -> 0 | AU21: =17697*'в часах'!AS38 -> 0 | AV21: =17697*'в часах'!AT38 -> 0 | AW21: =17697*'в часах'!AU38 -> 5309.1 | AX21: =SUM(S21:AW21) -> 34849.886 | AY21: =AX21+R21 -> 112588.8 | AZ21: 12 | BA21: =AZ21*AY21 -> 1351065.6
A22: =A21+1 -> 5 | B22: ='в часах'!B39 -> Ахметов Берик Турсунбекович | C22: ='в часах'!C39 -> физическая культура | D22: ='в часах'!D39 -> высшее. Академия "Кокше", 2013, ФК и спорт | E22: ='в часах'!E39 -> 14.07.14. | F22: ='в часах'!F39 -> педагог-модератор №150 от 12.07 2021 | G22: ='в часах'!G39 -> B23 - 13-16 | H22: ='в часах'!H39 -> 4.9 | I22: ='в часах'!I39 -> 1.75 | ... K22: ='в часах'!K39 -> 0.9375 | L22: =J22/24*'в часах'!L39 -> 0 | M22: =J22/16*'в часах'!M39 -> 56906.916 | N22: =J22/16*'в часах'!N39 -> 56906.916 | O22: =J22/16*'в часах'!O39 -> 28453.458 | P22: =L22+M22+N22+O22 -> 142267.29 | Q22: =P22*'в часах'!P39 -> 35566.822 | R22: =P22+Q22 -> 177834.11 | S22: =P22*'в часах'!Q39 -> 14226.729 | T22: =(M22+N22+O22)*1.25*30% -> 53350.233 | U22: =17697*40%/16*'в часах'!S39 -> 0 | V22: =17697*20%/16*'в часах'!T39 -> 0 | W22: =17697*40%/16*'в часах'!U39 -> 0 | X22: =17697*25%/16*'в часах'!V39 -> 0 | Y22: =17697*50%/16*'в часах'!W39 -> 0 | Z22: =17697*20%/16*'в часах'!X39 -> 0 | AA22: =17697*40%/16*'в часах'!Y39 -> 0 | AB22: =17697*25%/16*'в часах'!Z39 -> 0 | AC22: =17697*50%/16*'в часах'!AA39 -> 0 | AD22: =17697*20%/16*'в часах'!AB39 -> 0 | AE22: =17697*40%/16*'в часах'!AC39 -> 0 | AF22: =17697*25%/16*'в часах'!AD39 -> 0 | AG22: =17697*50%/16*'в часах'!AE39 -> 0 | AH22: =17697*'в часах'!AF38 -> 0 | AI22: =17697*'в часах'!AG38 -> 0 | AJ22: =17697*'в часах'!AH38 -> 0 | AK22: =17697*'в часах'!AI38 -> 0 | AL22: =17697*'в часах'!AJ39 -> 0 | AM22: =17697*'в часах'!AK39 -> 0 | AO22: =R22*'в часах'!AM39 -> 0 | AP22: =R22*'в часах'!AN39 -> 0 | AQ22: =R22*'в часах'!AO39 -> 53350.233 | AR22: =3063*'в часах'!AP39 -> 0 | AS22: =17697*'в часах'!AQ39 -> 0 | AT22: =17697*'в часах'!AR39 -> 17697 | AU22: =17697*'в часах'!AS39 -> 0 | AV22: =17697*'в часах'!AT39 -> 3539.4 | AW22: =17697*'в часах'!AU39 -> 0 | AX22: =SUM(S22:AW22) -> 142163.6 | AY22: =AX22+R22 -> 319997.71 | AZ22: 12 | BA22: =AZ22*AY22 -> 3839972.5
A23: =A22+1 -> 6 | B23: ='в часах'!B40 -> Нацаренус Дмитрий Викторович | C23: ='в часах'!C40 -> физическая культура | D23: ='в часах'!D40 -> Высшее. Академия "Кокше" 2012 | E23: ='в часах'!E40 -> 15.09.29 | F23: ='в часах'!F40 -> б/к | G23: ='в часах'!G40 -> B24 - 13-16 | H23: ='в часах'!H40 -> 4.49 | I23: ='в часах'!I40 -> 1.75 | ... K23: ='в часах'!K40 -> 0.9375 | L23: =J23/24*'в часах'!L40 -> 0 | M23: =J23/16*'в часах'!M40 -> 0 | N23: =J23/16*'в часах'!N40 -> 78217.975 | O23: =J23/16*'в часах'!O40 -> 52145.317 | P23: =L23+M23+N23+O23 -> 130363.29 | Q23: =P23*'в часах'!P40 -> 32590.823 | R23: =P23+Q23 -> 162954.11 | S23: =P23*'в часах'!Q40 -> 13036.329 | T23: =(M23+N23+O23)*1.25*30% -> 48886.234 | U23: =17697*40%/16*'в часах'!S40 -> 0 | V23: =17697*20%/16*'в часах'!T40 -> 0 | W23: =17697*40%/16*'в часах'!U40 -> 0 | X23: =17697*25%/16*'в часах'!V40 -> 0 | Y23: =17697*50%/16*'в часах'!W40 -> 0 | Z23: =17697*20%/16*'в часах'!X40 -> 0 | AA23: =17697*40%/16*'в часах'!Y40 -> 0 | AB23: =17697*25%/16*'в часах'!Z40 -> 0 | AC23: =17697*50%/16*'в часах'!AA40 -> 0 | AD23: =17697*20%/16*'в часах'!AB40 -> 0 | AE23: =17697*40%/16*'в часах'!AC40 -> 0 | AF23: =17697*25%/16*'в часах'!AD40 -> 0 | AG23: =17697*50%/16*'в часах'!AE40 -> 0 | AH23: =17697*'в часах'!AF39 -> 0 | AI23: =17697*'в часах'!AG39 -> 0 | AJ23: =17697*'в часах'!AH39 -> 0 | AK23: =17697*'в часах'!AI39 -> 0 | AL23: =17697*'в часах'!AJ40 -> 0 | AM23: =17697*'в часах'!AK40 -> 0 | AO23: =R23*'в часах'!AM40 -> 0 | AP23: =R23*'в часах'!AN40 -> 0 | AQ23: =R23*'в часах'!AO40 -> 0 | AR23: =3063*'в часах'!AP40 -> 0 | AS23: =17697*'в часах'!AQ40 -> 0 | AT23: =17697*'в часах'!AR40 -> 17697 | AU23: =17697*'в часах'!AS40 -> 0 | AV23: =17697*'в часах'!AT40 -> 0 | AW23: =17697*'в часах'!AU40 -> 0 | AX23: =SUM(S23:AW23) -> 79619.563 | AY23: =AX23+R23 -> 242573.68 | AZ23: 12 | BA23: =AZ23*AY23 -> 2910884.1
A24: =A23+1 -> 7 | B24: ='в часах'!B41 -> Химченко Наталья Владимировна | C24: ='в часах'!C41 -> начальные классы | D24: ='в часах'!D41 -> Высшее Кокчетауский пед.инст | E24: ='в часах'!E41 -> 26.00.05. | F24: ='в часах'!F41 -> педагог-исследователь № 68 от 12.07.2021 | G24: ='в часах'!G41 -> B21 -25-30 | H24: ='в часах'!H41 -> 5.41 | I24: ='в часах'!I41 -> 1.75 | ... K24: ='в часах'!K41 -> 1.0625 | L24: =J24/24*'в часах'!L41 -> 0 | M24: =J24/16*'в часах'!M41 -> 178017.99 | N24: =J24/16*'в часах'!N41 -> 0 | O24: =J24/16*'в часах'!O41 -> 0 | P24: =L24+M24+N24+O24 -> 178017.99 | Q24: =P24*'в часах'!P41 -> 44504.499 | R24: =P24+Q24 -> 222522.49 | S24: =P24*'в часах'!Q41 -> 17801.799 | T24: =(M24+N24+O24)*1.25*30% -> 66756.748 | U24: =17697*40%/16*'в часах'!S41 -> 0 | V24: =17697*20%/16*'в часах'!T41 -> 3096.975 | W24: =17697*40%/16*'в часах'!U41 -> 0 | X24: =17697*25%/16*'в часах'!V41 -> 0 | Y24: =17697*50%/16*'в часах'!W41 -> 0 | Z24: =17697*20%/16*'в часах'!X41 -> 0 | AA24: =17697*40%/16*'в часах'!Y41 -> 0 | AB24: =17697*25%/16*'в часах'!Z41 -> 0 | AC24: =17697*50%/16*'в часах'!AA41 -> 0 | AD24: =17697*20%/16*'в часах'!AB41 -> 0 | AE24: =17697*40%/16*'в часах'!AC41 -> 0 | AF24: =17697*25%/16*'в часах'!AD41 -> 0 | AG24: =17697*50%/16*'в часах'!AE41 -> 0 | AH24: =17697*'в часах'!AF40 -> 0 | AI24: =17697*'в часах'!AG40 -> 0 | AJ24: =17697*'в часах'!AH40 -> 0 | AK24: =17697*'в часах'!AI50 -> 10618.2 | AL24: =17697*'в часах'!AJ41 -> 0 | AM24: =17697*'в часах'!AK41 -> 0 | AO24: =R24*'в часах'!AM41 -> 89008.997 | AP24: =R24*'в часах'!AN41 -> 0 | AQ24: =R24*'в часах'!AO41 -> 0 | AR24: =3063*'в часах'!AP41 -> 0 | AS24: =17697*'в часах'!AQ41 -> 0 | AT24: =17697*'в часах'!AR41 -> 0 | AU24: =17697*'в часах'!AS41 -> 0 | AV24: =17697*'в часах'!AT41 -> 3539.4 | AW24: =17697*'в часах'!AU41 -> 0 | AX24: =SUM(S24:AW24) -> 190822.12 | AY24: =AX24+R24 -> 413344.61 | AZ24: 12 | BA24: =AZ24*AY24 -> 4960135.3
A25: =A24+1 -> 8 | B25: ='в часах'!B42 -> Ходаковская Виктория Юрьевна | C25: ='в часах'!C42 -> русский язык и литература | D25: ='в часах'!D42 -> Высшее Кокчетауский пед.инст, Омская гуманитарная академия | E25: ='в часах'!E42 -> 18.00.03. | F25: ='в часах'!F42 -> педагог-модератор № 191 от 23.12.2020 | G25: ='в часах'!G42 -> B23 - 16-20 | H25: ='в часах'!H42 -> 4.99 | I25: ='в часах'!I42 -> 1.75 | ... K25: ='в часах'!K42 -> 0.75 | L25: =J25/24*'в часах'!L42 -> 0 | M25: =J25/16*'в часах'!M42 -> 0 | N25: =J25/16*'в часах'!N42 -> 96586.908 | O25: =J25/16*'в часах'!O42 -> 19317.382 | P25: =L25+M25+N25+O25 -> 115904.29 | Q25: =P25*'в часах'!P42 -> 28976.072 | R25: =P25+Q25 -> 144880.36 | S25: =P25*'в часах'!Q42 -> 11590.429 | T25: =(M25+N25+O25)*1.25*30% -> 43464.109 | U25: =17697*40%/16*'в часах'!S42 -> 0 | V25: =17697*20%/16*'в часах'!T42 -> 0 | W25: =17697*40%/16*'в часах'!U42 -> 0 | X25: =17697*25%/16*'в часах'!V42 -> 0 | Y25: =17697*50%/16*'в часах'!W42 -> 0 | Z25: =17697*20%/16*'в часах'!X42 -> 0 | AA25: =17697*40%/16*'в часах'!Y42 -> 0 | AB25: =17697*25%/16*'в часах'!Z42 -> 1382.5781 | AC25: =17697*50%/16*'в часах'!AA42 -> 2765.1562 | AD25: =17697*20%/16*'в часах'!AB42 -> 0 | AE25: =17697*40%/16*'в часах'!AC42 -> 0 | AF25: =17697*25%/16*'в часах'!AD42 -> 553.03125 | AG25: =17697*50%/16*'в часах'!AE42 -> 0 | AH25: =17697*'в часах'!AF41 -> 4424.25 | AI25: =17697*'в часах'!AG41 -> 0 | AJ25: =17697*'в часах'!AH41 -> 0 | AK25: =17697*'в часах'!AI41 -> 0 | AL25: =17697*'в часах'!AJ42 -> 0 | AM25: =17697*'в часах'!AK42 -> 0 | AO25: =R25*'в часах'!AM42 -> 0 | AP25: =R25*'в часах'!AN42 -> 0 | AQ25: =R25*'в часах'!AO42 -> 43464.109 | AR25: =3063*'в часах'!AP42 -> 0 | AS25: =17697*'в часах'!AQ42 -> 0 | AT25: =17697*'в часах'!AR42 -> 0 | AU25: =17697*'в часах'!AS42 -> 0 | AV25: =17697*'в часах'!AT42 -> 0 | AW25: =17697*'в часах'!AU42 -> 0 | AX25: =SUM(S25:AW25) -> 107643.66 | AY25: =AX25+R25 -> 252524.02 | AZ25: 12 | BA25: =AZ25*AY25 -> 3030288.3
A26: =A25+1 -> 9 | B26: ='в часах'!B43 -> вакансия\русский язык и литература | C26: ='в часах'!C43 -> русский язык и литература | D26: ='в часах'!D43 -> Высшее Кокчетауский пед.инст, Омская гуманитарная академия | E26: ='в часах'!E43 -> 18.00.03. | F26: ='в часах'!F43 -> педагог-модератор № 191 от 23.12.2021 | G26: ='в часах'!G43 -> B23 - 16-20 | H26: ='в часах'!H43 -> 4.99 | I26: ='в часах'!I43 -> 1.75 | ... K26: ='в часах'!K43 -> 0.0625 | L26: =J26/24*'в часах'!L43 -> 0 | M26: =J26/16*'в часах'!M43 -> 0 | N26: =J26/16*'в часах'!N43 -> 0 | O26: =J26/16*'в часах'!O43 -> 9658.6908 | P26: =L26+M26+N26+O26 -> 9658.6908 | Q26: =P26*'в часах'!P43 -> 2414.6727 | R26: =P26+Q26 -> 12073.363 | S26: =P26*'в часах'!Q43 -> 965.86908 | T26: =(M26+N26+O26)*1.25*30% -> 3622.009 | U26: =17697*40%/16*'в часах'!S43 -> 0 | V26: =17697*20%/16*'в часах'!T43 -> 0 | W26: =17697*40%/16*'в часах'!U43 -> 0 | X26: =17697*25%/16*'в часах'!V43 -> 0 | Y26: =17697*50%/16*'в часах'!W43 -> 0 | Z26: =17697*20%/16*'в часах'!X43 -> 0 | AA26: =17697*40%/16*'в часах'!Y43 -> 0 | AB26: =17697*25%/16*'в часах'!Z43 -> 0 | AC26: =17697*50%/16*'в часах'!AA43 -> 0 | AD26: =17697*20%/16*'в часах'!AB43 -> 0 | AE26: =17697*40%/16*'в часах'!AC43 -> 0 | AF26: =17697*25%/16*'в часах'!AD43 -> 276.51562 | AG26: =17697*50%/16*'в часах'!AE43 -> 0 | AH26: =17697*'в часах'!AF42 -> 0 | AI26: =17697*'в часах'!AG42 -> 0 | AJ26: =17697*'в часах'!AH42 -> 5309.1 | AK26: =17697*'в часах'!AI42 -> 0 | AL26: =17697*'в часах'!AJ43 -> 0 | AM26: =17697*'в часах'!AK43 -> 0 | AO26: =R26*'в часах'!AM43 -> 0 | AP26: =R26*'в часах'!AN43 -> 0 | AQ26: =R26*'в часах'!AO43 -> 3622.009 | AR26: =3063*'в часах'!AP43 -> 0 | AS26: =17697*'в часах'!AQ43 -> 0 | AT26: =17697*'в часах'!AR43 -> 0 | AU26: =17697*'в часах'!AS43 -> 0 | AV26: =17697*'в часах'!AT43 -> 0 | AW26: =17697*'в часах'!AU43 -> 0 | AX26: =SUM(S26:AW26) -> 13795.503 | AY26: =AX26+R26 -> 25868.866 | AZ26: 12 | BA26: =AZ26*AY26 -> 310426.4
A27: =A26+1 -> 10 | B27: ='в часах'!B44 -> Ходаковская Виктория Юрьевна | C27: ='в часах'!C44 -> география | D27: ='в часах'!D44 -> Высшее Кокчетауский пед.инст, Омская гуманитарная академия | E27: ='в часах'!E44 -> 18.00.03. | F27: ='в часах'!F44 -> педагог-эксперт№ 197/а от 27.07.2020 | G27: ='в часах'!G44 -> B22 - 16-20 | H27: ='в часах'!H44 -> 5.03 | I27: ='в часах'!I44 -> 1.75 | ... K27: ='в часах'!K44 -> 0.75 | L27: =J27/24*'в часах'!L44 -> 0 | M27: =J27/16*'в часах'!M44 -> 0 | N27: =J27/16*'в часах'!N44 -> 58416.691 | O27: =J27/16*'в часах'!O44 -> 58416.691 | P27: =L27+M27+N27+O27 -> 116833.38 | Q27: =P27*'в часах'!P44 -> 29208.345 | R27: =P27+Q27 -> 146041.73 | S27: =P27*'в часах'!Q44 -> 11683.338 | T27: =(M27+N27+O27)*1.25*30% -> 43812.518 | U27: =17697*40%/16*'в часах'!S44 -> 0 | V27: =17697*20%/16*'в часах'!T44 -> 0 | W27: =17697*40%/16*'в часах'!U44 -> 0 | X27: =17697*25%/16*'в часах'!V44 -> 0 | Y27: =17697*50%/16*'в часах'!W44 -> 0 | Z27: =17697*20%/16*'в часах'!X44 -> 0 | AA27: =17697*40%/16*'в часах'!Y44 -> 0 | AB27: =17697*25%/16*'в часах'!Z44 -> 0 | AC27: =17697*50%/16*'в часах'!AA44 -> 0 | AD27: =17697*20%/16*'в часах'!AB44 -> 0 | AE27: =17697*40%/16*'в часах'!AC44 -> 0 | AF27: =17697*25%/16*'в часах'!AD44 -> 0 | AG27: =17697*50%/16*'в часах'!AE44 -> 0 | AH27: =17697*'в часах'!AF43 -> 0 | AI27: =17697*'в часах'!AG43 -> 0 | AJ27: =17697*'в часах'!AH43 -> 0 | AK27: =17697*'в часах'!AI43 -> 0 | AL27: =17697*'в часах'!AJ44 -> 0 | AM27: =17697*'в часах'!AK44 -> 0 | AO27: =R27*'в часах'!AM44 -> 0 | AP27: =R27*'в часах'!AN44 -> 51114.605 | AQ27: =R27*'в часах'!AO44 -> 0 | AR27: =3063*'в часах'!AP44 -> 0 | AS27: =17697*'в часах'!AQ44 -> 0 | AT27: =17697*'в часах'!AR44 -> 0 | AU27: =17697*'в часах'!AS44 -> 0 | AV27: =17697*'в часах'!AT44 -> 3539.4 | AW27: =17697*'в часах'!AU44 -> 0 | AX27: =SUM(S27:AW27) -> 110149.86 | AY27: =AX27+R27 -> 256191.59 | AZ27: 12 | BA27: =AZ27*AY27 -> 3074299.1
A28: =A27+1 -> 11 | B28: ='в часах'!B45 -> Шиленкова Вера Ивановна | C28: ='в часах'!C45 -> математика | D28: ='в часах'!D45 -> высшее. Целиноградский пед. | E28: ='в часах'!E45 -> 43.00.23 | F28: ='в часах'!F45 -> педагог - эксперт № 197/а от 27.07.2020 | G28: ='в часах'!G45 -> B22 - 3000 | H28: ='в часах'!H45 -> 5.2 | I28: ='в часах'!I45 -> 1.75 | ... K28: ='в часах'!K45 -> 0.9375 | L28: =J28/24*'в часах'!L45 -> 0 | M28: =J28/16*'в часах'!M45 -> 0 | N28: =J28/16*'в часах'!N45 -> 150977.53 | O28: =J28/16*'в часах'!O45 -> 0 | P28: =L28+M28+N28+O28 -> 150977.53 | Q28: =P28*'в часах'!P45 -> 37744.383 | R28: =P28+Q28 -> 188721.91 | S28: =P28*'в часах'!Q45 -> 15097.753 | T28: =(M28+N28+O28)*1.25*30% -> 56616.574 | U28: =17697*40%/16*'в часах'!S45 -> 0 | V28: =17697*20%/16*'в часах'!T45 -> 0 | W28: =17697*40%/16*'в часах'!U45 -> 0 | X28: =17697*25%/16*'в часах'!V45 -> 0 | Y28: =17697*50%/16*'в часах'!W45 -> 0 | Z28: =17697*20%/16*'в часах'!X45 -> 1106.0625 | AA28: =17697*40%/16*'в часах'!Y45 -> 4424.25 | AB28: =17697*25%/16*'в часах'!Z45 -> 0 | AC28: =17697*50%/16*'в часах'!AA45 -> 0 | AD28: =17697*20%/16*'в часах'!AB45 -> 0 | AE28: =17697*40%/16*'в часах'!AC45 -> 0 | AF28: =17697*25%/16*'в часах'!AD45 -> 0 | AG28: =17697*50%/16*'в часах'!AE45 -> 0 | AH28: =17697*'в часах'!AF44 -> 0 | AI28: =17697*'в часах'!AG44 -> 0 | AJ28: =17697*'в часах'!AH44 -> 0 | AK28: =17697*'в часах'!AI44 -> 0 | AL28: =17697*'в часах'!AJ45 -> 0 | AM28: =17697*'в часах'!AK45 -> 0 | AO28: =R28*'в часах'!AM45 -> 0 | AP28: =R28*'в часах'!AN45 -> 66052.67 | AQ28: =R28*'в часах'!AO45 -> 0 | AR28: =3063*'в часах'!AP45 -> 0 | AS28: =17697*'в часах'!AQ45 -> 0 | AT28: =17697*'в часах'!AR45 -> 0 | AU28: =17697*'в часах'!AS45 -> 0 | AV28: =17697*'в часах'!AT45 -> 3539.4 | AW28: =17697*'в часах'!AU45 -> 0 | AX28: =SUM(S28:AW28) -> 146836.71 | AY28: =AX28+R28 -> 335558.62 | AZ28: 12 | BA28: =AZ28*AY28 -> 4026703.5
A29: =A28+1 -> 12 | B29: ='в часах'!B46 -> Марченко Сергей Николаевич | C29: ='в часах'!C46 -> физика | D29: ='в часах'!D46 -> высшее Кокшетауский государственный университет им№ Ш.Уалиханова 2004 | E29: ='в часах'!E46 -> 23.08,10 | F29: ='в часах'!F46 -> б\к | G29: ='в часах'!G46 -> В24-20-25 | H29: ='в часах'!H46 -> 4.67 | I29: ='в часах'!I46 -> 1.75 | ... K29: ='в часах'!K46 -> 0.5 | L29: =J29/24*'в часах'!L46 -> 0 | M29: =J29/16*'в часах'!M46 -> 0 | N29: =J29/16*'в часах'!N46 -> 54235.775 | O29: =J29/16*'в часах'!O46 -> 18078.592 | P29: =L29+M29+N29+O29 -> 72314.366 | Q29: =P29*'в часах'!P46 -> 18078.592 | R29: =P29+Q29 -> 90392.958 | S29: =P29*'в часах'!Q46 -> 7231.4366 | T29: =(M29+N29+O29)*1.25*30% -> 27117.887 | U29: =17697*40%/16*'в часах'!S46 -> 0 | V29: =17697*20%/16*'в часах'!T46 -> 0 | W29: =17697*40%/16*'в часах'!U46 -> 0 | X29: =17697*25%/16*'в часах'!V46 -> 0 | Y29: =17697*50%/16*'в часах'!W46 -> 0 | Z29: =17697*20%/16*'в часах'!X46 -> 442.425 | AA29: =17697*40%/16*'в часах'!Y46 -> 1769.7 | AB29: =17697*25%/16*'в часах'!Z46 -> 0 | AC29: =17697*50%/16*'в часах'!AA46 -> 0 | AD29: =17697*20%/16*'в часах'!AB46 -> 0 | AE29: =17697*40%/16*'в часах'!AC46 -> 0 | AF29: =17697*25%/16*'в часах'!AD46 -> 0 | AG29: =17697*50%/16*'в часах'!AE46 -> 0 | AH29: =17697*'в часах'!AF45 -> 0 | AI29: =17697*'в часах'!AG45 -> 0 | AJ29: =17697*'в часах'!AH45 -> 0 | AK29: =17697*'в часах'!AI45 -> 0 | AL29: =17697*'в часах'!AJ46 -> 0 | AM29: =17697*'в часах'!AK46 -> 0 | AO29: =R29*'в часах'!AM46 -> 0 | AP29: =R29*'в часах'!AN46 -> 0 | AQ29: =R29*'в часах'!AO46 -> 0 | AR29: =3063*'в часах'!AP46 -> 0 | AS29: =17697*'в часах'!AQ46 -> 0 | AT29: =17697*'в часах'!AR46 -> 0 | AU29: =17697*'в часах'!AS46 -> 0 | AV29: =17697*'в часах'!AT46 -> 0 | AW29: =17697*'в часах'!AU46 -> 0 | AX29: =SUM(S29:AW29) -> 36561.449 | AY29: =AX29+R29 -> 126954.41 | AZ29: 12 | BA29: =AZ29*AY29 -> 1523452.9
A30: =A29+1 -> 13 | B30: ='в часах'!B47 -> Тиржанова Акмарал Дауренбековна | C30: ='в часах'!C47 -> информатика | D30: ='в часах'!D47 -> высшее. Кокшетауский университет имени А. Мырзахметова. | E30: ='в часах'!E47 -> 02.00.07. | F30: ='в часах'!F47 -> педагог-модератор №193 от 01.09.2021 | G30: ='в часах'!G47 -> B23 - 02-03 | H30: ='в часах'!H47 -> 4.51 | I30: ='в часах'!I47 -> 1.75 | ... K30: ='в часах'!K47 -> 0.78125 | L30: =J30/24*'в часах'!L47 -> 0 | M30: =J30/16*'в часах'!M47 -> 30553.594 | N30: =J30/16*'в часах'!N47 -> 43647.991 | O30: =J30/16*'в часах'!O47 -> 34918.393 | P30: =L30+M30+N30+O30 -> 109119.98 | Q30: =P30*'в часах'!P47 -> 27279.995 | R30: =P30+Q30 -> 136399.97 | S30: =P30*'в часах'!Q47 -> 10911.998 | T30: =(M30+N30+O30)*1.25*30% -> 40919.992 | U30: =17697*40%/16*'в часах'!S47 -> 0 | V30: =17697*20%/16*'в часах'!T47 -> 0 | W30: =17697*40%/16*'в часах'!U47 -> 0 | X30: =17697*25%/16*'в часах'!V47 -> 0 | Y30: =17697*50%/16*'в часах'!W47 -> 0 | Z30: =17697*20%/16*'в часах'!X47 -> 0 | AA30: =17697*40%/16*'в часах'!Y47 -> 0 | AB30: =17697*25%/16*'в часах'!Z47 -> 0 | AC30: =17697*50%/16*'в часах'!AA47 -> 0 | AD30: =17697*20%/16*'в часах'!AB47 -> 0 | AE30: =17697*40%/16*'в часах'!AC47 -> 0 | AF30: =17697*25%/16*'в часах'!AD47 -> 0 | AG30: =17697*50%/16*'в часах'!AE47 -> 0 | AH30: =17697*'в часах'!AF46 -> 0 | AI30: =17697*'в часах'!AG46 -> 0 | AJ30: =17697*'в часах'!AH46 -> 0 | AK30: =17697*'в часах'!AI46 -> 0 | AL30: =17697*'в часах'!AJ47 -> 0 | AM30: =17697*'в часах'!AK47 -> 5309.1 | AO30: =R30*'в часах'!AM47 -> 0 | AP30: =R30*'в часах'!AN47 -> 0 | AQ30: =R30*'в часах'!AO47 -> 40919.992 | AR30: =3063*'в часах'!AP47 -> 0 | AS30: =17697*'в часах'!AQ47 -> 0 | AT30: =17697*'в часах'!AR47 -> 0 | AU30: =17697*'в часах'!AS47 -> 0 | AV30: =17697*'в часах'!AT47 -> 3539.4 | AW30: =17697*'в часах'!AU47 -> 0 | AX30: =SUM(S30:AW30) -> 101600.48 | AY30: =AX30+R30 -> 238000.45 | AZ30: 12 | BA30: =AZ30*AY30 -> 2856005.5
A31: =A30+1 -> 14 | B31: ='в часах'!B48 -> Абдрахманова Дана Каиргельдыевна | C31: ='в часах'!C48 -> английский язык | D31: ='в часах'!D48 -> высшее Кокшетауский унив. Им.Мырзахметова 2018 | E31: ='в часах'!E48 -> 05.02,18 | F31: ='в часах'!F48 -> педагог-модератор №75 от 24.12.2020 | G31: ='в часах'!G48 -> B23 - 05-07 | H31: ='в часах'!H48 -> 4.66 | I31: ='в часах'!I48 -> 1.75 | ... K31: ='в часах'!K48 -> 1.3125 | L31: =J31/24*'в часах'!L48 -> 0 | M31: =J31/16*'в часах'!M48 -> 54119.638 | N31: =J31/16*'в часах'!N48 -> 135299.1 | O31: =J31/16*'в часах'!O48 -> 0 | P31: =L31+M31+N31+O31 -> 189418.73 | Q31: =P31*'в часах'!P48 -> 47354.683 | R31: =P31+Q31 -> 236773.42 | S31: =P31*'в часах'!Q48 -> 18941.873 | T31: =(M31+N31+O31)*1.25*30% -> 71032.025 | U31: =17697*40%/16*'в часах'!S48 -> 0 | V31: =17697*20%/16*'в часах'!T48 -> 884.85 | W31: =17697*40%/16*'в часах'!U48 -> 884.85 | X31: =17697*25%/16*'в часах'!V48 -> 0 | Y31: =17697*50%/16*'в часах'!W48 -> 0 | Z31: =17697*20%/16*'в часах'!X48 -> 663.6375 | AA31: =17697*40%/16*'в часах'!Y48 -> 5309.1 | AB31: =17697*25%/16*'в часах'!Z48 -> 0 | AC31: =17697*50%/16*'в часах'!AA48 -> 0 | AD31: =17697*20%/16*'в часах'!AB48 -> 0 | AE31: =17697*40%/16*'в часах'!AC48 -> 0 | AF31: =17697*25%/16*'в часах'!AD48 -> 0 | AG31: =17697*50%/16*'в часах'!AE48 -> 0 | AH31: =17697*'в часах'!AF47 -> 0 | AI31: =17697*'в часах'!AG47 -> 0 | AJ31: =17697*'в часах'!AH47 -> 0 | AK31: =17697*'в часах'!AI47 -> 0 | AL31: =17697*'в часах'!AJ48 -> 0 | AM31: =17697*'в часах'!AK48 -> 0 | AO31: =R31*'в часах'!AM48 -> 0 | AP31: =R31*'в часах'!AN48 -> 0 | AQ31: =R31*'в часах'!AO48 -> 71032.025 | AR31: =3063*'в часах'!AP48 -> 0 | AS31: =17697*'в часах'!AQ48 -> 0 | AT31: =17697*'в часах'!AR48 -> 0 | AU31: =17697*'в часах'!AS48 -> 0 | AV31: =17697*'в часах'!AT48 -> 0 | AW31: =17697*'в часах'!AU48 -> 0 | AX31: =SUM(S31:AW31) -> 168748.36 | AY31: =AX31+R31 -> 405521.78 | AZ31: 12 | BA31: =AZ31*AY31 -> 4866261.3
A32: =A31+1 -> 15 | B32: ='в часах'!B49 -> Стихиляс Татьяна Владимировна | C32: ='в часах'!C49 -> начальные классы | D32: ='в часах'!D49 -> высшее Кокшетауский унив. Им.Мырзахметова 2013 | E32: ='в часах'!E49 -> 14.09.19. | F32: ='в часах'!F49 -> педагог - исследователь № 170 от 31.12.2020 | G32: ='в часах'!G49 -> B21 - 13-16 | H32: ='в часах'!H49 -> 5.16 | I32: ='в часах'!I49 -> 1.75 | ... K32: ='в часах'!K49 -> 1 | L32: =J32/24*'в часах'!L49 -> 0 | M32: =J32/16*'в часах'!M49 -> 159803.91 | N32: =J32/16*'в часах'!N49 -> 0 | O32: =J32/16*'в часах'!O49 -> 0 | P32: =L32+M32+N32+O32 -> 159803.91 | Q32: =P32*'в часах'!P49 -> 39950.978 | R32: =P32+Q32 -> 199754.89 | S32: =P32*'в часах'!Q49 -> 15980.391 | T32: =(M32+N32+O32)*1.25*30% -> 59926.466 | U32: =17697*40%/16*'в часах'!S49 -> 0 | V32: =17697*20%/16*'в часах'!T49 -> 0 | W32: =17697*40%/16*'в часах'!U49 -> 7078.8 | X32: =17697*25%/16*'в часах'!V49 -> 0 | Y32: =17697*50%/16*'в часах'!W49 -> 0 | Z32: =17697*20%/16*'в часах'!X49 -> 0 | AA32: =17697*40%/16*'в часах'!Y49 -> 0 | AB32: =17697*25%/16*'в часах'!Z49 -> 0 | AC32: =17697*50%/16*'в часах'!AA49 -> 0 | AD32: =17697*20%/16*'в часах'!AB49 -> 0 | AE32: =17697*40%/16*'в часах'!AC49 -> 0 | AF32: =17697*25%/16*'в часах'!AD49 -> 0 | AG32: =17697*50%/16*'в часах'!AE49 -> 0 | AH32: =17697*'в часах'!AF48 -> 0 | AI32: =17697*'в часах'!AG48 -> 0 | AJ32: =17697*'в часах'!AH48 -> 0 | AK32: =17697*'в часах'!AI48 -> 10618.2 | AL32: =17697*'в часах'!AJ49 -> 0 | AM32: =17697*'в часах'!AK49 -> 0 | AO32: =R32*'в часах'!AM49 -> 79901.955 | AP32: =R32*'в часах'!AN49 -> 0 | AQ32: =R32*'в часах'!AO49 -> 0 | AR32: =3063*'в часах'!AP49 -> 0 | AS32: =17697*'в часах'!AQ49 -> 0 | AT32: =17697*'в часах'!AR49 -> 0 | AU32: =17697*'в часах'!AS49 -> 0 | AV32: =17697*'в часах'!AT49 -> 3539.4 | AW32: =17697*'в часах'!AU49 -> 0 | AX32: =SUM(S32:AW32) -> 177045.21 | AY32: =AX32+R32 -> 376800.1 | AZ32: 12 | BA32: =AZ32*AY32 -> 4521601.2
A33: =A32+1 -> 16 | B33: ='в часах'!B50 -> Гептин Наталья Александровна | C33: ='в часах'!C50 -> русский язык и литература | D33: ='в часах'!D50 -> высшее Омская гуманитарная академия 2017 | E33: ='в часах'!E50 -> 09.10.18. | F33: ='в часах'!F50 -> педагог-модератор № 118 от 31.07.2020 | G33: ='в часах'!G50 -> B23- 07-10 | H33: ='в часах'!H50 -> 4.74 | I33: ='в часах'!I50 -> 1.75 | ... K33: ='в часах'!K50 -> 1.125 | L33: =J33/24*'в часах'!L50 -> 0 | M33: =J33/16*'в часах'!M50 -> 0 | N33: =J33/16*'в часах'!N50 -> 137621.83 | O33: =J33/16*'в часах'!O50 -> 27524.365 | P33: =L33+M33+N33+O33 -> 165146.19 | Q33: =P33*'в часах'!P50 -> 41286.548 | R33: =P33+Q33 -> 206432.74 | S33: =P33*'в часах'!Q50 -> 16514.619 | T33: =(M33+N33+O33)*1.25*30% -> 61929.822 | U33: =17697*40%/16*'в часах'!S50 -> 0 | V33: =17697*20%/16*'в часах'!T50 -> 0 | W33: =17697*40%/16*'в часах'!U50 -> 0 | X33: =17697*25%/16*'в часах'!V50 -> 0 | Y33: =17697*50%/16*'в часах'!W50 -> 0 | Z33: =17697*20%/16*'в часах'!X50 -> 0 | AA33: =17697*40%/16*'в часах'!Y50 -> 0 | AB33: =17697*25%/16*'в часах'!Z50 -> 0 | AC33: =17697*50%/16*'в часах'!AA50 -> 8295.4688 | AD33: =17697*20%/16*'в часах'!AB50 -> 0 | AE33: =17697*40%/16*'в часах'!AC50 -> 0 | AF33: =17697*25%/16*'в часах'!AD50 -> 829.54688 | AG33: =17697*50%/16*'в часах'!AE50 -> 0 | AH33: =17697*'в часах'!AF49 -> 0 | AI33: =17697*'в часах'!AG49 -> 8848.5 | AJ33: =17697*'в часах'!AH49 -> 0 | AK33: =17697*'в часах'!AI49 -> 0 | AL33: =17697*'в часах'!AJ50 -> 0 | AM33: =17697*'в часах'!AK50 -> 0 | AO33: =R33*'в часах'!AM50 -> 0 | AP33: =R33*'в часах'!AN50 -> 0 | AQ33: =R33*'в часах'!AO50 -> 61929.822 | AR33: =3063*'в часах'!AP50 -> 0 | AS33: =17697*'в часах'!AQ50 -> 0 | AT33: =17697*'в часах'!AR50 -> 0 | AU33: =17697*'в часах'!AS50 -> 0 | AV33: =17697*'в часах'!AT50 -> 0 | AW33: =17697*'в часах'!AU50 -> 0 | AX33: =SUM(S33:AW33) -> 158347.78 | AY33: =AX33+R33 -> 364780.52 | AZ33: 12 | BA33: =AZ33*AY33 -> 4377366.2
A34: =A33+1 -> 17 | B34: ='в часах'!B51 -> вакансия/русский язык | C34: ='в часах'!C51 -> русский язык и литература \ надомное обучение | D34: ='в часах'!D51 -> высшее Омская гуманитарная академия 2018 | E34: ='в часах'!E51 -> 09.10.18. | F34: ='в часах'!F51 -> педагог-модератор № 118 от 31.07.2020 | G34: ='в часах'!G51 -> B23- 07-10 | H34: ='в часах'!H51 -> 4.74 | I34: ='в часах'!I51 -> 1.75 | ... K34: ='в часах'!K51 -> 0 | L34: =J34/24*'в часах'!L51 -> 0 | M34: =J34/16*'в часах'!M51 -> 0 | N34: =J34/16*'в часах'!N51 -> 0 | O34: =J34/16*'в часах'!O51 -> 0 | P34: =L34+M34+N34+O34 -> 0 | Q34: =P34*'в часах'!P51 -> 0 | R34: =P34+Q34 -> 0 | S34: =P34*'в часах'!Q51 -> 0 | T34: =(M34+N34+O34)*1.25*30% -> 0 | U34: =17697*40%/16*'в часах'!S51 -> 1327.275 | V34: =17697*20%/16*'в часах'!T51 -> 0 | W34: =17697*40%/16*'в часах'!U51 -> 0 | X34: =17697*25%/16*'в часах'!V51 -> 0 | Y34: =17697*50%/16*'в часах'!W51 -> 0 | Z34: =17697*20%/16*'в часах'!X51 -> 0 | AA34: =17697*40%/16*'в часах'!Y51 -> 0 | AB34: =17697*25%/16*'в часах'!Z51 -> 829.54688 | AC34: =17697*50%/16*'в часах'!AA51 -> 0 | AD34: =17697*20%/16*'в часах'!AB51 -> 0 | AE34: =17697*40%/16*'в часах'!AC51 -> 0 | AF34: =17697*25%/16*'в часах'!AD51 -> 0 | AG34: =17697*50%/16*'в часах'!AE51 -> 0 | AH34: =17697*'в часах'!AF50 -> 0 | AI34: =17697*'в часах'!AG50 -> 0 | AJ34: =17697*'в часах'!AH50 -> 0 | AK34: =17697*'в часах'!#REF! -> #REF! | AL34: =17697*'в часах'!AJ51 -> 0 | AM34: =17697*'в часах'!AK51 -> 0 | AO34: =R34*'в часах'!AM51 -> 0 | AP34: =R34*'в часах'!AN51 -> 0 | AQ34: =R34*'в часах'!AO51 -> 0 | AR34: =3063*'в часах'!AP51 -> 0 | AS34: =17697*'в часах'!AQ51 -> 0 | AT34: =17697*'в часах'!AR51 -> 0 | AU34: =17697*'в часах'!AS51 -> 0 | AV34: =17697*'в часах'!AT51 -> 0 | AW34: =17697*'в часах'!AU51 -> 0 | AX34: =SUM(S34:AW34) -> #REF! | AY34: =AX34+R34 -> #REF! | AZ34: 12 | BA34: =AZ34*AY34 -> #REF!
A35: =A34+1 -> 18 | B35: ='в часах'!B52 -> Черная Галина Григорьевна | C35: ='в часах'!C52 -> химия | D35: ='в часах'!D52 -> высшее Кокшеиауский университет им. Ш.Уалиханова | E35: ='в часах'!E52 -> 32.00.13. | F35: ='в часах'!F52 -> педагог-эксперт № 264 от 14.07.2021 | G35: ='в часах'!G52 -> B22 - 2500 | H35: ='в часах'!H52 -> 5.2 | I35: ='в часах'!I52 -> 1.75 | ... K35: ='в часах'!K52 -> 0.4375 | L35: =J35/24*'в часах'!L52 -> 0 | M35: =J35/16*'в часах'!M52 -> 0 | N35: =J35/16*'в часах'!N52 -> 50325.844 | O35: =J35/16*'в часах'!O52 -> 20130.338 | P35: =L35+M35+N35+O35 -> 70456.181 | Q35: =P35*'в часах'!P52 -> 17614.045 | R35: =P35+Q35 -> 88070.227 | S35: =P35*'в часах'!Q52 -> 7045.6181 | T35: =(M35+N35+O35)*1.25*30% -> 26421.068 | U35: =17697*40%/16*'в часах'!S52 -> 0 | V35: =17697*20%/16*'в часах'!T52 -> 0 | W35: =17697*40%/16*'в часах'!U52 -> 0 | X35: =17697*25%/16*'в часах'!V52 -> 0 | Y35: =17697*50%/16*'в часах'!W52 -> 0 | Z35: =17697*20%/16*'в часах'!X52 -> 442.425 | AA35: =17697*40%/16*'в часах'!Y52 -> 1327.275 | AB35: =17697*25%/16*'в часах'!Z52 -> 0 | AC35: =17697*50%/16*'в часах'!AA52 -> 0 | AD35: =17697*20%/16*'в часах'!AB52 -> 0 | AE35: =17697*40%/16*'в часах'!AC52 -> 0 | AF35: =17697*25%/16*'в часах'!AD52 -> 0 | AG35: =17697*50%/16*'в часах'!AE52 -> 0 | AH35: =17697*'в часах'!AF51 -> 0 | AI35: =17697*'в часах'!AG51 -> 0 | AJ35: =17697*'в часах'!AH51 -> 0 | AK35: =17697*'в часах'!AI51 -> 0 | AL35: =17697*'в часах'!AJ52 -> 0 | AM35: =17697*'в часах'!AK52 -> 5309.1 | AO35: =R35*'в часах'!AM52 -> 0 | AP35: =R35*'в часах'!AN52 -> 30824.579 | AQ35: =R35*'в часах'!AO52 -> 0 | AR35: =3063*'в часах'!AP52 -> 0 | AS35: =17697*'в часах'!AQ52 -> 0 | AT35: =17697*'в часах'!AR52 -> 0 | AU35: =17697*'в часах'!AS52 -> 17697 | AV35: =17697*'в часах'!AT52 -> 3539.4 | AW35: =17697*'в часах'!AU52 -> 0 | AX35: =SUM(S35:AW35) -> 92606.465 | AY35: =AX35+R35 -> 180676.69 | AZ35: 12 | BA35: =AZ35*AY35 -> 2168120.3
A36: =A35+1 -> 19 | B36: ='в часах'!B53 -> Черная Галина Григорьевна | C36: ='в часах'!C53 -> биология | D36: ='в часах'!D53 -> высшее Кокшеиауский университет им. Ш.Уалиханова | E36: ='в часах'!E53 -> 32.00.13. | F36: ='в часах'!F53 -> педагог-эксперт № 264 от 14.07.2022 | G36: ='в часах'!G53 -> B22 - 2500 | H36: ='в часах'!H53 -> 5.2 | I36: ='в часах'!I53 -> 1.75 | ... K36: ='в часах'!K53 -> 1 | L36: =J36/24*'в часах'!L53 -> 0 | M36: =J36/16*'в часах'!M53 -> 0 | N36: =J36/16*'в часах'!N53 -> 100651.69 | O36: =J36/16*'в часах'!O53 -> 60391.013 | P36: =L36+M36+N36+O36 -> 161042.7 | Q36: =P36*'в часах'!P53 -> 40260.675 | R36: =P36+Q36 -> 201303.38 | S36: =P36*'в часах'!Q53 -> 16104.27 | T36: =(M36+N36+O36)*1.25*30% -> 60391.012 | U36: =17697*40%/16*'в часах'!S53 -> 0 | V36: =17697*20%/16*'в часах'!T53 -> 0 | W36: =17697*40%/16*'в часах'!U53 -> 0 | X36: =17697*25%/16*'в часах'!V53 -> 0 | Y36: =17697*50%/16*'в часах'!W53 -> 0 | Z36: =17697*20%/16*'в часах'!X53 -> 442.425 | AA36: =17697*40%/16*'в часах'!Y53 -> 3539.4 | AB36: =17697*25%/16*'в часах'!Z53 -> 0 | AC36: =17697*50%/16*'в часах'!AA53 -> 0 | AD36: =17697*20%/16*'в часах'!AB53 -> 1327.275 | AE36: =17697*40%/16*'в часах'!AC53 -> 0 | AF36: =17697*25%/16*'в часах'!AD53 -> 0 | AG36: =17697*50%/16*'в часах'!AE53 -> 0 | AH36: =17697*'в часах'!AF51 -> 0 | AI36: =17697*'в часах'!AG52 -> 0 | AJ36: =17697*'в часах'!AH52 -> 0 | AK36: =17697*'в часах'!AI52 -> 0 | AL36: =17697*'в часах'!AJ53 -> 0 | AM36: =17697*'в часах'!AK53 -> 0 | AO36: =R36*'в часах'!AM53 -> 0 | AP36: =R36*'в часах'!AN53 -> 70456.181 | AQ36: =R36*'в часах'!AO53 -> 0 | AR36: =3063*'в часах'!AP53 -> 0 | AS36: =17697*'в часах'!AQ53 -> 0 | AT36: =17697*'в часах'!AR53 -> 0 | AU36: =17697*'в часах'!AS53 -> 0 | AV36: =17697*'в часах'!AT53 -> 0 | AW36: =17697*'в часах'!AU53 -> 0 | AX36: =SUM(S36:AW36) -> 152260.56 | AY36: =AX36+R36 -> 353563.94 | AZ36: 12 | BA36: =AZ36*AY36 -> 4242767.3
A37: =A36+1 -> 20 | B37: ='в часах'!B54 -> Черная Галина Григорьевна | C37: ='в часах'!C54 -> мир вокруг | D37: ='в часах'!D54 -> высшее Кокшеиауский университет им. Ш.Уалиханова | E37: ='в часах'!E54 -> 32.00.13. | F37: ='в часах'!F54 -> педагог-эксперт № 264 от 14.07.2023 | G37: ='в часах'!G54 -> B22 - 2500 | H37: ='в часах'!H54 -> 5.2 | I37: ='в часах'!I54 -> 1.75 | ... K37: ='в часах'!K54 -> 0 | L37: =J37/24*'в часах'!L54 -> 0 | M37: =J37/16*'в часах'!M54 -> 0 | N37: =J37/16*'в часах'!N54 -> 0 | O37: =J37/16*'в часах'!O54 -> 0 | P37: =L37+M37+N37+O37 -> 0 | Q37: =P37*'в часах'!P54 -> 0 | R37: =P37+Q37 -> 0 | S37: =P37*'в часах'!Q54 -> 0 | T37: =(M37+N37+O37)*1.25*30% -> 0 | U37: =17697*40%/16*'в часах'!S54 -> 442.425 | V37: =17697*20%/16*'в часах'!T54 -> 0 | W37: =17697*40%/16*'в часах'!U54 -> 0 | X37: =17697*25%/16*'в часах'!V54 -> 0 | Y37: =17697*50%/16*'в часах'!W54 -> 0 | Z37: =17697*20%/16*'в часах'!X54 -> 221.2125 | AA37: =17697*40%/16*'в часах'!Y54 -> 0 | AB37: =17697*25%/16*'в часах'!Z54 -> 0 | AC37: =17697*50%/16*'в часах'!AA54 -> 0 | AD37: =17697*20%/16*'в часах'!AB54 -> 0 | AE37: =17697*40%/16*'в часах'!AC54 -> 0 | AF37: =17697*25%/16*'в часах'!AD54 -> 0 | AG37: =17697*50%/16*'в часах'!AE54 -> 0 | AH37: =17697*'в часах'!AF52 -> 0 | AI37: =17697*'в часах'!AG53 -> 0 | AJ37: =17697*'в часах'!AH53 -> 0 | AK37: =17697*'в часах'!AI53 -> 0 | AL37: =17697*'в часах'!AJ54 -> 0 | AM37: =17697*'в часах'!AK54 -> 0 | AO37: =R37*'в часах'!AM54 -> 0 | AP37: =R37*'в часах'!AN54 -> 0 | AQ37: =R37*'в часах'!AO54 -> 0 | AR37: =3063*'в часах'!AP54 -> 0 | AS37: =17697*'в часах'!AQ54 -> 0 | AT37: =17697*'в часах'!AR54 -> 0 | AU37: =17697*'в часах'!AS54 -> 0 | AV37: =17697*'в часах'!AT54 -> 0 | AW37: =17697*'в часах'!AU54 -> 0 | AX37: =SUM(S37:AW37) -> 663.6375 | AY37: =AX37+R37 -> 663.6375 | AZ37: 12 | BA37: =AZ37*AY37 -> 7963.65
A38: =A37+1 -> 21 | B38: ='в часах'!B55 -> Ермаганбетова Гульзаш Салыкжановна | C38: ='в часах'!C55 -> казахский язык и литература | D38: ='в часах'!D55 -> высшее.Аркалыкский пед. | E38: ='в часах'!E55 -> 25.08.25. | F38: ='в часах'!F55 -> педагог-эксперт № 197/а от 27.07.2020 | G38: ='в часах'!G55 -> B22 - 25-30 | H38: ='в часах'!H55 -> 5.2 | I38: ='в часах'!I55 -> 1.75 | ... K38: ='в часах'!K55 -> 1.375 | L38: =J38/24*'в часах'!L55 -> 0 | M38: =J38/16*'в часах'!M55 -> 70456.181 | N38: =J38/16*'в часах'!N55 -> 120782.03 | O38: =J38/16*'в часах'!O55 -> 30195.506 | P38: =L38+M38+N38+O38 -> 221433.71 | Q38: =P38*'в часах'!P55 -> 55358.428 | R38: =P38+Q38 -> 276792.14 | S38: =P38*'в часах'!Q55 -> 22143.371 | T38: =(M38+N38+O38)*1.25*30% -> 83037.642 | U38: =17697*40%/16*'в часах'!S55 -> 442.425 | V38: =17697*20%/16*'в часах'!T55 -> 0 | W38: =17697*40%/16*'в часах'!U55 -> 0 | X38: =17697*25%/16*'в часах'!V55 -> 1106.0625 | Y38: =17697*50%/16*'в часах'!W55 -> 2212.125 | Z38: =17697*20%/16*'в часах'!X55 -> 0 | AA38: =17697*40%/16*'в часах'!Y55 -> 0 | AB38: =17697*25%/16*'в часах'!Z55 -> 1106.0625 | AC38: =17697*50%/16*'в часах'!AA55 -> 4424.25 | AD38: =17697*20%/16*'в часах'!AB55 -> 0 | AE38: =17697*40%/16*'в часах'!AC55 -> 0 | AF38: =17697*25%/16*'в часах'!AD55 -> 829.54688 | AG38: =17697*50%/16*'в часах'!AE55 -> 0 | AH38: =17697*'в часах'!AF53 -> 0 | AI38: =17697*'в часах'!AG54 -> 0 | AJ38: =17697*'в часах'!AH54 -> 0 | AK38: =17697*'в часах'!AI54 -> 0 | AL38: =17697*'в часах'!AJ55 -> 0 | AM38: =17697*'в часах'!AK55 -> 0 | AO38: =R38*'в часах'!AM55 -> 0 | AP38: =R38*'в часах'!AN55 -> 96877.249 | AQ38: =R38*'в часах'!AO55 -> 0 | AR38: =3063*'в часах'!AP55 -> 0 | AS38: =17697*'в часах'!AQ55 -> 0 | AT38: =17697*'в часах'!AR55 -> 0 | AU38: =17697*'в часах'!AS55 -> 0 | AV38: =17697*'в часах'!AT55 -> 3539.4 | AW38: =17697*'в часах'!AU55 -> 0 | AX38: =SUM(S38:AW38) -> 215718.13 | AY38: =AX38+R38 -> 492510.28 | AZ38: 12 | BA38: =AZ38*AY38 -> 5910123.3
A39: =A38+1 -> 22 | B39: ='в часах'!B56 -> Груздева Кристина Владимировна | C39: ='в часах'!C56 -> история | D39: ='в часах'!D56 -> высшее Кокшетауский унив. Им.Мырзахметова 2020 | E39: ='в часах'!E56 -> 06.10.15 | F39: ='в часах'!F56 -> б\к | G39: ='в часах'!G56 -> B24 - 05-07 | H39: ='в часах'!H56 -> 4.27 | I39: ='в часах'!I56 -> 1.75 | ... K39: ='в часах'!K56 -> 1.375 | L39: =J39/24*'в часах'!L56 -> 0 | M39: =J39/16*'в часах'!M56 -> 0 | N39: =J39/16*'в часах'!N56 -> 132240.83 | O39: =J39/16*'в часах'!O56 -> 49590.312 | P39: =L39+M39+N39+O39 -> 181831.14 | Q39: =P39*'в часах'!P56 -> 45457.786 | R39: =P39+Q39 -> 227288.93 | S39: =P39*'в часах'!Q56 -> 18183.114 | T39: =(M39+N39+O39)*1.25*30% -> 68186.679 | U39: =17697*40%/16*'в часах'!S56 -> 0 | V39: =17697*20%/16*'в часах'!T56 -> 0 | W39: =17697*40%/16*'в часах'!U56 -> 0 | X39: =17697*25%/16*'в часах'!V56 -> 0 | Y39: =17697*50%/16*'в часах'!W56 -> 0 | Z39: =17697*20%/16*'в часах'!X56 -> 0 | AA39: =17697*40%/16*'в часах'!Y56 -> 0 | AB39: =17697*25%/16*'в часах'!Z56 -> 0 | AC39: =17697*50%/16*'в часах'!AA56 -> 0 | AD39: =17697*20%/16*'в часах'!AB56 -> 0 | AE39: =17697*40%/16*'в часах'!AC56 -> 0 | AF39: =17697*25%/16*'в часах'!AD56 -> 0 | AG39: =17697*50%/16*'в часах'!AE56 -> 0 | AH39: =17697*'в часах'!AF54 -> 0 | AI39: =17697*'в часах'!AG55 -> 0 | AJ39: =17697*'в часах'!AH55 -> 0 | AK39: =17697*'в часах'!AI55 -> 0 | AL39: =17697*'в часах'!AJ56 -> 0 | AM39: =17697*'в часах'!AK56 -> 0 | AO39: =R39*'в часах'!AM56 -> 0 | AP39: =R39*'в часах'!AN56 -> 0 | AQ39: =R39*'в часах'!AO56 -> 0 | AR39: =3063*'в часах'!AP56 -> 0 | AS39: =17697*'в часах'!AQ56 -> 0 | AT39: =17697*'в часах'!AR56 -> 0 | AU39: =17697*'в часах'!AS56 -> 0 | AV39: =17697*'в часах'!AT56 -> 0 | AW39: =17697*'в часах'!AU56 -> 0 | AX39: =SUM(S39:AW39) -> 86369.794 | AY39: =AX39+R39 -> 313658.72 | AZ39: 12 | BA39: =AZ39*AY39 -> 3763904.7
A40: =A39+1 -> 23 | B40: ='в часах'!#REF! -> #REF! | C40: ='в часах'!#REF! -> #REF! | D40: ='в часах'!#REF! -> #REF! | E40: ='в часах'!#REF! -> #REF! | F40: ='в часах'!#REF! -> #REF! | G40: ='в часах'!#REF! -> #REF! | H40: ='в часах'!#REF! -> #REF! | I40: ='в часах'!#REF! -> #REF! | ... K40: ='в часах'!#REF! -> #REF! | L40: =J40/24*'в часах'!#REF! -> #REF! | M40: =J40/16*'в часах'!#REF! -> #REF! | N40: =J40/16*'в часах'!#REF! -> #REF! | O40: =J40/16*'в часах'!#REF! -> #REF! | P40: =L40+M40+N40+O40 -> #REF! | Q40: =P40*'в часах'!#REF! -> #REF! | R40: =P40+Q40 -> #REF! | S40: =P40*'в часах'!#REF! -> #REF! | T40: =(M40+N40+O40)*1.25*30% -> #REF! | U40: =17697*40%/16*'в часах'!#REF! -> #REF! | V40: =17697*20%/16*'в часах'!#REF! -> #REF! | W40: =17697*40%/16*'в часах'!#REF! -> #REF! | X40: =17697*25%/16*'в часах'!#REF! -> #REF! | Y40: =17697*50%/16*'в часах'!#REF! -> #REF! | Z40: =17697*20%/16*'в часах'!#REF! -> #REF! | AA40: =17697*40%/16*'в часах'!#REF! -> #REF! | AB40: =17697*25%/16*'в часах'!#REF! -> #REF! | AC40: =17697*50%/16*'в часах'!#REF! -> #REF! | AD40: =17697*20%/16*'в часах'!#REF! -> #REF! | AE40: =17697*40%/16*'в часах'!#REF! -> #REF! | AF40: =17697*25%/16*'в часах'!#REF! -> #REF! | AG40: =17697*50%/16*'в часах'!#REF! -> #REF! | AH40: =17697*'в часах'!AF55 -> 0 | AI40: =17697*'в часах'!AG56 -> 0 | AJ40: =17697*'в часах'!AH56 -> 0 | AK40: =17697*'в часах'!AI56 -> 10618.2 | AL40: =17697*'в часах'!#REF! -> #REF! | AM40: =17697*'в часах'!#REF! -> #REF! | AO40: =R40*'в часах'!#REF! -> #REF! | AP40: =R40*'в часах'!#REF! -> #REF! | AQ40: =R40*'в часах'!#REF! -> #REF! | AR40: =3063*'в часах'!#REF! -> #REF! | AS40: =17697*'в часах'!#REF! -> #REF! | AT40: =17697*'в часах'!#REF! -> #REF! | AU40: =17697*'в часах'!#REF! -> #REF! | AV40: =17697*'в часах'!#REF! -> #REF! | AW40: =17697*'в часах'!#REF! -> #REF! | AX40: =SUM(S40:AW40) -> #REF! | AY40: =AX40+R40 -> #REF! | AZ40: 12 | BA40: =AZ40*AY40 -> #REF!
A41: =A40+1 -> 24 | B41: ='в часах'!B57 -> Груздева Кристина Владимировна | C41: ='в часах'!C57 -> социально-бытовая ориентация | D41: ='в часах'!D57 -> магистратура Кокшетауский унив. Ш.Уалиханова,2016 | E41: ='в часах'!E57 -> 06.10.15 | F41: ='в часах'!F57 -> вторая №55 от 28.04.2018 | G41: ='в часах'!G57 -> В23-05-07 | H41: ='в часах'!H57 -> 4.66 | I41: ='в часах'!I57 -> 1.75 | ... K41: ='в часах'!K57 -> 0 | L41: =J41/24*'в часах'!L57 -> 0 | M41: =J41/16*'в часах'!M57 -> 0 | N41: =J41/16*'в часах'!N57 -> 0 | O41: =J41/16*'в часах'!O57 -> 0 | P41: =L41+M41+N41+O41 -> 0 | Q41: =P41*'в часах'!P57 -> 0 | R41: =P41+Q41 -> 0 | S41: =P41*'в часах'!Q57 -> 0 | T41: =(M41+N41+O41)*1.25*30% -> 0 | U41: =17697*40%/16*'в часах'!S57 -> 442.425 | V41: =17697*20%/16*'в часах'!T57 -> 0 | W41: =17697*40%/16*'в часах'!U57 -> 0 | X41: =17697*25%/16*'в часах'!V57 -> 0 | Y41: =17697*50%/16*'в часах'!W57 -> 0 | Z41: =17697*20%/16*'в часах'!X57 -> 0 | AA41: =17697*40%/16*'в часах'!Y57 -> 0 | AB41: =17697*25%/16*'в часах'!Z57 -> 0 | AC41: =17697*50%/16*'в часах'!AA57 -> 0 | AD41: =17697*20%/16*'в часах'!AB57 -> 0 | AE41: =17697*40%/16*'в часах'!AC57 -> 0 | AF41: =17697*25%/16*'в часах'!AD57 -> 0 | AG41: =17697*50%/16*'в часах'!AE57 -> 0 | AH41: =17697*'в часах'!AF56 -> 0 | AI41: =17697*'в часах'!#REF! -> #REF! | AJ41: =17697*'в часах'!#REF! -> #REF! | AK41: =17697*'в часах'!#REF! -> #REF! | AL41: =17697*'в часах'!AJ57 -> 0 | AM41: =17697*'в часах'!AK57 -> 0 | AO41: =R41*'в часах'!AM57 -> 0 | AP41: =R41*'в часах'!AN57 -> 0 | AQ41: =R41*'в часах'!AO57 -> 0 | AR41: =3063*'в часах'!AP57 -> 30630 | AS41: =17697*'в часах'!AQ57 -> 0 | AT41: =17697*'в часах'!AR57 -> 0 | AU41: =17697*'в часах'!AS57 -> 0 | AV41: =17697*'в часах'!AT57 -> 0 | AW41: =17697*'в часах'!AU57 -> 0 | AX41: =SUM(S41:AW41) -> #REF! | AY41: =AX41+R41 -> #REF! | AZ41: 12 | BA41: =AZ41*AY41 -> #REF!
