Workbook

Sheet в часах
C1: СОГЛАСОВАНО Руководитель ГУ "Отдел образования по Буландынскому району управления образования Акмолинской области" Жолдыгулова А.А. ________________ | I1: УТВЕРЖДАЮ Руководитель КГУ "Общеобразовательная школа села Вознесенка" Абдрахманов М.Е.. _____________ | M1: Показатели на начало учебного года | S1: 0 кл | T1: 1-4 кл. | U1: 5-9 кл. | V1: 10-12 кл. | W1: ВСЕГО
M2: 1)Число классов (групп) | S2: 1 | T2: 4 | U2: 5 | V2: 2 | W2: =SUM(T2:V2) -> 11
M3: 2)Число кл-комплектов | S3: 1 | T3: 4 | U3: 5 | V3: 2 | W3: =SUM(T3:V3) -> 11
M4: 3)Число учащихся | S4: 10 | T4: 50 | U4: 85 | V4: 11 | W4: =SUM(T4:V4) -> 146
M5: 4)Общее число часов преподавательской работы в неделю по тарификации, в т.ч. | S5: =S6+S9+S14 -> 16 | T5: =T6+T9+T14 -> 105.5 | U5: =U7+U8+U9 -> 170 | V5: =V6+V9+V14 -> 66 | W5: =SUM(T5:V5) -> 341.5
M6: а) число часов по учебному плану, из них: | S6: =S7+S8 -> 16 | T6: 97.5 | U6: 157 | V6: 66 | W6: =SUM(T6:V6) -> 320.5
M7: инвариантная часть | S7: 16 | T7: 97.5 | U7: 157 | V7: 54 | W7: =SUM(T7:V7) -> 308.5
M8: вариативная часть | S8: 0 | T8: 0 | U8: 3 | V8: 12 | W8: =SUM(T8:V8) -> 15
M9: б) дополнительных часов, всего | S9: =SUM(S10:S24) -> 0 | T9: =SUM(T10:T13) -> 8 | U9: =SUM(U10:U13) -> 10 | V9: =SUM(V10:V13) -> 0 | W9: =SUM(T9:V9) -> 18
M10: из них: в связи с освобождением учителей начальных классов от ведения уроков: | W10: =SUM(T10:V10) -> 0
M11: обучение на дому | T11: 8 | U11: 10 | W11: =SUM(T11:V11) -> 18
M12: физической культуры | W12: =SUM(T12:V12) -> 0
D13: ТАРИФИКАЦИОННЫЙ СПИСОК | M13: музыки | W13: =SUM(T13:V13) -> 0
D14: учителей на 1 января 2023 года | M14: в связи с делением классов на группы при проведении занятий по: | S14: =SUM(S15:S24) -> 0 | T14: =SUM(T15:T24) -> 0 | U14: 0 | V14: =SUM(V15:V24) -> 0 | W14: =SUM(T14:V14) -> 0
M15: иностранному языку | W15: =SUM(T15:V15) -> 0
C16: Коммунальное государственное учреждение "Общеобразовательная школа села Вознесенка отдела образования по Буландынскому району управления образования Акмолинской области" | M16: трудовому обучению | U16: 7 | W16: =SUM(T16:V16) -> 7
M17: физической культуре | W17: =SUM(T17:V17) -> 0
M18: информатике и основам вычислительной техники | W18: =SUM(T18:V18) -> 0
M19: обучение на дому | W19: =SUM(T19:V19) -> 0
M20: технологии | W20: =SUM(T20:V20) -> 0
M21: русскому языку в классах с казахским языком обучения | W21: =SUM(T21:V21) -> 0
M22: казахскому языку в классах с русским языком обучения | W22: =SUM(T22:V22) -> 0
M23: казахской литературы в классах с русским языком обучения | W23: =SUM(T23:V23) -> 0
M24: по профильным предметам (самопознание) | W24: =SUM(T24:V24) -> 0
M25: ИТОГО | S25: =S6+S9+S14 -> 16 | T25: =T6+T9+T14 -> 105.5 | U25: =U6+U9+U14+U16+U8 -> 177 | V25: =V6+V9+V14 -> 66 | W25: =SUM(T25:V25) -> 348.5
B27: БДО: 17697 тенге | D27: МРП: 3063 тенге | H27: МЗП: 60000 тенге
R29: 127 вид | S29: 122 вид | AD29: 1-4 класс 130 вид, 5-12 класс 124 вид | AJ29: 111 вид- 20% и 112 вид 30% | AL29: мастер 144 вид, исследователь 143 вид, эксперт 142 вид, модератор 141 вид
A30: № п/п | B30: Ф.И.О. | C30: Преподаваемый предмет | D30: Образование | E30: Педагогический стаж | F30: категория | G30: Ступень/звено | H30: Коэффициент | I30: Коэффициент повышения | J30: Ставка | K30: Количество ставок | L30: Заработная плата (кол-во часов в неделю) | P30: Повышение за работу в сельской местности 25% | Q30: Доплата 10% | R30: Доплата по обновленному содержанию образования 30% от ДО | S30: Доплата за работу с детьми особыми образовательными потребностями (ООП) 40% от БДО | T30: Доплата за проверку тетрадей | AF30: классное руководство | AL30: Доплата за квалификацию педагогического мастерства ( мастер-50%, исследователь-40%,эксперт-35%, модератор-30%) от ДО | AP30: Доплата за степень магистра по научно-педагогическому направлению ( 10 МРП) | AQ30: Доплата за наставничество (100 % от БДО) | AR30: Доплата за ведение внеурочных спортивных занятий ( 100% от БДО) | AS30: За ведение на английском языке предметов: физики, химии, биологии, информатики | AT30: За ведение кабинета (в школах, школах-интернатах, в детских домах | AV30: Подпись
L31: Основные часы | T31: 1-4 | X31: 5-9 | AB31: 10-11 | AF31: 1-4кл | AH31: 5-9 кл | AJ31: 10-11кл | AL31: мастер-50% | AM31: исследователь-40% | AN31: эксперт-35% | AO31: модератор-30% | AT31: кабинеты и мастерские - 20% от БДО | AU31: Комбинированные мастерские 30% от БДО
L32: 0 | M32: 1-4 | N32: 5-9 | O32: 10-11 | T32: 0.4 | V32: 0.5 | X32: 0.4 | Z32: 0.5 | AB32: 0.4 | AD32: 0.5 | AF32: 0.5 | AH32: 0.6 | AJ32: 0.6
L33: кл | M33: кл | N33: кл | O33: кл | R33: часы | S33: часы | T33: 0.5 | U33: 1 | V33: 0.5 | W33: 1 | X33: 0.5 | Y33: 1 | Z33: 0.5 | AA33: 1 | AB33: 0.5 | AC33: 1 | AD33: 0.5 | AE33: 1 | AF33: 0.5 | AG33: 1 | AH33: 0.5 | AI33: 1 | AJ33: 0.5 | AK33: 1 | AL33: % | AM33: % | AN33: % | AO33: % | AP33: МРП | AQ33: % | AR33: % | AS33: % | AT33: % | AU33: %
B34: Вакансия | C34: английский язык | D34: высшее Кокшетауский унив. Им.Мырзахметова 2018 | E34: 05.02,18 | F34: педагог-модератор №75 от 24.12.2020 | G34: B23 - 05-07 | H34: 4.66 | I34: 1.75 | J34: =17697*I34*H34 -> 144319.04 | K34: =((L34/24)+((M34+N34+O34)/16)) -> 0.25 | O34: 4 | P34: 0.25 | Q34: 0.1 | R34: =M34+N34+O34 -> 4 | AB34: 4
A35: 1 | B35: Нацаренус Мария Александровна | C35: учитель началных классов | D35: высшее. СКГУ, Омский государственный педагогический университет | E35: 21.00.01 | F35: педагог - эксперт№ 553 от 20.12.2021 | G35: B22 - 20-25 | H35: 5.12 | I35: 1.75 | J35: =17697*I35*H35 -> 158565.12 | K35: =((L35/24)+((M35+N35+O35)/16)) -> 1.0625 | M35: 17 | P35: 0.25 | Q35: 0.1 | R35: =M35+N35+O35 -> 17 | T35: 14 | AF35: 0.25 | AN35: 0.35 | AP35: 10 | AT35: 0.2
A36: =A35+1 -> 2 | B36: Ахметова Дана Турсунбековна | C36: Глобальная компетенция | D36: Бакалавр педагогики и психологии | E36: 18,05,15 | F36: б/к | G36: В24-16-20 | H36: 4.59 | I36: 1.75 | J36: =17697*I36*H36 -> 142151.15 | K36: =((L36/24)+((M36+N36+O36)/16)) -> 0.125 | N36: 2 | P36: 0.25 | Q36: 0.1 | R36: =M36+N36+O36 -> 2
A37: =A36+1 -> 3 | B37: Шульга Евгений Викторович | C37: курс ОБИП | D37: высшее. Академия "Кокше", 2013, ФК и спорт | E37: 17.07.18 | F37: б\к | G37: В24-16-20 | H37: 4.59 | I37: 1.75 | J37: =17697*I37*H37 -> 142151.15 | K37: =((L37/24)+((M37+N37+O37)/16)) -> 0.0625 | O37: 1 | P37: 0.25 | Q37: 0.1 | R37: =M37+N37+O37 -> 1
A38: =A37+1 -> 4 | B38: Шульга Евгений Викторович | C38: художественный труд | D38: учитель (курсы переподготовки) | E38: 17.07.18 | F38: б\к | G38: В24-16-20 | H38: 4.59 | I38: 1.75 | J38: =17697*I38*H38 -> 142151.15 | K38: =((L38/24)+((M38+N38+O38)/16)) -> 0.4375 | N38: 7 | P38: 0.25 | Q38: 0.1 | R38: =M38+N38+O38 -> 7 | AU38: 0.3
A39: =A38+1 -> 5 | B39: Ахметов Берик Турсунбекович | C39: физическая культура | D39: высшее. Академия "Кокше", 2013, ФК и спорт | E39: 14.07.14. | F39: педагог-модератор №150 от 12.07 2021 | G39: B23 - 13-16 | H39: 4.9 | I39: 1.75 | J39: =17697*I39*H39 -> 151751.78 | K39: =((L39/24)+((M39+N39+O39)/16)) -> 0.9375 | M39: 6 | N39: 6 | O39: 3 | P39: 0.25 | Q39: 0.1 | R39: =M39+N39+O39 -> 15 | AO39: 0.3 | AR39: 1 | AT39: 0.2
A40: =A39+1 -> 6 | B40: Нацаренус Дмитрий Викторович | C40: физическая культура | D40: Высшее. Академия "Кокше" 2012 | E40: 15.09.29 | F40: б/к | G40: B24 - 13-16 | H40: 4.49 | I40: 1.75 | J40: =17697*I40*H40 -> 139054.18 | K40: =((L40/24)+((M40+N40+O40)/16)) -> 0.9375 | N40: 9 | O40: 6 | P40: 0.25 | Q40: 0.1 | R40: =M40+N40+O40 -> 15 | AR40: 1
A41: =A40+1 -> 7 | B41: Химченко Наталья Владимировна | C41: начальные классы | D41: Высшее Кокчетауский пед.инст | E41: 26.00.05. | F41: педагог-исследователь № 68 от 12.07.2021 | G41: B21 -25-30 | H41: 5.41 | I41: 1.75 | J41: =17697*I41*H41 -> 167546.35 | K41: =((L41/24)+((M41+N41+O41)/16)) -> 1.0625 | M41: 17 | P41: 0.25 | Q41: 0.1 | R41: =M41+N41+O41 -> 17 | T41: 14 | AF41: 0.25 | AM41: 0.4 | AT41: 0.2
A42: =A41+1 -> 8 | B42: Ходаковская Виктория Юрьевна | C42: русский язык и литература | D42: Высшее Кокчетауский пед.инст, Омская гуманитарная академия | E42: 18.00.03. | F42: педагог-модератор № 191 от 23.12.2020 | G42: B23 - 16-20 | H42: 4.99 | I42: 1.75 | J42: =17697*I42*H42 -> 154539.05 | K42: =((L42/24)+((M42+N42+O42)/16)) -> 0.75 | N42: 10 | O42: 2 | P42: 0.25 | Q42: 0.1 | R42: =M42+N42+O42 -> 12 | Z42: 5 | AA42: 5 | AD42: 2 | AH42: 0.3 | AO42: 0.3
A43: =A42+1 -> 9 | B43: вакансия\русский язык и литература | C43: русский язык и литература | D43: Высшее Кокчетауский пед.инст, Омская гуманитарная академия | E43: 18.00.03. | F43: педагог-модератор № 191 от 23.12.2021 | G43: B23 - 16-20 | H43: 4.99 | I43: 1.75 | J43: =17697*I43*H43 -> 154539.05 | K43: =((L43/24)+((M43+N43+O43)/16)) -> 0.0625 | O43: 1 | P43: 0.25 | Q43: 0.1 | R43: =M43+N43+O43 -> 1 | AD43: 1 | AO43: 0.3
A44: =A43+1 -> 10 | B44: Ходаковская Виктория Юрьевна | C44: география | D44: Высшее Кокчетауский пед.инст, Омская гуманитарная академия | E44: 18.00.03. | F44: педагог-эксперт№ 197/а от 27.07.2020 | G44: B22 - 16-20 | H44: 5.03 | I44: 1.75 | J44: =17697*I44*H44 -> 155777.84 | K44: =((L44/24)+((M44+N44+O44)/16)) -> 0.75 | N44: 6 | O44: 6 | P44: 0.25 | Q44: 0.1 | R44: =M44+N44+O44 -> 12 | AN44: 0.35 | AT44: 0.2
A45: =A44+1 -> 11 | B45: Шиленкова Вера Ивановна | C45: математика | D45: высшее. Целиноградский пед. | E45: 43.00.23 | F45: педагог - эксперт № 197/а от 27.07.2020 | G45: B22 - 3000 | H45: 5.2 | I45: 1.75 | J45: =17697*I45*H45 -> 161042.7 | K45: =((L45/24)+((M45+N45+O45)/16)) -> 0.9375 | N45: 15 | P45: 0.25 | Q45: 0.1 | R45: =M45+N45+O45 -> 15 | X45: 5 | Y45: 10 | Z45: 0 | AN45: 0.35 | AT45: 0.2
A46: =A45+1 -> 12 | B46: Марченко Сергей Николаевич | C46: физика | D46: высшее Кокшетауский государственный университет им№ Ш.Уалиханова 2004 | E46: 23.08,10 | F46: б\к | G46: В24-20-25 | H46: 4.67 | I46: 1.75 | J46: =17697*I46*H46 -> 144628.73 | K46: =((L46/24)+((M46+N46+O46)/16)) -> 0.5 | N46: 6 | O46: 2 | P46: 0.25 | Q46: 0.1 | R46: =M46+N46+O46 -> 8 | X46: 2 | Y46: 4
A47: =A46+1 -> 13 | B47: Тиржанова Акмарал Дауренбековна | C47: информатика | D47: высшее. Кокшетауский университет имени А. Мырзахметова. | E47: 02.00.07. | F47: педагог-модератор №193 от 01.09.2021 | G47: B23 - 02-03 | H47: 4.51 | I47: 1.75 | J47: =17697*I47*H47 -> 139673.57 | K47: =((L47/24)+((M47+N47+O47)/16)) -> 0.78125 | M47: 3.5 | N47: 5 | O47: 4 | P47: 0.25 | Q47: 0.1 | R47: =M47+N47+O47 -> 12.5 | AK47: 0.3 | AO47: 0.3 | AT47: 0.2
A48: =A47+1 -> 14 | B48: Абдрахманова Дана Каиргельдыевна | C48: английский язык | D48: высшее Кокшетауский унив. Им.Мырзахметова 2018 | E48: 05.02,18 | F48: педагог-модератор №75 от 24.12.2020 | G48: B23 - 05-07 | H48: 4.66 | I48: 1.75 | J48: =17697*I48*H48 -> 144319.04 | K48: =((L48/24)+((M48+N48+O48)/16)) -> 1.3125 | M48: 6 | N48: 15 | P48: 0.25 | Q48: 0.1 | R48: =M48+N48+O48 -> 21 | T48: 4 | U48: 2 | X48: 3 | Y48: 12 | AI48: 0.6 | AO48: 0.3
A49: =A48+1 -> 15 | B49: Стихиляс Татьяна Владимировна | C49: начальные классы | D49: высшее Кокшетауский унив. Им.Мырзахметова 2013 | E49: 14.09.19. | F49: педагог - исследователь № 170 от 31.12.2020 | G49: B21 - 13-16 | H49: 5.16 | I49: 1.75 | J49: =17697*I49*H49 -> 159803.91 | K49: =((L49/24)+((M49+N49+O49)/16)) -> 1 | M49: 16 | P49: 0.25 | Q49: 0.1 | R49: =M49+N49+O49 -> 16 | U49: 16 | AG49: 0.5 | AM49: 0.4 | AT49: 0.2
A50: =A49+1 -> 16 | B50: Гептин Наталья Александровна | C50: русский язык и литература | D50: высшее Омская гуманитарная академия 2017 | E50: 09.10.18. | F50: педагог-модератор № 118 от 31.07.2020 | G50: B23- 07-10 | H50: 4.74 | I50: 1.75 | J50: =17697*I50*H50 -> 146796.62 | K50: =((L50/24)+((M50+N50+O50)/16)) -> 1.125 | N50: 15 | O50: 3 | P50: 0.25 | Q50: 0.1 | R50: =M50+N50+O50 -> 18 | AA50: 15 | AD50: 3 | AI50: 0.6 | AO50: 0.3
A51: =A50+1 -> 17 | B51: вакансия/русский язык | C51: русский язык и литература \ надомное обучение | D51: высшее Омская гуманитарная академия 2018 | E51: 09.10.18. | F51: педагог-модератор № 118 от 31.07.2020 | G51: B23- 07-10 | H51: 4.74 | I51: 1.75 | J51: =17697*I51*H51 -> 146796.62 | K51: =((L51/24)+((M51+N51+O51)/16)) -> 0 | P51: 0.25 | Q51: 0.1 | R51: 3 | S51: 3 | Z51: 3
A52: =A51+1 -> 18 | B52: Черная Галина Григорьевна | C52: химия | D52: высшее Кокшеиауский университет им. Ш.Уалиханова | E52: 32.00.13. | F52: педагог-эксперт № 264 от 14.07.2021 | G52: B22 - 2500 | H52: 5.2 | I52: 1.75 | J52: =17697*I52*H52 -> 161042.7 | K52: =((L52/24)+((M52+N52+O52)/16)) -> 0.4375 | N52: 5 | O52: 2 | P52: 0.25 | Q52: 0.1 | R52: =M52+N52+O52 -> 7 | X52: 2 | Y52: 3 | AK52: 0.3 | AN52: 0.35 | AS52: 1 | AT52: 0.2
A53: =A52+1 -> 19 | B53: Черная Галина Григорьевна | C53: биология | D53: высшее Кокшеиауский университет им. Ш.Уалиханова | E53: 32.00.13. | F53: педагог-эксперт № 264 от 14.07.2022 | G53: B22 - 2500 | H53: 5.2 | I53: 1.75 | J53: =17697*I53*H53 -> 161042.7 | K53: =((L53/24)+((M53+N53+O53)/16)) -> 1 | N53: 10 | O53: 6 | P53: 0.25 | Q53: 0.1 | R53: =M53+N53+O53 -> 16 | X53: 2 | Y53: 8 | AB53: 6 | AN53: 0.35
A54: =A53+1 -> 20 | B54: Черная Галина Григорьевна | C54: мир вокруг | D54: высшее Кокшеиауский университет им. Ш.Уалиханова | E54: 32.00.13. | F54: педагог-эксперт № 264 от 14.07.2023 | G54: B22 - 2500 | H54: 5.2 | I54: 1.75 | J54: =17697*I54*H54 -> 161042.7 | K54: =((L54/24)+((M54+N54+O54)/16)) -> 0 | P54: 0.25 | Q54: 0.1 | R54: 1 | S54: 1 | X54: 1 | AN54: 0.35
A55: =A54+1 -> 21 | B55: Ермаганбетова Гульзаш Салыкжановна | C55: казахский язык и литература | D55: высшее.Аркалыкский пед. | E55: 25.08.25. | F55: педагог-эксперт № 197/а от 27.07.2020 | G55: B22 - 25-30 | H55: 5.2 | I55: 1.75 | J55: =17697*I55*H55 -> 161042.7 | K55: =((L55/24)+((M55+N55+O55)/16)) -> 1.375 | M55: 7 | N55: 12 | O55: 3 | P55: 0.25 | Q55: 0.1 | R55: 23 | S55: 1 | V55: 4 | W55: 4 | Z55: 4 | AA55: 8 | AD55: 3 | AN55: 0.35 | AT55: 0.2
A56: =A55+1 -> 22 | B56: Груздева Кристина Владимировна | C56: история | D56: высшее Кокшетауский унив. Им.Мырзахметова 2020 | E56: 06.10.15 | F56: б\к | G56: B24 - 05-07 | H56: 4.27 | I56: 1.75 | J56: =17697*I56*H56 -> 132240.83 | K56: =((L56/24)+((M56+N56+O56)/16)) -> 1.375 | N56: 16 | O56: 6 | P56: 0.25 | Q56: 0.1 | R56: =M56+N56+O56 -> 22 | AI56: 0.6
A57: =A56+1 -> 23 | B57: Груздева Кристина Владимировна | C57: социально-бытовая ориентация | D57: магистратура Кокшетауский унив. Ш.Уалиханова,2016 | E57: 06.10.15 | F57: вторая №55 от 28.04.2018 | G57: В23-05-07 | H57: 4.66 | I57: 1.75 | J57: =17697*I57*H57 -> 144319.04 | K57: =((L57/24)+((M57+N57+O57)/16)) -> 0 | P57: 0.25 | Q57: 0.1 | R57: 1 | S57: 1 | AP57: 10
A58: =A57+1 -> 24 | B58: Каламыцева Надежда Алексеевна | C58: начальные классы | D58: высшееЦентрально-азиатский университет. | E58: 21.00.01. | F58: педагог-эксперт№ 553 от 20.12.2021 | G58: B22 - 20-25 | H58: 5.12 | I58: 1.75 | J58: =17697*I58*H58 -> 158565.12 | K58: =((L58/24)+((M58+N58+O58)/16)) -> 1 | M58: 16 | P58: 0.25 | Q58: 0.1 | R58: =M58+N58+O58 -> 16 | T58: 16 | AF58: 0.25 | AN58: 0.35 | AT58: 0.2
A59: =A58+1 -> 25 | B59: Каламыцева Надежда Алексеевна | C59: Глобальная компетенция | D59: высшееЦентрально-азиатский университет. | E59: 21.00.01. | F59: б\к | G59: В24 -20-25 | H59: 4.67 | I59: 1.75 | J59: =17697*I59*H59 -> 144628.73 | K59: =((L59/24)+((M59+N59+O59)/16)) -> 0.1875 | N59: 1 | O59: 2 | P59: 0.25 | Q59: 0.1 | R59: =M59+N59+O59 -> 3
A60: =A59+1 -> 26 | B60: Агипа Тасхын | C60: казахский язык и литература | D60: высшее.Кокшетауский университет им. Ш. Уалиханова | E60: 18.07.14 | F60: педагог-модератор №445 от 29.06.2022 | G60: В23 16-20 | H60: 4.99 | I60: 1.75 | J60: =17697*I60*H60 -> 154539.05 | K60: =((L60/24)+((M60+N60+O60)/16)) -> 1.0833333 | L60: 2 | M60: 5 | N60: 8 | O60: 3 | P60: 0.25 | Q60: 0.1 | R60: 17 | S60: 1 | V60: 5 | Z60: 1 | AA60: 8 | AD60: 3 | AO60: 0.3 | AT60: 0.2
A61: =A60+1 -> 27 | B61: Гептина Галина Ивановна | D61: высшее.Кокшетауский ГУ | E61: 18.00.08. | F61: первая № 302/а от 06.04.2018 | G61: B22 - 16-20 | H61: 5.03 | I61: 1.75 | J61: =17697*I61*H61 -> 155777.84 | K61: =((L61/24)+((M61+N61+O61)/16)) -> 1.25 | N61: 10 | O61: 10 | P61: 0.25 | Q61: 0.1 | R61: =M61+N61+O61 -> 20 | X61: 5 | Y61: 5 | AB61: 10 | AI61: 0.6 | AT61: 0.2
A62: =A61+1 -> 28 | B62: Гептина Галина Ивановна | C62: математика | D62: высшее.Кокшетауский ГУ | E62: 18.00.08. | F62: первая № 302/а от 06.04.2019 | G62: B22 - 16-20 | H62: 5.03 | I62: 1.75 | J62: =17697*I62*H62 -> 155777.84 | K62: =((L62/24)+((M62+N62+O62)/16)) -> 0 | P62: 0.25 | Q62: 0.1 | R62: 2 | S62: 2 | X62: 2
A63: =A62+1 -> 29 | B63: Момунова Виктория Сергеевна | C63: воспитатель предшколы | D63: учитель (курсы переподготовки) | E63: 07.00.01 | F63: б\к | G63: B44 - 07-10 | H63: 3.53 | I63: 1.75 | J63: =17697*I63*H63 -> 109323.22 | K63: =((L63/24)+((M63+N63+O63)/16)) -> 0.66666667 | L63: 16 | P63: 0.25 | Q63: 0.1 | R63: =M63+N63+O63 -> 0 | AT63: 0.2
A64: =A63+1 -> 30 | B64: Ахметова Дана Турсунбековна | C64: психолог надомное | D64: Бакалавр педагогики и психологии | E64: 18,05,15 | F64: вторая № 150 от 25.06.2019 | G64: B23 - 16-20 | H64: 4.99 | I64: 1.75 | J64: =17697*I64*H64 -> 154539.05 | K64: =((L64/24)+((M64+N64+O64)/16)) -> 0 | P64: 0.25 | Q64: 0.1 | R64: 2 | S64: 2
A65: =A64+1 -> 31 | B65: Шульга Татьяна Алексеевна | C65: начальные классы\надомное обучение | D65: учитель (курсы переподготовки) | E65: 38.00.19. | F65: б\к | G65: В44 - 3000 | H65: 3.73 | I65: 1.75 | J65: =17697*I65*H65 -> 115517.17 | K65: =((L65/24)+((M65+N65+O65)/16)) -> 0 | P65: 0.25 | Q65: 0.1 | R65: 7 | S65: 7 | T65: 7
A66: =A65+1 -> 32 | B66: Мркоян Екатерина Петровна | C66: музыка | D66: с/с Педагогический колледж г.Щучинск | E66: 04.11.21 | F66: б\к | G66: В44 03-05 | H66: 3.45 | I66: 1.75 | J66: =17697*I66*H66 -> 106845.64 | K66: =((L66/24)+((M66+N66+O66)/16)) -> 0.45833333 | L66: 2 | M66: 4 | N66: 2 | P66: 0.25 | Q66: 0.1 | R66: =M66+N66+O66 -> 6
A67: 34 | B67: Шульга Евгений Викторович | C67: НВТП | D67: Высшее | E67: 17.07.18 | F67: педагог-эксперт № 264 от 14.07.2021 | G67: B22 -16-20 | H67: 5.03 | I67: 1.75 | J67: =17697*I67*H67 -> 155777.84 | K67: =((L67/24)+((M67+N67+O67)/16)) -> 0.125 | O67: 2 | P67: 0.25 | Q67: 0.1 | R67: =M67+N67+O67 -> 2 | AN67: 0.35
A68: 34 | B68: вакансия | C68: художественный труд | D68: с/с Педагогический колледж г.Щучинск | E68: 04.11.21 | F68: б\к | G68: В44 03-05 | H68: 3.45 | I68: 1.75 | J68: =17697*I68*H68 -> 106845.64 | K68: =((L68/24)+((M68+N68+O68)/16)) -> 0.4375 | N68: 7 | P68: 0.25 | Q68: 0.1 | R68: =M68+N68+O68 -> 7
J69: =SUM(J35:J68) -> 4990155.8 | K69: =SUM(K35:K68) -> 21.239583 | L69: =SUM(L35:L68) -> 20 | M69: =SUM(M35:M68) -> 97.5 | N69: =SUM(N35:N68) -> 167 | O69: =SUM(O34:O68) -> 66 | P69: =SUM(P34:P68) -> 8.75 | R69: =SUM(R34:R68) -> 348.5 | S69: =SUM(S35:S66) -> 18 | T69: =SUM(T35:T66) -> 55 | U69: =SUM(U35:U66) -> 18 | V69: =SUM(V35:V66) -> 9 | W69: =SUM(W35:W66) -> 4 | X69: =SUM(X35:X66) -> 22 | Y69: =SUM(Y35:Y66) -> 42 | Z69: =SUM(Z35:Z66) -> 13 | ... AS69: =SUM(AS35:AS66) -> 1
D71: Главный бухгалтер: | H71: Зам директора по УЧ:
D73: Главный экономист: | H73: Главный специалист:
D75: Методист по кадром РОО: | H75: Профорг школы:

Sheet в сумме
C1: СОГЛАСОВАНО Руководитель ГУ "Отдел образования по Буландынскому району управления образования Акмолинской области" Жолдыгулова А.А. ________________ | O1: УТВЕРЖДАЮ Годовой фонд заработной платы _6643108_ тенге. Руководитель КГУ "Общеобразовательная школа села Вознесенка " Абдрахманов М.Е. _____________
E3: ТАРИФИКАЦИОННЫЙ СПИСОК
E4: учителей на 1 января 2022 года
E6: Коммунальное государственное учреждение "Общеобразовательная школа села Вознесенка отдела образования по Буландынскому району управления образования Акмолинской области"
C10: БДО: 17697 тенге | E10: МРП: 3063 тенге | K10: МЗП: 60000 тенге
T12: 127 вид | U12: 122 вид | AF12: 1-4 класс 130 вид, 5-12 класс 124 вид | AL12: 111 вид- 20% и 112 вид 30% | AN12: мастер 144 вид, исследователь 143 вид, эксперт 142 вид, модератор 141 вид
A13: № п/п | B13: Ф.И.О. | C13: Преподаваемый предмет | D13: Образование | E13: Педагогический стаж | F13: категория | G13: Ступень/звено | H13: Коэффициент | I13: Коэффициент повышения | J13: Ставка | K13: Количество ставок | L13: Заработная плата (кол-во часов в неделю) | Q13: Повышение за работу в сельской местности 25% | R13: Всего ДО | S13: Доплата за особые условия труда 10% от ДО | T13: Доплата по обновленному содержанию образования 30% от ДО | U13: Доплата за работу с детьми особыми образовательными потребностями (ООП) 40% от БДО | V13: Доплата за проверку тетрадей | AH13: классное руководство | AN13: Доплата за квалификацию педагогического мастерства ( мастер-50%, исследователь-40%,эксперт-35%, модератор-30%) от ДО | AR13: Доплата за степень магистра по научно-педагогическому направлению ( 10 МРП) | AS13: Доплата за наставничество (100 % от БДО) | AT13: Доплата за ведение внеурочных спортивных занятий ( 100% от БДО) | AU13: За ведение на английском языке предметов: физики, химии, биологии, информатики | AV13: За ведение кабинета (в школах, школах-интернатах, в детских домах | AX13: Всего доплат | AY13: ИТОГО МЕСЯЧНЫЙ ФОТ | AZ13: Кол-во месяцев | BA13: ИТОГО ГОДОВОЙ ФОТ | BB13: Подпись
L14: Основные часы | P14: Итого с учетом повышения | V14: 1-4 | Z14: 5-9 | AD14: 10-11 | AH14: 1-4кл | AJ14: 5-9 кл | AL14: 10-11кл | AN14: мастер-50% | AO14: исследователь-40% | AP14: эксперт-35% | AQ14: модератор-30% | AV14: кабинеты и мастерские - 20% от БДО | AW14: Комбинированные мастерские 30% от БДО
L15: 0 | M15: 1-4 | N15: 5-9 | O15: 10-11 | V15: 0.4 | X15: 0.5 | Z15: 0.4 | AB15: 0.5 | AD15: 0.4 | AF15: 0.5 | AH15: 0.5 | AJ15: 0.6 | AL15: 0.6
L16: кл | M16: кл | N16: кл | O16: кл | V16: 0.5 | W16: 1 | X16: 0.5 | Y16: 1 | Z16: 0.5 | AA16: 1 | AB16: 0.5 | AC16: 1 | AD16: 0.5 | AE16: 1 | AF16: 0.5 | AG16: 1 | AH16: 0.5 | AI16: 1 | AJ16: 0.5 | AK16: 1 | AL16: 0.5 | AM16: 1 | AN16: % | AO16: % | AP16: % | AQ16: % | AR16: МРП | AS16: % | AT16: % | AU16: % | AV16: % | AW16: % | AX16: тенге | AY16: тенге | BA16: тенге
B17: ='в часах'!B34 -> Вакансия | C17: ='в часах'!C34 -> английский язык | D17: ='в часах'!D34 -> высшее Кокшетауский унив. Им.Мырзахметова 2018 | E17: ='в часах'!E34 -> 05.02,18 | F17: ='в часах'!F34 -> педагог-модератор №75 от 24.12.2020 | G17: ='в часах'!G34 -> B23 - 05-07 | H17: ='в часах'!H34 -> 4.66 | I17: ='в часах'!I34 -> 1.75 | ... K17: ='в часах'!K34 -> 0.25 | L17: =J17/24*'в часах'!L34 -> 0 | M17: =J17/16*'в часах'!M34 -> 0 | N17: =J17/16*'в часах'!N34 -> 0 | O17: =J17/16*'в часах'!O34 -> 36079.759 | P17: =L17+M17+N17+O17 -> 36079.759 | Q17: =P17*'в часах'!P34 -> 9019.9397 | R17: =P17+Q17 -> 45099.698 | S17: =P17*'в часах'!Q34 -> 3607.9759 | T17: =(M17+N17+O17)*1.25*30% -> 13529.91 | U17: =17697*40%/16*'в часах'!S34 -> 0 | V17: =17697*20%/16*'в часах'!T34 -> 0 | W17: =17697*40%/16*'в часах'!U34 -> 0 | X17: =17697*25%/16*'в часах'!V34 -> 0 | Y17: =17697*50%/16*'в часах'!W34 -> 0 | Z17: =17697*20%/16*'в часах'!X34 -> 0 | AA17: =17697*40%/16*'в часах'!Y34 -> 0 | AB17: =17697*25%/16*'в часах'!Z34 -> 0 | AC17: =17697*50%/16*'в часах'!AA34 -> 0 | AD17: =17697*20%/16*'в часах'!AB34 -> 884.85 | AE17: =17697*40%/16*'в часах'!AC34 -> 0 | AF17: =17697*25%/16*'в часах'!AD34 -> 0 | AG17: =17697*50%/16*'в часах'!AE34 -> 0 | AH17: =17697*'в часах'!AF34 -> 0 | AI17: =17697*'в часах'!AG34 -> 0 | AJ17: =17697*'в часах'!AH34 -> 0 | AK17: =17697*'в часах'!AI34 -> 0 | AL17: =17697*'в часах'!AJ34 -> 0 | AM17: =17697*'в часах'!AK34 -> 0 | AO17: =R17*'в часах'!AM34 -> 0 | AP17: =R17*'в часах'!AN34 -> 0 | AQ17: =R17*'в часах'!AO34 -> 0 | AR17: =3063*'в часах'!AP34 -> 0 | AS17: =17697*'в часах'!AQ34 -> 0 | AT17: =17697*'в часах'!AR34 -> 0 | AU17: =17697*'в часах'!AS34 -> 0 | AV17: =17697*'в часах'!AT34 -> 0 | AW17: =17697*'в часах'!AU34 -> 0 | AX17: =SUM(S17:AW17) -> 18022.735 | AY17: =AX17+R17 -> 63122.434 | AZ17: 12 | BA17: =AZ17*AY17 -> 757469.21
A18: 1 | B18: ='в часах'!B35 -> Нацаренус Мария Александровна | C18: ='в часах'!C35 -> учитель началных классов | D18: ='в часах'!D35 -> высшее. СКГУ, Омский государственный педагогический университет | E18: ='в часах'!E35 -> 21.00.01 | F18: ='в часах'!F35 -> педагог - эксперт№ 553 от 20.12.2021 | G18: ='в часах'!G35 -> B22 - 20-25 | H18: ='в часах'!H35 -> 5.12 | I18: ='в часах'!I35 -> 1.75 | ... K18: ='в часах'!K35 -> 1.0625 | L18: =J18/24*'в часах'!L35 -> 0 | M18: =J18/16*'в часах'!M35 -> 168475.44 | N18: =J18/16*'в часах'!N35 -> 0 | O18: =J18/16*'в часах'!O35 -> 0 | P18: =L18+M18+N18+O18 -> 168475.44 | Q18: =P18*'в часах'!P35 -> 42118.86 | R18: =P18+Q18 -> 210594.3 | S18: =P18*'в часах'!Q35 -> 16847.544 | T18: =(M18+N18+O18)*1.25*30% -> 63178.29 | U18: =17697*40%/16*'в часах'!S35 -> 0 | V18: =17697*20%/16*'в часах'!T35 -> 3096.975 | W18: =17697*40%/16*'в часах'!U35 -> 0 | X18: =17697*25%/16*'в часах'!V35 -> 0 | Y18: =17697*50%/16*'в часах'!W35 -> 0 | Z18: =17697*20%/16*'в часах'!X35 -> 0 | AA18: =17697*40%/16*'в часах'!Y35 -> 0 | AB18: =17697*25%/16*'в часах'!Z35 -> 0 | AC18: =17697*50%/16*'в часах'!AA35 -> 0 | AD18: =17697*20%/16*'в часах'!AB35 -> 0 | AE18: =17697*40%/16*'в часах'!AC35 -> 0 | AF18: =17697*25%/16*'в часах'!AD35 -> 0 | AG18: =17697*50%/16*'в часах'!AE35 -> 0 | AH18: =17697*'в часах'!AF35 -> 4424.25 | AI18: =17697*'в часах'!AG35 -> 0 | AJ18: =17697*'в часах'!AH35 -> 0 | AK18: =17697*'в часах'!AI35 -> 0 | AL18: =17697*'в часах'!AJ35 -> 0 | AM18: =17697*'в часах'!AK35 -> 0 | AO18: =R18*'в часах'!AM35 -> 0 | AP18: =R18*'в часах'!AN35 -> 73708.005 | AQ18: =R18*'в часах'!AO35 -> 0 | AR18: =3063*'в часах'!AP35 -> 30630 | AS18: =17697*'в часах'!AQ35 -> 0 | AT18: =17697*'в часах'!AR35 -> 0 | AU18: =17697*'в часах'!AS35 -> 0 | AV18: =17697*'в часах'!AT35 -> 3539.4 | AW18: =17697*'в часах'!AU35 -> 0 | AX18: =SUM(S18:AW18) -> 195424.46 | AY18: =AX18+R18 -> 406018.76 | AZ18: 12 | BA18: =AZ18*AY18 -> 4872225.2
A19: =A18+1 -> 2 | B19: ='в часах'!B36 -> Ахметова Дана Турсунбековна | C19: ='в часах'!C36 -> Глобальная компетенция | D19: ='в часах'!D36 -> Бакалавр педагогики и психологии | E19: ='в часах'!E36 -> 18,05,15 | F19: ='в часах'!F36 -> б/к | G19: ='в часах'!G36 -> В24-16-20 | H19: ='в часах'!H36 -> 4.59 | I19: ='в часах'!I36 -> 1.75 | ... K19: ='в часах'!K36 -> 0.125 | L19: =J19/24*'в часах'!L36 -> 0 | M19: =J19/16*'в часах'!M36 -> 0 | N19: =J19/16*'в часах'!N36 -> 17768.894 | O19: =J19/16*'в часах'!O36 -> 0 | P19: =L19+M19+N19+O19 -> 17768.894 | Q19: =P19*'в часах'!P36 -> 4442.2235 | R19: =P19+Q19 -> 22211.118 | S19: =P19*'в часах'!Q36 -> 1776.8894 | T19: =(M19+N19+O19)*1.25*30% -> 6663.3353 | U19: =17697*40%/16*'в часах'!S36 -> 0 | V19: =17697*20%/16*'в часах'!T36 -> 0 | W19: =17697*40%/16*'в часах'!U36 -> 0 | X19: =17697*25%/16*'в часах'!V36 -> 0 | Y19: =17697*50%/16*'в часах'!W36 -> 0 | Z19: =17697*20%/16*'в часах'!X36 -> 0 | AA19: =17697*40%/16*'в часах'!Y36 -> 0 | AB19: =17697*25%/16*'в часах'!Z36 -> 0 | AC19: =17697*50%/16*'в часах'!AA36 -> 0 | AD19: =17697*20%/16*'в часах'!AB36 -> 0 | AE19: =17697*40%/16*'в часах'!AC36 -> 0 | AF19: =17697*25%/16*'в часах'!AD36 -> 0 | AG19: =17697*50%/16*'в часах'!AE36 -> 0 | AH19: =17697*'в часах'!AF36 -> 0 | AI19: =17697*'в часах'!AG36 -> 0 | AJ19: =17697*'в часах'!AH36 -> 0 | AK19: =17697*'в часах'!AI36 -> 0 | AL19: =17697*'в часах'!AJ36 -> 0 | AM19: =17697*'в часах'!AK36 -> 0 | AO19: =R19*'в часах'!AM36 -> 0 | AP19: =R19*'в часах'!AN36 -> 0 | AQ19: =R19*'в часах'!AO36 -> 0 | AR19: =3063*'в часах'!AP36 -> 0 | AS19: =17697*'в часах'!AQ36 -> 0 | AT19: =17697*'в часах'!AR36 -> 0 | AU19: =17697*'в часах'!AS36 -> 0 | AV19: =17697*'в часах'!AT36 -> 0 | AW19: =17697*'в часах'!AU36 -> 0 | AX19: =SUM(S19:AW19) -> 8440.2247 | AY19: =AX19+R19 -> 30651.342 | AZ19: 12 | BA19: =AZ19*AY19 -> 367816.11
A20: =A19+1 -> 3 | B20: ='в часах'!B37 -> Шульга Евгений Викторович | C20: ='в часах'!C37 -> курс ОБИП | D20: ='в часах'!D37 -> высшее. Академия "Кокше", 2013, ФК и спорт | E20: ='в часах'!E37 -> 17.07.18 | F20: ='в часах'!F37 -> б\к | G20: ='в часах'!G37 -> В24-16-20 | H20: ='в часах'!H37 -> 4.59 | I20: ='в часах'!I37 -> 1.75 | ... K20: ='в часах'!K37 -> 0.0625 | L20: =J20/24*'в часах'!L37 -> 0 | M20: =J20/16*'в часах'!M37 -> 0 | N20: =J20/16*'в часах'!N37 -> 0 | O20: =J20/16*'в часах'!O37 -> 8884.447 | P20: =L20+M20+N20+O20 -> 8884.447 | Q20: =P20*'в часах'!P37 -> 2221.1118 | R20: =P20+Q20 -> 11105.559 | S20: =P20*'в часах'!Q37 -> 888.4447 | T20: =(M20+N20+O20)*1.25*30% -> 3331.6676 | U20: =17697*40%/16*'в часах'!S37 -> 0 | V20: =17697*20%/16*'в часах'!T37 -> 0 | W20: =17697*40%/16*'в часах'!U37 -> 0 | X20: =17697*25%/16*'в часах'!V37 -> 0 | Y20: =17697*50%/16*'в часах'!W37 -> 0 | Z20: =17697*20%/16*'в часах'!X37 -> 0 | AA20: =17697*40%/16*'в часах'!Y37 -> 0 | AB20: =17697*25%/16*'в часах'!Z37 -> 0 | AC20: =17697*50%/16*'в часах'!AA37 -> 0 | AD20: =17697*20%/16*'в часах'!AB37 -> 0 | AE20: =17697*40%/16*'в часах'!AC37 -> 0 | AF20: =17697*25%/16*'в часах'!AD37 -> 0 | AG20: =17697*50%/16*'в часах'!AE37 -> 0 | AH20: =17697*'в часах'!AF36 -> 0 | AI20: =17697*'в часах'!AG36 -> 0 | AJ20: =17697*'в часах'!AH36 -> 0 | AK20: =17697*'в часах'!AI36 -> 0 | AL20: =17697*'в часах'!AJ37 -> 0 | AM20: =17697*'в часах'!AK37 -> 0 | AO20: =R20*'в часах'!AM37 -> 0 | AP20: =R20*'в часах'!AN37 -> 0 | AQ20: =R20*'в часах'!AO37 -> 0 | AR20: =3063*'в часах'!AP37 -> 0 | AS20: =17697*'в часах'!AQ37 -> 0 | AT20: =17697*'в часах'!AR37 -> 0 | AU20: =17697*'в часах'!AS37 -> 0 | AV20: =17697*'в часах'!AT37 -> 0 | AW20: =17697*'в часах'!AU37 -> 0 | AX20: =SUM(S20:AW20) -> 4220.1123 | AY20: =AX20+R20 -> 15325.671 | AZ20: 12 | BA20: =AZ20*AY20 -> 183908.05
A21: =A20+1 -> 4 | B21: ='в часах'!B38 -> Шульга Евгений Викторович | C21: ='в часах'!C38 -> художественный труд | D21: ='в часах'!D38 -> учитель (курсы переподготовки) | E21: ='в часах'!E38 -> 17.07.18 | F21: ='в часах'!F38 -> б\к | G21: ='в часах'!G38 -> В24-16-20 | H21: ='в часах'!H38 -> 4.59 | I21: ='в часах'!I38 -> 1.75 | ... K21: ='в часах'!K38 -> 0.4375 | L21: =J21/24*'в часах'!L38 -> 0 | M21: =J21/16*'в часах'!M38 -> 0 | N21: =J21/16*'в часах'!N38 -> 62191.129 | O21: =J21/16*'в часах'!O38 -> 0 | P21: =L21+M21+N21+O21 -> 62191.129 | Q21: =P21*'в часах'!P38 -> 15547.782 | R21: =P21+Q21 -> 77738.912 | S21: =P21*'в часах'!Q38 -> 6219.1129 | T21: =(M21+N21+O21)*1.25*30% -> 23321.673 | U21: =17697*40%/16*'в часах'!S38 -> 0 | V21: =17697*20%/16*'в часах'!T38 -> 0 | W21: =17697*40%/16*'в часах'!U38 -> 0 | X21: =17697*25%/16*'в часах'!V38 -> 0 | Y21: =17697*50%/16*'в часах'!W38 -> 0 | Z21: =17697*20%/16*'в часах'!X38 -> 0 | AA21: =17697*40%/16*'в часах'!Y38 -> 0 | AB21: =17697*25%/16*'в часах'!Z38 -> 0 | AC21: =17697*50%/16*'в часах'!AA38 -> 0 | AD21: =17697*20%/16*'в часах'!AB38 -> 0 | AE21: =17697*40%/16*'в часах'!AC38 -> 0 | AF21: =17697*25%/16*'в часах'!AD38 -> 0 | AG21: =17697*50%/16*'в часах'!AE38 -> 0 | AH21: =17697*'в часах'!AF37 -> 0 | AI21: =17697*'в часах'!AG37 -> 0 | AJ21: =17697*'в часах'!AH37 -> 0 | AK21: =17697*'в часах'!AI37 -> 0 | AL21: =17697*'в часах'!AJ38 -> 0 | AM21: =17697*'в часах'!AK38 -> 0 | AO21: =R21*'в часах'!AM38 -> 0 | AP21: =R21*'в часах'!AN38 -> 0 | AQ21: =R21*'в часах'!AO38 -> 0 | AR21: =3063*'в часах'!AP38 -> 0 | AS21: =17697*'в часах'!AQ38 -> 0 | AT21: =17697*'в часах'!AR38 -> 0 | AU21: =17697*'в часах'!AS38 -> 0 | AV21: =17697*'в часах'!AT38 -> 0 | AW21: =17697*'в часах'!AU38 -> 5309.1 | AX21: =SUM(S21:AW21) -> 34849.886 | AY21: =AX21+R21 -> 112588.8 | AZ21: 12 | BA21: =AZ21*AY21 -> 1351065.6
A22: =A21+1 -> 5 | B22: ='в часах'!B39 -> Ахметов Берик Турсунбекович | C22: ='в часах'!C39 -> физическая культура | D22: ='в часах'!D39 -> высшее. Академия "Кокше", 2013, ФК и спорт | E22: ='в часах'!E39 -> 14.07.14. | F22: ='в часах'!F39 -> педагог-модератор №150 от 12.07 2021 | G22: ='в часах'!G39 -> B23 - 13-16 | H22: ='в часах'!H39 -> 4.9 | I22: ='в часах'!I39 -> 1.75 | ... K22: ='в часах'!K39 -> 0.9375 | L22: =J22/24*'в часах'!L39 -> 0 | M22: =J22/16*'в часах'!M39 -> 56906.916 | N22: =J22/16*'в часах'!N39 -> 56906.916 | O22: =J22/16*'в часах'!O39 -> 28453.458 | P22: =L22+M22+N22+O22 -> 142267.29 | Q22: =P22*'в часах'!P39 -> 35566.822 | R22: =P22+Q22 -> 177834.11 | S22: =P22*'в часах'!Q39 -> 14226.729 | T22: =(M22+N22+O22)*1.25*30% -> 53350.233 | U22: =17697*40%/16*'в часах'!S39 -> 0 | V22: =17697*20%/16*'в часах'!T39 -> 0 | W22: =17697*40%/16*'в часах'!U39 -> 0 | X22: =17697*25%/16*'в часах'!V39 -> 0 | Y22: =17697*50%/16*'в часах'!W39 -> 0 | Z22: =17697*20%/16*'в часах'!X39 -> 0 | AA22: =17697*40%/16*'в часах'!Y39 -> 0 | AB22: =17697*25%/16*'в часах'!Z39 -> 0 | AC22: =17697*50%/16*'в часах'!AA39 -> 0 | AD22: =17697*20%/16*'в часах'!AB39 -> 0 | AE22: =17697*40%/16*'в часах'!AC39 -> 0 | AF22: =17697*25%/16*'в часах'!AD39 -> 0 | AG22: =17697*50%/16*'в часах'!AE39 -> 0 | AH22: =17697*'в часах'!AF38 -> 0 | AI22: =17697*'в часах'!AG38 -> 0 | AJ22: =17697*'в часах'!AH38 -> 0 | AK22: =17697*'в часах'!AI38 -> 0 | AL22: =17697*'в часах'!AJ39 -> 0 | AM22: =17697*'в часах'!AK39 -> 0 | AO22: =R22*'в часах'!AM39 -> 0 | AP22: =R22*'в часах'!AN39 -> 0 | AQ22: =R22*'в часах'!AO39 -> 53350.233 | AR22: =3063*'в часах'!AP39 -> 0 | AS22: =17697*'в часах'!AQ39 -> 0 | AT22: =17697*'в часах'!AR39 -> 17697 | AU22: =17697*'в часах'!AS39 -> 0 | AV22: =17697*'в часах'!AT39 -> 3539.4 | AW22: =17697*'в часах'!AU39 -> 0 | AX22: =SUM(S22:AW22) -> 142163.6 | AY22: =AX22+R22 -> 319997.71 | AZ22: 12 | BA22: =AZ22*AY22 -> 3839972.5
A23: =A22+1 -> 6 | B23: ='в часах'!B40 -> Нацаренус Дмитрий Викторович | C23: ='в часах'!C40 -> физическая культура | D23: ='в часах'!D40 -> Высшее. Академия "Кокше" 2012 | E23: ='в часах'!E40 -> 15.09.29 | F23: ='в часах'!F40 -> б/к | G23: ='в часах'!G40 -> B24 - 13-16 | H23: ='в часах'!H40 -> 4.49 | I23: ='в часах'!I40 -> 1.75 | ... K23: ='в часах'!K40 -> 0.9375 | L23: =J23/24*'в часах'!L40 -> 0 | M23: =J23/16*'в часах'!M40 -> 0 | N23: =J23/16*'в часах'!N40 -> 78217.975 | O23: =J23/16*'в часах'!O40 -> 52145.317 | P23: =L23+M23+N23+O23 -> 130363.29 | Q23: =P23*'в часах'!P40 -> 32590.823 | R23: =P23+Q23 -> 162954.11 | S23: =P23*'в часах'!Q40 -> 13036.329 | T23: =(M23+N23+O23)*1.25*30% -> 48886.234 | U23: =17697*40%/16*'в часах'!S40 -> 0 | V23: =17697*20%/16*'в часах'!T40 -> 0 | W23: =17697*40%/16*'в часах'!U40 -> 0 | X23: =17697*25%/16*'в часах'!V40 -> 0 | Y23: =17697*50%/16*'в часах'!W40 -> 0 | Z23: =17697*20%/16*'в часах'!X40 -> 0 | AA23: =17697*40%/16*'в часах'!Y40 -> 0 | AB23: =17697*25%/16*'в часах'!Z40 -> 0 | AC23: =17697*50%/16*'в часах'!AA40 -> 0 | AD23: =17697*20%/16*'в часах'!AB40 -> 0 | AE23: =17697*40%/16*'в часах'!AC40 -> 0 | AF23: =17697*25%/16*'в часах'!AD40 -> 0 | AG23: =17697*50%/16*'в часах'!AE40 -> 0 | AH23: =17697*'в часах'!AF39 -> 0 | AI23: =17697*'в часах'!AG39 -> 0 | AJ23: =17697*'в часах'!AH39 -> 0 | AK23: =17697*'в часах'!AI39 -> 0 | AL23: =17697*'в часах'!AJ40 -> 0 | AM23: =17697*'в часах'!AK40 -> 0 | AO23: =R23*'в часах'!AM40 -> 0 | AP23: =R23*'в часах'!AN40 -> 0 | AQ23: =R23*'в часах'!AO40 -> 0 | AR23: =3063*'в часах'!AP40 -> 0 | AS23: =17697*'в часах'!AQ40 -> 0 | AT23: =17697*'в часах'!AR40 -> 17697 | AU23: =17697*'в часах'!AS40 -> 0 | AV23: =17697*'в часах'!AT40 -> 0 | AW23: =17697*'в часах'!AU40 -> 0 | AX23: =SUM(S23:AW23) -> 79619.563 | AY23: =AX23+R23 -> 242573.68 | AZ23: 12 | BA23: =AZ23*AY23 -> 2910884.1
A24: =A23+1 -> 7 | B24: ='в часах'!B41 -> Химченко Наталья Владимировна | C24: ='в часах'!C41 -> начальные классы | D24: ='в часах'!D41 -> Высшее Кокчетауский пед.инст | E24: ='в часах'!E41 -> 26.00.05. | F24: ='в часах'!F41 -> педагог-исследователь № 68 от 12.07.2021 | G24: ='в часах'!G41 -> B21 -25-30 | H24: ='в часах'!H41 -> 5.41 | I24: ='в часах'!I41 -> 1.75 | ... K24: ='в часах'!K41 -> 1.0625 | L24: =J24/24*'в часах'!L41 -> 0 | M24: =J24/16*'в часах'!M41 -> 178017.99 | N24: =J24/16*'в часах'!N41 -> 0 | O24: =J24/16*'в часах'!O41 -> 0 | P24: =L24+M24+N24+O24 -> 178017.99 | Q24: =P24*'в часах'!P41 -> 44504.499 | R24: =P24+Q24 -> 222522.49 | S24: =P24*'в часах'!Q41 -> 17801.799 | T24: =(M24+N24+O24)*1.25*30% -> 66756.748 | U24: =17697*40%/16*'в часах'!S41 -> 0 | V24: =17697*20%/16*'в часах'!T41 -> 3096.975 | W24: =17697*40%/16*'в часах'!U41 -> 0 | X24: =17697*25%/16*'в часах'!V41 -> 0 | Y24: =17697*50%/16*'в часах'!W41 -> 0 | Z24: =17697*20%/16*'в часах'!X41 -> 0 | AA24: =17697*40%/16*'в часах'!Y41 -> 0 | AB24: =17697*25%/16*'в часах'!Z41 -> 0 | AC24: =17697*50%/16*'в часах'!AA41 -> 0 | AD24: =17697*20%/16*'в часах'!AB41 -> 0 | AE24: =17697*40%/16*'в часах'!AC41 -> 0 | AF24: =17697*25%/16*'в часах'!AD41 -> 0 | AG24: =17697*50%/16*'в часах'!AE41 -> 0 | AH24: =17697*'в часах'!AF40 -> 0 | AI24: =17697*'в часах'!AG40 -> 0 | AJ24: =17697*'в часах'!AH40 -> 0 | AK24: =17697*'в часах'!AI50 -> 10618.2 | AL24: =17697*'в часах'!AJ41 -> 0 | AM24: =17697*'в часах'!AK41 -> 0 | AO24: =R24*'в часах'!AM41 -> 89008.997 | AP24: =R24*'в часах'!AN41 -> 0 | AQ24: =R24*'в часах'!AO41 -> 0 | AR24: =3063*'в часах'!AP41 -> 0 | AS24: =17697*'в часах'!AQ41 -> 0 | AT24: =17697*'в часах'!AR41 -> 0 | AU24: =17697*'в часах'!AS41 -> 0 | AV24: =17697*'в часах'!AT41 -> 3539.4 | AW24: =17697*'в часах'!AU41 -> 0 | AX24: =SUM(S24:AW24) -> 190822.12 | AY24: =AX24+R24 -> 413344.61 | AZ24: 12 | BA24: =AZ24*AY24 -> 4960135.3
A25: =A24+1 -> 8 | B25: ='в часах'!B42 -> Ходаковская Виктория Юрьевна | C25: ='в часах'!C42 -> русский язык и литература | D25: ='в часах'!D42 -> Высшее Кокчетауский пед.инст, Омская гуманитарная академия | E25: ='в часах'!E42 -> 18.00.03. | F25: ='в часах'!F42 -> педагог-модератор № 191 от 23.12.2020 | G25: ='в часах'!G42 -> B23 - 16-20 | H25: ='в часах'!H42 -> 4.99 | I25: ='в часах'!I42 -> 1.75 | ... K25: ='в часах'!K42 -> 0.75 | L25: =J25/24*'в часах'!L42 -> 0 | M25: =J25/16*'в часах'!M42 -> 0 | N25: =J25/16*'в часах'!N42 -> 96586.908 | O25: =J25/16*'в часах'!O42 -> 19317.382 | P25: =L25+M25+N25+O25 -> 115904.29 | Q25: =P25*'в часах'!P42 -> 28976.072 | R25: =P25+Q25 -> 144880.36 | S25: =P25*'в часах'!Q42 -> 11590.429 | T25: =(M25+N25+O25)*1.25*30% -> 43464.109 | U25: =17697*40%/16*'в часах'!S42 -> 0 | V25: =17697*20%/16*'в часах'!T42 -> 0 | W25: =17697*40%/16*'в часах'!U42 -> 0 | X25: =17697*25%/16*'в часах'!V42 -> 0 | Y25: =17697*50%/16*'в часах'!W42 -> 0 | Z25: =17697*20%/16*'в часах'!X42 -> 0 | AA25: =17697*40%/16*'в часах'!Y42 -> 0 | AB25: =17697*25%/16*'в часах'!Z42 -> 1382.5781 | AC25: =17697*50%/16*'в часах'!AA42 -> 2765.1562 | AD25: =17697*20%/16*'в часах'!AB42 -> 0 | AE25: =17697*40%/16*'в часах'!AC42 -> 0 | AF25: =17697*25%/16*'в часах'!AD42 -> 553.03125 | AG25: =17697*50%/16*'в часах'!AE42 -> 0 | AH25: =17697*'в часах'!AF41 -> 4424.25 | AI25: =17697*'в часах'!AG41 -> 0 | AJ25: =17697*'в часах'!AH41 -> 0 | AK25: =17697*'в часах'!AI41 -> 0 | AL25: =17697*'в часах'!AJ42 -> 0 | AM25: =17697*'в часах'!AK42 -> 0 | AO25: =R25*'в часах'!AM42 -> 0 | AP25: =R25*'в часах'!AN42 -> 0 | AQ25: =R25*'в часах'!AO42 -> 43464.109 | AR25: =3063*'в часах'!AP42 -> 0 | AS25: =17697*'в часах'!AQ42 -> 0 | AT25: =17697*'в часах'!AR42 -> 0 | AU25: =17697*'в часах'!AS42 -> 0 | AV25: =17697*'в часах'!AT42 -> 0 | AW25: =17697*'в часах'!AU42 -> 0 | AX25: =SUM(S25:AW25) -> 107643.66 | AY25: =AX25+R25 -> 252524.02 | AZ25: 12 | BA25: =AZ25*AY25 -> 3030288.3
A26: =A25+1 -> 9 | B26: ='в часах'!B43 -> вакансия\русский язык и литература | C26: ='в часах'!C43 -> русский язык и литература | D26: ='в часах'!D43 -> Высшее Кокчетауский пед.инст, Омская гуманитарная академия | E26: ='в часах'!E43 -> 18.00.03. | F26: ='в часах'!F43 -> педагог-модератор № 191 от 23.12.2021 | G26: ='в часах'!G43 -> B23 - 16-20 | H26: ='в часах'!H43 -> 4.99 | I26: ='в часах'!I43 -> 1.75 | ... K26: ='в часах'!K43 -> 0.0625 | L26: =J26/24*'в часах'!L43 -> 0 | M26: =J26/16*'в часах'!M43 -> 0 | N26: =J26/16*'в часах'!N43 -> 0 | O26: =J26/16*'в часах'!O43 -> 9658.6908 | P26: =L26+M26+N26+O26 -> 9658.6908 | Q26: =P26*'в часах'!P43 -> 2414.6727 | R26: =P26+Q26 -> 12073.363 | S26: =P26*'в часах'!Q43 -> 965.86908 | T26: =(M26+N26+O26)*1.25*30% -> 3622.009 | U26: =17697*40%/16*'в часах'!S43 -> 0 | V26: =17697*20%/16*'в часах'!T43 -> 0 | W26: =17697*40%/16*'в часах'!U43 -> 0 | X26: =17697*25%/16*'в часах'!V43 -> 0 | Y26: =17697*50%/16*'в часах'!W43 -> 0 | Z26: =17697*20%/16*'в часах'!X43 -> 0 | AA26: =17697*40%/16*'в часах'!Y43 -> 0 | AB26: =17697*25%/16*'в часах'!Z43 -> 0 | AC26: =17697*50%/16*'в часах'!AA43 -> 0 | AD26: =17697*20%/16*'в часах'!AB43 -> 0 | AE26: =17697*40%/16*'в часах'!AC43 -> 0 | AF26: =17697*25%/16*'в часах'!AD43 -> 276.51562 | AG26: =17697*50%/16*'в часах'!AE43 -> 0 | AH26: =17697*'в часах'!AF42 -> 0 | AI26: =17697*'в часах'!AG42 -> 0 | AJ26: =17697*'в часах'!AH42 -> 5309.1 | AK26: =17697*'в часах'!AI42 -> 0 | AL26: =17697*'в часах'!AJ43 -> 0 | AM26: =17697*'в часах'!AK43 -> 0 | AO26: =R26*'в часах'!AM43 -> 0 | AP26: =R26*'в часах'!AN43 -> 0 | AQ26: =R26*'в часах'!AO43 -> 3622.009 | AR26: =3063*'в часах'!AP43 -> 0 | AS26: =17697*'в часах'!AQ43 -> 0 | AT26: =17697*'в часах'!AR43 -> 0 | AU26: =17697*'в часах'!AS43 -> 0 | AV26: =17697*'в часах'!AT43 -> 0 | AW26: =17697*'в часах'!AU43 -> 0 | AX26: =SUM(S26:AW26) -> 13795.503 | AY26: =AX26+R26 -> 25868.866 | AZ26: 12 | BA26: =AZ26*AY26 -> 310426.4
A27: =A26+1 -> 10 | B27: ='в часах'!B44 -> Ходаковская Виктория Юрьевна | C27: ='в часах'!C44 -> география | D27: ='в часах'!D44 -> Высшее Кокчетауский пед.инст, Омская гуманитарная академия | E27: ='в часах'!E44 -> 18.00.03. | F27: ='в часах'!F44 -> педагог-эксперт№ 197/а от 27.07.2020 | G27: ='в часах'!G44 -> B22 - 16-20 | H27: ='в часах'!H44 -> 5.03 | I27: ='в часах'!I44 -> 1.75 | ... K27: ='в часах'!K44 -> 0.75 | L27: =J27/24*'в часах'!L44 -> 0 | M27: =J27/16*'в часах'!M44 -> 0 | N27: =J27/16*'в часах'!N44 -> 58416.691 | O27: =J27/16*'в часах'!O44 -> 58416.691 | P27: =L27+M27+N27+O27 -> 116833.38 | Q27: =P27*'в часах'!P44 -> 29208.345 | R27: =P27+Q27 -> 146041.73 | S27: =P27*'в часах'!Q44 -> 11683.338 | T27: =(M27+N27+O27)*1.25*30% -> 43812.518 | U27: =17697*40%/16*'в часах'!S44 -> 0 | V27: =17697*20%/16*'в часах'!T44 -> 0 | W27: =17697*40%/16*'в часах'!U44 -> 0 | X27: =17697*25%/16*'в часах'!V44 -> 0 | Y27: =17697*50%/16*'в часах'!W44 -> 0 | Z27: =17697*20%/16*'в часах'!X44 -> 0 | AA27: =17697*40%/16*'в часах'!Y44 -> 0 | AB27: =17697*25%/16*'в часах'!Z44 -> 0 | AC27: =17697*50%/16*'в часах'!AA44 -> 0 | AD27: =17697*20%/16*'в часах'!AB44 -> 0 | AE27: =17697*40%/16*'в часах'!AC44 -> 0 | AF27: =17697*25%/16*'в часах'!AD44 -> 0 | AG27: =17697*50%/16*'в часах'!AE44 -> 0 | AH27: =17697*'в часах'!AF43 -> 0 | AI27: =17697*'в часах'!AG43 -> 0 | AJ27: =17697*'в часах'!AH43 -> 0 | AK27: =17697*'в часах'!AI43 -> 0 | AL27: =17697*'в часах'!AJ44 -> 0 | AM27: =17697*'в часах'!AK44 -> 0 | AO27: =R27*'в часах'!AM44 -> 0 | AP27: =R27*'в часах'!AN44 -> 51114.605 | AQ27: =R27*'в часах'!AO44 -> 0 | AR27: =3063*'в часах'!AP44 -> 0 | AS27: =17697*'в часах'!AQ44 -> 0 | AT27: =17697*'в часах'!AR44 -> 0 | AU27: =17697*'в часах'!AS44 -> 0 | AV27: =17697*'в часах'!AT44 -> 3539.4 | AW27: =17697*'в часах'!AU44 -> 0 | AX27: =SUM(S27:AW27) -> 110149.86 | AY27: =AX27+R27 -> 256191.59 | AZ27: 12 | BA27: =AZ27*AY27 -> 3074299.1
A28: =A27+1 -> 11 | B28: ='в часах'!B45 -> Шиленкова Вера Ивановна | C28: ='в часах'!C45 -> математика | D28: ='в часах'!D45 -> высшее. Целиноградский пед. | E28: ='в часах'!E45 -> 43.00.23 | F28: ='в часах'!F45 -> педагог - эксперт № 197/а от 27.07.2020 | G28: ='в часах'!G45 -> B22 - 3000 | H28: ='в часах'!H45 -> 5.2 | I28: ='в часах'!I45 -> 1.75 | ... K28: ='в часах'!K45 -> 0.9375 | L28: =J28/24*'в часах'!L45 -> 0 | M28: =J28/16*'в часах'!M45 -> 0 | N28: =J28/16*'в часах'!N45 -> 150977.53 | O28: =J28/16*'в часах'!O45 -> 0 | P28: =L28+M28+N28+O28 -> 150977.53 | Q28: =P28*'в часах'!P45 -> 37744.383 | R28: =P28+Q28 -> 188721.91 | S28: =P28*'в часах'!Q45 -> 15097.753 | T28: =(M28+N28+O28)*1.25*30% -> 56616.574 | U28: =17697*40%/16*'в часах'!S45 -> 0 | V28: =17697*20%/16*'в часах'!T45 -> 0 | W28: =17697*40%/16*'в часах'!U45 -> 0 | X28: =17697*25%/16*'в часах'!V45 -> 0 | Y28: =17697*50%/16*'в часах'!W45 -> 0 | Z28: =17697*20%/16*'в часах'!X45 -> 1106.0625 | AA28: =17697*40%/16*'в часах'!Y45 -> 4424.25 | AB28: =17697*25%/16*'в часах'!Z45 -> 0 | AC28: =17697*50%/16*'в часах'!AA45 -> 0 | AD28: =17697*20%/16*'в часах'!AB45 -> 0 | AE28: =17697*40%/16*'в часах'!AC45 -> 0 | AF28: =17697*25%/16*'в часах'!AD45 -> 0 | AG28: =17697*50%/16*'в часах'!AE45 -> 0 | AH28: =17697*'в часах'!AF44 -> 0 | AI28: =17697*'в часах'!AG44 -> 0 | AJ28: =17697*'в часах'!AH44 -> 0 | AK28: =17697*'в часах'!AI44 -> 0 | AL28: =17697*'в часах'!AJ45 -> 0 | AM28: =17697*'в часах'!AK45 -> 0 | AO28: =R28*'в часах'!AM45 -> 0 | AP28: =R28*'в часах'!AN45 -> 66052.67 | AQ28: =R28*'в часах'!AO45 -> 0 | AR28: =3063*'в часах'!AP45 -> 0 | AS28: =17697*'в часах'!AQ45 -> 0 | AT28: =17697*'в часах'!AR45 -> 0 | AU28: =17697*'в часах'!AS45 -> 0 | AV28: =17697*'в часах'!AT45 -> 3539.4 | AW28: =17697*'в часах'!AU45 -> 0 | AX28: =SUM(S28:AW28) -> 146836.71 | AY28: =AX28+R28 -> 335558.62 | AZ28: 12 | BA28: =AZ28*AY28 -> 4026703.5
A29: =A28+1 -> 12 | B29: ='в часах'!B46 -> Марченко Сергей Николаевич | C29: ='в часах'!C46 -> физика | D29: ='в часах'!D46 -> высшее Кокшетауский государственный университет им№ Ш.Уалиханова 2004 | E29: ='в часах'!E46 -> 23.08,10 | F29: ='в часах'!F46 -> б\к | G29: ='в часах'!G46 -> В24-20-25 | H29: ='в часах'!H46 -> 4.67 | I29: ='в часах'!I46 -> 1.75 | ... K29: ='в часах'!K46 -> 0.5 | L29: =J29/24*'в часах'!L46 -> 0 | M29: =J29/16*'в часах'!M46 -> 0 | N29: =J29/16*'в часах'!N46 -> 54235.775 | O29: =J29/16*'в часах'!O46 -> 18078.592 | P29: =L29+M29+N29+O29 -> 72314.366 | Q29: =P29*'в часах'!P46 -> 18078.592 | R29: =P29+Q29 -> 90392.958 | S29: =P29*'в часах'!Q46 -> 7231.4366 | T29: =(M29+N29+O29)*1.25*30% -> 27117.887 | U29: =17697*40%/16*'в часах'!S46 -> 0 | V29: =17697*20%/16*'в часах'!T46 -> 0 | W29: =17697*40%/16*'в часах'!U46 -> 0 | X29: =17697*25%/16*'в часах'!V46 -> 0 | Y29: =17697*50%/16*'в часах'!W46 -> 0 | Z29: =17697*20%/16*'в часах'!X46 -> 442.425 | AA29: =17697*40%/16*'в часах'!Y46 -> 1769.7 | AB29: =17697*25%/16*'в часах'!Z46 -> 0 | AC29: =17697*50%/16*'в часах'!AA46 -> 0 | AD29: =17697*20%/16*'в часах'!AB46 -> 0 | AE29: =17697*40%/16*'в часах'!AC46 -> 0 | AF29: =17697*25%/16*'в часах'!AD46 -> 0 | AG29: =17697*50%/16*'в часах'!AE46 -> 0 | AH29: =17697*'в часах'!AF45 -> 0 | AI29: =17697*'в часах'!AG45 -> 0 | AJ29: =17697*'в часах'!AH45 -> 0 | AK29: =17697*'в часах'!AI45 -> 0 | AL29: =17697*'в часах'!AJ46 -> 0 | AM29: =17697*'в часах'!AK46 -> 0 | AO29: =R29*'в часах'!AM46 -> 0 | AP29: =R29*'в часах'!AN46 -> 0 | AQ29: =R29*'в часах'!AO46 -> 0 | AR29: =3063*'в часах'!AP46 -> 0 | AS29: =17697*'в часах'!AQ46 -> 0 | AT29: =17697*'в часах'!AR46 -> 0 | AU29: =17697*'в часах'!AS46 -> 0 | AV29: =17697*'в часах'!AT46 -> 0 | AW29: =17697*'в часах'!AU46 -> 0 | AX29: =SUM(S29:AW29) -> 36561.449 | AY29: =AX29+R29 -> 126954.41 | AZ29: 12 | BA29: =AZ29*AY29 -> 1523452.9
A30: =A29+1 -> 13 | B30: ='в часах'!B47 -> Тиржанова Акмарал Дауренбековна | C30: ='в часах'!C47 -> информатика | D30: ='в часах'!D47 -> высшее. Кокшетауский университет имени А. Мырзахметова. | E30: ='в часах'!E47 -> 02.00.07. | F30: ='в часах'!F47 -> педагог-модератор №193 от 01.09.2021 | G30: ='в часах'!G47 -> B23 - 02-03 | H30: ='в часах'!H47 -> 4.51 | I30: ='в часах'!I47 -> 1.75 | ... K30: ='в часах'!K47 -> 0.78125 | L30: =J30/24*'в часах'!L47 -> 0 | M30: =J30/16*'в часах'!M47 -> 30553.594 | N30: =J30/16*'в часах'!N47 -> 43647.991 | O30: =J30/16*'в часах'!O47 -> 34918.393 | P30: =L30+M30+N30+O30 -> 109119.98 | Q30: =P30*'в часах'!P47 -> 27279.995 | R30: =P30+Q30 -> 136399.97 | S30: =P30*'в часах'!Q47 -> 10911.998 | T30: =(M30+N30+O30)*1.25*30% -> 40919.992 | U30: =17697*40%/16*'в часах'!S47 -> 0 | V30: =17697*20%/16*'в часах'!T47 -> 0 | W30: =17697*40%/16*'в часах'!U47 -> 0 | X30: =17697*25%/16*'в часах'!V47 -> 0 | Y30: =17697*50%/16*'в часах'!W47 -> 0 | Z30: =17697*20%/16*'в часах'!X47 -> 0 | AA30: =17697*40%/16*'в часах'!Y47 -> 0 | AB30: =17697*25%/16*'в часах'!Z47 -> 0 | AC30: =17697*50%/16*'в часах'!AA47 -> 0 | AD30: =17697*20%/16*'в часах'!AB47 -> 0 | AE30: =17697*40%/16*'в часах'!AC47 -> 0 | AF30: =17697*25%/16*'в часах'!AD47 -> 0 | AG30: =17697*50%/16*'в часах'!AE47 -> 0 | AH30: =17697*'в часах'!AF46 -> 0 | AI30: =17697*'в часах'!AG46 -> 0 | AJ30: =17697*'в часах'!AH46 -> 0 | AK30: =17697*'в часах'!AI46 -> 0 | AL30: =17697*'в часах'!AJ47 -> 0 | AM30: =17697*'в часах'!AK47 -> 5309.1 | AO30: =R30*'в часах'!AM47 -> 0 | AP30: =R30*'в часах'!AN47 -> 0 | AQ30: =R30*'в часах'!AO47 -> 40919.992 | AR30: =3063*'в часах'!AP47 -> 0 | AS30: =17697*'в часах'!AQ47 -> 0 | AT30: =17697*'в часах'!AR47 -> 0 | AU30: =17697*'в часах'!AS47 -> 0 | AV30: =17697*'в часах'!AT47 -> 3539.4 | AW30: =17697*'в часах'!AU47 -> 0 | AX30: =SUM(S30:AW30) -> 101600.48 | AY30: =AX30+R30 -> 238000.45 | AZ30: 12 | BA30: =AZ30*AY30 -> 2856005.5
A31: =A30+1 -> 14 | B31: ='в часах'!B48 -> Абдрахманова Дана Каиргельдыевна | C31: ='в часах'!C48 -> английский язык | D31: ='в часах'!D48 -> высшее Кокшетауский унив. Им.Мырзахметова 2018 | E31: ='в часах'!E48 -> 05.02,18 | F31: ='в часах'!F48 -> педагог-модератор №75 от 24.12.2020 | G31: ='в часах'!G48 -> B23 - 05-07 | H31: ='в часах'!H48 -> 4.66 | I31: ='в часах'!I48 -> 1.75 | ... K31: ='в часах'!K48 -> 1.3125 | L31: =J31/24*'в часах'!L48 -> 0 | M31: =J31/16*'в часах'!M48 -> 54119.638 | N31: =J31/16*'в часах'!N48 -> 135299.1 | O31: =J31/16*'в часах'!O48 -> 0 | P31: =L31+M31+N31+O31 -> 189418.73 | Q31: =P31*'в часах'!P48 -> 47354.683 | R31: =P31+Q31 -> 236773.42 | S31: =P31*'в часах'!Q48 -> 18941.873 | T31: =(M31+N31+O31)*1.25*30% -> 71032.025 | U31: =17697*40%/16*'в часах'!S48 -> 0 | V31: =17697*20%/16*'в часах'!T48 -> 884.85 | W31: =17697*40%/16*'в часах'!U48 -> 884.85 | X31: =17697*25%/16*'в часах'!V48 -> 0 | Y31: =17697*50%/16*'в часах'!W48 -> 0 | Z31: =17697*20%/16*'в часах'!X48 -> 663.6375 | AA31: =17697*40%/16*'в часах'!Y48 -> 5309.1 | AB31: =17697*25%/16*'в часах'!Z48 -> 0 | AC31: =17697*50%/16*'в часах'!AA48 -> 0 | AD31: =17697*20%/16*'в часах'!AB48 -> 0 | AE31: =17697*40%/16*'в часах'!AC48 -> 0 | AF31: =17697*25%/16*'в часах'!AD48 -> 0 | AG31: =17697*50%/16*'в часах'!AE48 -> 0 | AH31: =17697*'в часах'!AF47 -> 0 | AI31: =17697*'в часах'!AG47 -> 0 | AJ31: =17697*'в часах'!AH47 -> 0 | AK31: =17697*'в часах'!AI47 -> 0 | AL31: =17697*'в часах'!AJ48 -> 0 | AM31: =17697*'в часах'!AK48 -> 0 | AO31: =R31*'в часах'!AM48 -> 0 | AP31: =R31*'в часах'!AN48 -> 0 | AQ31: =R31*'в часах'!AO48 -> 71032.025 | AR31: =3063*'в часах'!AP48 -> 0 | AS31: =17697*'в часах'!AQ48 -> 0 | AT31: =17697*'в часах'!AR48 -> 0 | AU31: =17697*'в часах'!AS48 -> 0 | AV31: =17697*'в часах'!AT48 -> 0 | AW31: =17697*'в часах'!AU48 -> 0 | AX31: =SUM(S31:AW31) -> 168748.36 | AY31: =AX31+R31 -> 405521.78 | AZ31: 12 | BA31: =AZ31*AY31 -> 4866261.3
A32: =A31+1 -> 15 | B32: ='в часах'!B49 -> Стихиляс Татьяна Владимировна | C32: ='в часах'!C49 -> начальные классы | D32: ='в часах'!D49 -> высшее Кокшетауский унив. Им.Мырзахметова 2013 | E32: ='в часах'!E49 -> 14.09.19. | F32: ='в часах'!F49 -> педагог - исследователь № 170 от 31.12.2020 | G32: ='в часах'!G49 -> B21 - 13-16 | H32: ='в часах'!H49 -> 5.16 | I32: ='в часах'!I49 -> 1.75 | ... K32: ='в часах'!K49 -> 1 | L32: =J32/24*'в часах'!L49 -> 0 | M32: =J32/16*'в часах'!M49 -> 159803.91 | N32: =J32/16*'в часах'!N49 -> 0 | O32: =J32/16*'в часах'!O49 -> 0 | P32: =L32+M32+N32+O32 -> 159803.91 | Q32: =P32*'в часах'!P49 -> 39950.978 | R32: =P32+Q32 -> 199754.89 | S32: =P32*'в часах'!Q49 -> 15980.391 | T32: =(M32+N32+O32)*1.25*30% -> 59926.466 | U32: =17697*40%/16*'в часах'!S49 -> 0 | V32: =17697*20%/16*'в часах'!T49 -> 0 | W32: =17697*40%/16*'в часах'!U49 -> 7078.8 | X32: =17697*25%/16*'в часах'!V49 -> 0 | Y32: =17697*50%/16*'в часах'!W49 -> 0 | Z32: =17697*20%/16*'в часах'!X49 -> 0 | AA32: =17697*40%/16*'в часах'!Y49 -> 0 | AB32: =17697*25%/16*'в часах'!Z49 -> 0 | AC32: =17697*50%/16*'в часах'!AA49 -> 0 | AD32: =17697*20%/16*'в часах'!AB49 -> 0 | AE32: =17697*40%/16*'в часах'!AC49 -> 0 | AF32: =17697*25%/16*'в часах'!AD49 -> 0 | AG32: =17697*50%/16*'в часах'!AE49 -> 0 | AH32: =17697*'в часах'!AF48 -> 0 | AI32: =17697*'в часах'!AG48 -> 0 | AJ32: =17697*'в часах'!AH48 -> 0 | AK32: =17697*'в часах'!AI48 -> 10618.2 | AL32: =17697*'в часах'!AJ49 -> 0 | AM32: =17697*'в часах'!AK49 -> 0 | AO32: =R32*'в часах'!AM49 -> 79901.955 | AP32: =R32*'в часах'!AN49 -> 0 | AQ32: =R32*'в часах'!AO49 -> 0 | AR32: =3063*'в часах'!AP49 -> 0 | AS32: =17697*'в часах'!AQ49 -> 0 | AT32: =17697*'в часах'!AR49 -> 0 | AU32: =17697*'в часах'!AS49 -> 0 | AV32: =17697*'в часах'!AT49 -> 3539.4 | AW32: =17697*'в часах'!AU49 -> 0 | AX32: =SUM(S32:AW32) -> 177045.21 | AY32: =AX32+R32 -> 376800.1 | AZ32: 12 | BA32: =AZ32*AY32 -> 4521601.2
A33: =A32+1 -> 16 | B33: ='в часах'!B50 -> Гептин Наталья Александровна | C33: ='в часах'!C50 -> русский язык и литература | D33: ='в часах'!D50 -> высшее Омская гуманитарная академия 2017 | E33: ='в часах'!E50 -> 09.10.18. | F33: ='в часах'!F50 -> педагог-модератор № 118 от 31.07.2020 | G33: ='в часах'!G50 -> B23- 07-10 | H33: ='в часах'!H50 -> 4.74 | I33: ='в часах'!I50 -> 1.75 | ... K33: ='в часах'!K50 -> 1.125 | L33: =J33/24*'в часах'!L50 -> 0 | M33: =J33/16*'в часах'!M50 -> 0 | N33: =J33/16*'в часах'!N50 -> 137621.83 | O33: =J33/16*'в часах'!O50 -> 27524.365 | P33: =L33+M33+N33+O33 -> 165146.19 | Q33: =P33*'в часах'!P50 -> 41286.548 | R33: =P33+Q33 -> 206432.74 | S33: =P33*'в часах'!Q50 -> 16514.619 | T33: =(M33+N33+O33)*1.25*30% -> 61929.822 | U33: =17697*40%/16*'в часах'!S50 -> 0 | V33: =17697*20%/16*'в часах'!T50 -> 0 | W33: =17697*40%/16*'в часах'!U50 -> 0 | X33: =17697*25%/16*'в часах'!V50 -> 0 | Y33: =17697*50%/16*'в часах'!W50 -> 0 | Z33: =17697*20%/16*'в часах'!X50 -> 0 | AA33: =17697*40%/16*'в часах'!Y50 -> 0 | AB33: =17697*25%/16*'в часах'!Z50 -> 0 | AC33: =17697*50%/16*'в часах'!AA50 -> 8295.4688 | AD33: =17697*20%/16*'в часах'!AB50 -> 0 | AE33: =17697*40%/16*'в часах'!AC50 -> 0 | AF33: =17697*25%/16*'в часах'!AD50 -> 829.54688 | AG33: =17697*50%/16*'в часах'!AE50 -> 0 | AH33: =17697*'в часах'!AF49 -> 0 | AI33: =17697*'в часах'!AG49 -> 8848.5 | AJ33: =17697*'в часах'!AH49 -> 0 | AK33: =17697*'в часах'!AI49 -> 0 | AL33: =17697*'в часах'!AJ50 -> 0 | AM33: =17697*'в часах'!AK50 -> 0 | AO33: =R33*'в часах'!AM50 -> 0 | AP33: =R33*'в часах'!AN50 -> 0 | AQ33: =R33*'в часах'!AO50 -> 61929.822 | AR33: =3063*'в часах'!AP50 -> 0 | AS33: =17697*'в часах'!AQ50 -> 0 | AT33: =17697*'в часах'!AR50 -> 0 | AU33: =17697*'в часах'!AS50 -> 0 | AV33: =17697*'в часах'!AT50 -> 0 | AW33: =17697*'в часах'!AU50 -> 0 | AX33: =SUM(S33:AW33) -> 158347.78 | AY33: =AX33+R33 -> 364780.52 | AZ33: 12 | BA33: =AZ33*AY33 -> 4377366.2
A34: =A33+1 -> 17 | B34: ='в часах'!B51 -> вакансия/русский язык | C34: ='в часах'!C51 -> русский язык и литература \ надомное обучение | D34: ='в часах'!D51 -> высшее Омская гуманитарная академия 2018 | E34: ='в часах'!E51 -> 09.10.18. | F34: ='в часах'!F51 -> педагог-модератор № 118 от 31.07.2020 | G34: ='в часах'!G51 -> B23- 07-10 | H34: ='в часах'!H51 -> 4.74 | I34: ='в часах'!I51 -> 1.75 | ... K34: ='в часах'!K51 -> 0 | L34: =J34/24*'в часах'!L51 -> 0 | M34: =J34/16*'в часах'!M51 -> 0 | N34: =J34/16*'в часах'!N51 -> 0 | O34: =J34/16*'в часах'!O51 -> 0 | P34: =L34+M34+N34+O34 -> 0 | Q34: =P34*'в часах'!P51 -> 0 | R34: =P34+Q34 -> 0 | S34: =P34*'в часах'!Q51 -> 0 | T34: =(M34+N34+O34)*1.25*30% -> 0 | U34: =17697*40%/16*'в часах'!S51 -> 1327.275 | V34: =17697*20%/16*'в часах'!T51 -> 0 | W34: =17697*40%/16*'в часах'!U51 -> 0 | X34: =17697*25%/16*'в часах'!V51 -> 0 | Y34: =17697*50%/16*'в часах'!W51 -> 0 | Z34: =17697*20%/16*'в часах'!X51 -> 0 | AA34: =17697*40%/16*'в часах'!Y51 -> 0 | AB34: =17697*25%/16*'в часах'!Z51 -> 829.54688 | AC34: =17697*50%/16*'в часах'!AA51 -> 0 | AD34: =17697*20%/16*'в часах'!AB51 -> 0 | AE34: =17697*40%/16*'в часах'!AC51 -> 0 | AF34: =17697*25%/16*'в часах'!AD51 -> 0 | AG34: =17697*50%/16*'в часах'!AE51 -> 0 | AH34: =17697*'в часах'!AF50 -> 0 | AI34: =17697*'в часах'!AG50 -> 0 | AJ34: =17697*'в часах'!AH50 -> 0 | AK34: =17697*'в часах'!#REF! -> #REF! | AL34: =17697*'в часах'!AJ51 -> 0 | AM34: =17697*'в часах'!AK51 -> 0 | AO34: =R34*'в часах'!AM51 -> 0 | AP34: =R34*'в часах'!AN51 -> 0 | AQ34: =R34*'в часах'!AO51 -> 0 | AR34: =3063*'в часах'!AP51 -> 0 | AS34: =17697*'в часах'!AQ51 -> 0 | AT34: =17697*'в часах'!AR51 -> 0 | AU34: =17697*'в часах'!AS51 -> 0 | AV34: =17697*'в часах'!AT51 -> 0 | AW34: =17697*'в часах'!AU51 -> 0 | AX34: =SUM(S34:AW34) -> #REF! | AY34: =AX34+R34 -> #REF! | AZ34: 12 | BA34: =AZ34*AY34 -> #REF!
A35: =A34+1 -> 18 | B35: ='в часах'!B52 -> Черная Галина Григорьевна | C35: ='в часах'!C52 -> химия | D35: ='в часах'!D52 -> высшее Кокшеиауский университет им. Ш.Уалиханова | E35: ='в часах'!E52 -> 32.00.13. | F35: ='в часах'!F52 -> педагог-эксперт № 264 от 14.07.2021 | G35: ='в часах'!G52 -> B22 - 2500 | H35: ='в часах'!H52 -> 5.2 | I35: ='в часах'!I52 -> 1.75 | ... K35: ='в часах'!K52 -> 0.4375 | L35: =J35/24*'в часах'!L52 -> 0 | M35: =J35/16*'в часах'!M52 -> 0 | N35: =J35/16*'в часах'!N52 -> 50325.844 | O35: =J35/16*'в часах'!O52 -> 20130.338 | P35: =L35+M35+N35+O35 -> 70456.181 | Q35: =P35*'в часах'!P52 -> 17614.045 | R35: =P35+Q35 -> 88070.227 | S35: =P35*'в часах'!Q52 -> 7045.6181 | T35: =(M35+N35+O35)*1.25*30% -> 26421.068 | U35: =17697*40%/16*'в часах'!S52 -> 0 | V35: =17697*20%/16*'в часах'!T52 -> 0 | W35: =17697*40%/16*'в часах'!U52 -> 0 | X35: =17697*25%/16*'в часах'!V52 -> 0 | Y35: =17697*50%/16*'в часах'!W52 -> 0 | Z35: =17697*20%/16*'в часах'!X52 -> 442.425 | AA35: =17697*40%/16*'в часах'!Y52 -> 1327.275 | AB35: =17697*25%/16*'в часах'!Z52 -> 0 | AC35: =17697*50%/16*'в часах'!AA52 -> 0 | AD35: =17697*20%/16*'в часах'!AB52 -> 0 | AE35: =17697*40%/16*'в часах'!AC52 -> 0 | AF35: =17697*25%/16*'в часах'!AD52 -> 0 | AG35: =17697*50%/16*'в часах'!AE52 -> 0 | AH35: =17697*'в часах'!AF51 -> 0 | AI35: =17697*'в часах'!AG51 -> 0 | AJ35: =17697*'в часах'!AH51 -> 0 | AK35: =17697*'в часах'!AI51 -> 0 | AL35: =17697*'в часах'!AJ52 -> 0 | AM35: =17697*'в часах'!AK52 -> 5309.1 | AO35: =R35*'в часах'!AM52 -> 0 | AP35: =R35*'в часах'!AN52 -> 30824.579 | AQ35: =R35*'в часах'!AO52 -> 0 | AR35: =3063*'в часах'!AP52 -> 0 | AS35: =17697*'в часах'!AQ52 -> 0 | AT35: =17697*'в часах'!AR52 -> 0 | AU35: =17697*'в часах'!AS52 -> 17697 | AV35: =17697*'в часах'!AT52 -> 3539.4 | AW35: =17697*'в часах'!AU52 -> 0 | AX35: =SUM(S35:AW35) -> 92606.465 | AY35: =AX35+R35 -> 180676.69 | AZ35: 12 | BA35: =AZ35*AY35 -> 2168120.3
A36: =A35+1 -> 19 | B36: ='в часах'!B53 -> Черная Галина Григорьевна | C36: ='в часах'!C53 -> биология | D36: ='в часах'!D53 -> высшее Кокшеиауский университет им. Ш.Уалиханова | E36: ='в часах'!E53 -> 32.00.13. | F36: ='в часах'!F53 -> педагог-эксперт № 264 от 14.07.2022 | G36: ='в часах'!G53 -> B22 - 2500 | H36: ='в часах'!H53 -> 5.2 | I36: ='в часах'!I53 -> 1.75 | ... K36: ='в часах'!K53 -> 1 | L36: =J36/24*'в часах'!L53 -> 0 | M36: =J36/16*'в часах'!M53 -> 0 | N36: =J36/16*'в часах'!N53 -> 100651.69 | O36: =J36/16*'в часах'!O53 -> 60391.013 | P36: =L36+M36+N36+O36 -> 161042.7 | Q36: =P36*'в часах'!P53 -> 40260.675 | R36: =P36+Q36 -> 201303.38 | S36: =P36*'в часах'!Q53 -> 16104.27 | T36: =(M36+N36+O36)*1.25*30% -> 60391.012 | U36: =17697*40%/16*'в часах'!S53 -> 0 | V36: =17697*20%/16*'в часах'!T53 -> 0 | W36: =17697*40%/16*'в часах'!U53 -> 0 | X36: =17697*25%/16*'в часах'!V53 -> 0 | Y36: =17697*50%/16*'в часах'!W53 -> 0 | Z36: =17697*20%/16*'в часах'!X53 -> 442.425 | AA36: =17697*40%/16*'в часах'!Y53 -> 3539.4 | AB36: =17697*25%/16*'в часах'!Z53 -> 0 | AC36: =17697*50%/16*'в часах'!AA53 -> 0 | AD36: =17697*20%/16*'в часах'!AB53 -> 1327.275 | AE36: =17697*40%/16*'в часах'!AC53 -> 0 | AF36: =17697*25%/16*'в часах'!AD53 -> 0 | AG36: =17697*50%/16*'в часах'!AE53 -> 0 | AH36: =17697*'в часах'!AF51 -> 0 | AI36: =17697*'в часах'!AG52 -> 0 | AJ36: =17697*'в часах'!AH52 -> 0 | AK36: =17697*'в часах'!AI52 -> 0 | AL36: =17697*'в часах'!AJ53 -> 0 | AM36: =17697*'в часах'!AK53 -> 0 | AO36: =R36*'в часах'!AM53 -> 0 | AP36: =R36*'в часах'!AN53 -> 70456.181 | AQ36: =R36*'в часах'!AO53 -> 0 | AR36: =3063*'в часах'!AP53 -> 0 | AS36: =17697*'в часах'!AQ53 -> 0 | AT36: =17697*'в часах'!AR53 -> 0 | AU36: =17697*'в часах'!AS53 -> 0 | AV36: =17697*'в часах'!AT53 -> 0 | AW36: =17697*'в часах'!AU53 -> 0 | AX36: =SUM(S36:AW36) -> 152260.56 | AY36: =AX36+R36 -> 353563.94 | AZ36: 12 | BA36: =AZ36*AY36 -> 4242767.3
A37: =A36+1 -> 20 | B37: ='в часах'!B54 -> Черная Галина Григорьевна | C37: ='в часах'!C54 -> мир вокруг | D37: ='в часах'!D54 -> высшее Кокшеиауский университет им. Ш.Уалиханова | E37: ='в часах'!E54 -> 32.00.13. | F37: ='в часах'!F54 -> педагог-эксперт № 264 от 14.07.2023 | G37: ='в часах'!G54 -> B22 - 2500 | H37: ='в часах'!H54 -> 5.2 | I37: ='в часах'!I54 -> 1.75 | ... K37: ='в часах'!K54 -> 0 | L37: =J37/24*'в часах'!L54 -> 0 | M37: =J37/16*'в часах'!M54 -> 0 | N37: =J37/16*'в часах'!N54 -> 0 | O37: =J37/16*'в часах'!O54 -> 0 | P37: =L37+M37+N37+O37 -> 0 | Q37: =P37*'в часах'!P54 -> 0 | R37: =P37+Q37 -> 0 | S37: =P37*'в часах'!Q54 -> 0 | T37: =(M37+N37+O37)*1.25*30% -> 0 | U37: =17697*40%/16*'в часах'!S54 -> 442.425 | V37: =17697*20%/16*'в часах'!T54 -> 0 | W37: =17697*40%/16*'в часах'!U54 -> 0 | X37: =17697*25%/16*'в часах'!V54 -> 0 | Y37: =17697*50%/16*'в часах'!W54 -> 0 | Z37: =17697*20%/16*'в часах'!X54 -> 221.2125 | AA37: =17697*40%/16*'в часах'!Y54 -> 0 | AB37: =17697*25%/16*'в часах'!Z54 -> 0 | AC37: =17697*50%/16*'в часах'!AA54 -> 0 | AD37: =17697*20%/16*'в часах'!AB54 -> 0 | AE37: =17697*40%/16*'в часах'!AC54 -> 0 | AF37: =17697*25%/16*'в часах'!AD54 -> 0 | AG37: =17697*50%/16*'в часах'!AE54 -> 0 | AH37: =17697*'в часах'!AF52 -> 0 | AI37: =17697*'в часах'!AG53 -> 0 | AJ37: =17697*'в часах'!AH53 -> 0 | AK37: =17697*'в часах'!AI53 -> 0 | AL37: =17697*'в часах'!AJ54 -> 0 | AM37: =17697*'в часах'!AK54 -> 0 | AO37: =R37*'в часах'!AM54 -> 0 | AP37: =R37*'в часах'!AN54 -> 0 | AQ37: =R37*'в часах'!AO54 -> 0 | AR37: =3063*'в часах'!AP54 -> 0 | AS37: =17697*'в часах'!AQ54 -> 0 | AT37: =17697*'в часах'!AR54 -> 0 | AU37: =17697*'в часах'!AS54 -> 0 | AV37: =17697*'в часах'!AT54 -> 0 | AW37: =17697*'в часах'!AU54 -> 0 | AX37: =SUM(S37:AW37) -> 663.6375 | AY37: =AX37+R37 -> 663.6375 | AZ37: 12 | BA37: =AZ37*AY37 -> 7963.65
A38: =A37+1 -> 21 | B38: ='в часах'!B55 -> Ермаганбетова Гульзаш Салыкжановна | C38: ='в часах'!C55 -> казахский язык и литература | D38: ='в часах'!D55 -> высшее.Аркалыкский пед. | E38: ='в часах'!E55 -> 25.08.25. | F38: ='в часах'!F55 -> педагог-эксперт № 197/а от 27.07.2020 | G38: ='в часах'!G55 -> B22 - 25-30 | H38: ='в часах'!H55 -> 5.2 | I38: ='в часах'!I55 -> 1.75 | ... K38: ='в часах'!K55 -> 1.375 | L38: =J38/24*'в часах'!L55 -> 0 | M38: =J38/16*'в часах'!M55 -> 70456.181 | N38: =J38/16*'в часах'!N55 -> 120782.03 | O38: =J38/16*'в часах'!O55 -> 30195.506 | P38: =L38+M38+N38+O38 -> 221433.71 | Q38: =P38*'в часах'!P55 -> 55358.428 | R38: =P38+Q38 -> 276792.14 | S38: =P38*'в часах'!Q55 -> 22143.371 | T38: =(M38+N38+O38)*1.25*30% -> 83037.642 | U38: =17697*40%/16*'в часах'!S55 -> 442.425 | V38: =17697*20%/16*'в часах'!T55 -> 0 | W38: =17697*40%/16*'в часах'!U55 -> 0 | X38: =17697*25%/16*'в часах'!V55 -> 1106.0625 | Y38: =17697*50%/16*'в часах'!W55 -> 2212.125 | Z38: =17697*20%/16*'в часах'!X55 -> 0 | AA38: =17697*40%/16*'в часах'!Y55 -> 0 | AB38: =17697*25%/16*'в часах'!Z55 -> 1106.0625 | AC38: =17697*50%/16*'в часах'!AA55 -> 4424.25 | AD38: =17697*20%/16*'в часах'!AB55 -> 0 | AE38: =17697*40%/16*'в часах'!AC55 -> 0 | AF38: =17697*25%/16*'в часах'!AD55 -> 829.54688 | AG38: =17697*50%/16*'в часах'!AE55 -> 0 | AH38: =17697*'в часах'!AF53 -> 0 | AI38: =17697*'в часах'!AG54 -> 0 | AJ38: =17697*'в часах'!AH54 -> 0 | AK38: =17697*'в часах'!AI54 -> 0 | AL38: =17697*'в часах'!AJ55 -> 0 | AM38: =17697*'в часах'!AK55 -> 0 | AO38: =R38*'в часах'!AM55 -> 0 | AP38: =R38*'в часах'!AN55 -> 96877.249 | AQ38: =R38*'в часах'!AO55 -> 0 | AR38: =3063*'в часах'!AP55 -> 0 | AS38: =17697*'в часах'!AQ55 -> 0 | AT38: =17697*'в часах'!AR55 -> 0 | AU38: =17697*'в часах'!AS55 -> 0 | AV38: =17697*'в часах'!AT55 -> 3539.4 | AW38: =17697*'в часах'!AU55 -> 0 | AX38: =SUM(S38:AW38) -> 215718.13 | AY38: =AX38+R38 -> 492510.28 | AZ38: 12 | BA38: =AZ38*AY38 -> 5910123.3
A39: =A38+1 -> 22 | B39: ='в часах'!B56 -> Груздева Кристина Владимировна | C39: ='в часах'!C56 -> история | D39: ='в часах'!D56 -> высшее Кокшетауский унив. Им.Мырзахметова 2020 | E39: ='в часах'!E56 -> 06.10.15 | F39: ='в часах'!F56 -> б\к | G39: ='в часах'!G56 -> B24 - 05-07 | H39: ='в часах'!H56 -> 4.27 | I39: ='в часах'!I56 -> 1.75 | ... K39: ='в часах'!K56 -> 1.375 | L39: =J39/24*'в часах'!L56 -> 0 | M39: =J39/16*'в часах'!M56 -> 0 | N39: =J39/16*'в часах'!N56 -> 132240.83 | O39: =J39/16*'в часах'!O56 -> 49590.312 | P39: =L39+M39+N39+O39 -> 181831.14 | Q39: =P39*'в часах'!P56 -> 45457.786 | R39: =P39+Q39 -> 227288.93 | S39: =P39*'в часах'!Q56 -> 18183.114 | T39: =(M39+N39+O39)*1.25*30% -> 68186.679 | U39: =17697*40%/16*'в часах'!S56 -> 0 | V39: =17697*20%/16*'в часах'!T56 -> 0 | W39: =17697*40%/16*'в часах'!U56 -> 0 | X39: =17697*25%/16*'в часах'!V56 -> 0 | Y39: =17697*50%/16*'в часах'!W56 -> 0 | Z39: =17697*20%/16*'в часах'!X56 -> 0 | AA39: =17697*40%/16*'в часах'!Y56 -> 0 | AB39: =17697*25%/16*'в часах'!Z56 -> 0 | AC39: =17697*50%/16*'в часах'!AA56 -> 0 | AD39: =17697*20%/16*'в часах'!AB56 -> 0 | AE39: =17697*40%/16*'в часах'!AC56 -> 0 | AF39: =17697*25%/16*'в часах'!AD56 -> 0 | AG39: =17697*50%/16*'в часах'!AE56 -> 0 | AH39: =17697*'в часах'!AF54 -> 0 | AI39: =17697*'в часах'!AG55 -> 0 | AJ39: =17697*'в часах'!AH55 -> 0 | AK39: =17697*'в часах'!AI55 -> 0 | AL39: =17697*'в часах'!AJ56 -> 0 | AM39: =17697*'в часах'!AK56 -> 0 | AO39: =R39*'в часах'!AM56 -> 0 | AP39: =R39*'в часах'!AN56 -> 0 | AQ39: =R39*'в часах'!AO56 -> 0 | AR39: =3063*'в часах'!AP56 -> 0 | AS39: =17697*'в часах'!AQ56 -> 0 | AT39: =17697*'в часах'!AR56 -> 0 | AU39: =17697*'в часах'!AS56 -> 0 | AV39: =17697*'в часах'!AT56 -> 0 | AW39: =17697*'в часах'!AU56 -> 0 | AX39: =SUM(S39:AW39) -> 86369.794 | AY39: =AX39+R39 -> 313658.72 | AZ39: 12 | BA39: =AZ39*AY39 -> 3763904.7
A40: =A39+1 -> 23 | B40: ='в часах'!#REF! -> #REF! | C40: ='в часах'!#REF! -> #REF! | D40: ='в часах'!#REF! -> #REF! | E40: ='в часах'!#REF! -> #REF! | F40: ='в часах'!#REF! -> #REF! | G40: ='в часах'!#REF! -> #REF! | H40: ='в часах'!#REF! -> #REF! | I40: ='в часах'!#REF! -> #REF! | ... K40: ='в часах'!#REF! -> #REF! | L40: =J40/24*'в часах'!#REF! -> #REF! | M40: =J40/16*'в часах'!#REF! -> #REF! | N40: =J40/16*'в часах'!#REF! -> #REF! | O40: =J40/16*'в часах'!#REF! -> #REF! | P40: =L40+M40+N40+O40 -> #REF! | Q40: =P40*'в часах'!#REF! -> #REF! | R40: =P40+Q40 -> #REF! | S40: =P40*'в часах'!#REF! -> #REF! | T40: =(M40+N40+O40)*1.25*30% -> #REF! | U40: =17697*40%/16*'в часах'!#REF! -> #REF! | V40: =17697*20%/16*'в часах'!#REF! -> #REF! | W40: =17697*40%/16*'в часах'!#REF! -> #REF! | X40: =17697*25%/16*'в часах'!#REF! -> #REF! | Y40: =17697*50%/16*'в часах'!#REF! -> #REF! | Z40: =17697*20%/16*'в часах'!#REF! -> #REF! | AA40: =17697*40%/16*'в часах'!#REF! -> #REF! | AB40: =17697*25%/16*'в часах'!#REF! -> #REF! | AC40: =17697*50%/16*'в часах'!#REF! -> #REF! | AD40: =17697*20%/16*'в часах'!#REF! -> #REF! | AE40: =17697*40%/16*'в часах'!#REF! -> #REF! | AF40: =17697*25%/16*'в часах'!#REF! -> #REF! | AG40: =17697*50%/16*'в часах'!#REF! -> #REF! | AH40: =17697*'в часах'!AF55 -> 0 | AI40: =17697*'в часах'!AG56 -> 0 | AJ40: =17697*'в часах'!AH56 -> 0 | AK40: =17697*'в часах'!AI56 -> 10618.2 | AL40: =17697*'в часах'!#REF! -> #REF! | AM40: =17697*'в часах'!#REF! -> #REF! | AO40: =R40*'в часах'!#REF! -> #REF! | AP40: =R40*'в часах'!#REF! -> #REF! | AQ40: =R40*'в часах'!#REF! -> #REF! | AR40: =3063*'в часах'!#REF! -> #REF! | AS40: =17697*'в часах'!#REF! -> #REF! | AT40: =17697*'в часах'!#REF! -> #REF! | AU40: =17697*'в часах'!#REF! -> #REF! | AV40: =17697*'в часах'!#REF! -> #REF! | AW40: =17697*'в часах'!#REF! -> #REF! | AX40: =SUM(S40:AW40) -> #REF! | AY40: =AX40+R40 -> #REF! | AZ40: 12 | BA40: =AZ40*AY40 -> #REF!
A41: =A40+1 -> 24 | B41: ='в часах'!B57 -> Груздева Кристина Владимировна | C41: ='в часах'!C57 -> социально-бытовая ориентация | D41: ='в часах'!D57 -> магистратура Кокшетауский унив. Ш.Уалиханова,2016 | E41: ='в часах'!E57 -> 06.10.15 | F41: ='в часах'!F57 -> вторая №55 от 28.04.2018 | G41: ='в часах'!G57 -> В23-05-07 | H41: ='в часах'!H57 -> 4.66 | I41: ='в часах'!I57 -> 1.75 | ... K41: ='в часах'!K57 -> 0 | L41: =J41/24*'в часах'!L57 -> 0 | M41: =J41/16*'в часах'!M57 -> 0 | N41: =J41/16*'в часах'!N57 -> 0 | O41: =J41/16*'в часах'!O57 -> 0 | P41: =L41+M41+N41+O41 -> 0 | Q41: =P41*'в часах'!P57 -> 0 | R41: =P41+Q41 -> 0 | S41: =P41*'в часах'!Q57 -> 0 | T41: =(M41+N41+O41)*1.25*30% -> 0 | U41: =17697*40%/16*'в часах'!S57 -> 442.425 | V41: =17697*20%/16*'в часах'!T57 -> 0 | W41: =17697*40%/16*'в часах'!U57 -> 0 | X41: =17697*25%/16*'в часах'!V57 -> 0 | Y41: =17697*50%/16*'в часах'!W57 -> 0 | Z41: =17697*20%/16*'в часах'!X57 -> 0 | AA41: =17697*40%/16*'в часах'!Y57 -> 0 | AB41: =17697*25%/16*'в часах'!Z57 -> 0 | AC41: =17697*50%/16*'в часах'!AA57 -> 0 | AD41: =17697*20%/16*'в часах'!AB57 -> 0 | AE41: =17697*40%/16*'в часах'!AC57 -> 0 | AF41: =17697*25%/16*'в часах'!AD57 -> 0 | AG41: =17697*50%/16*'в часах'!AE57 -> 0 | AH41: =17697*'в часах'!AF56 -> 0 | AI41: =17697*'в часах'!#REF! -> #REF! | AJ41: =17697*'в часах'!#REF! -> #REF! | AK41: =17697*'в часах'!#REF! -> #REF! | AL41: =17697*'в часах'!AJ57 -> 0 | AM41: =17697*'в часах'!AK57 -> 0 | AO41: =R41*'в часах'!AM57 -> 0 | AP41: =R41*'в часах'!AN57 -> 0 | AQ41: =R41*'в часах'!AO57 -> 0 | AR41: =3063*'в часах'!AP57 -> 30630 | AS41: =17697*'в часах'!AQ57 -> 0 | AT41: =17697*'в часах'!AR57 -> 0 | AU41: =17697*'в часах'!AS57 -> 0 | AV41: =17697*'в часах'!AT57 -> 0 | AW41: =17697*'в часах'!AU57 -> 0 | AX41: =SUM(S41:AW41) -> #REF! | AY41: =AX41+R41 -> #REF! | AZ41: 12 | BA41: =AZ41*AY41 -> #REF!
A42: =A41+1 -> 25 | B42: ='в часах'!B58 -> Каламыцева Надежда Алексеевна | C42: ='в часах'!C58 -> начальные классы | D42: ='в часах'!D58 -> высшееЦентрально-азиатский университет. | E42: ='в часах'!E58 -> 21.00.01. | F42: ='в часах'!F58 -> педагог-эксперт№ 553 от 20.12.2021 | G42: ='в часах'!G58 -> B22 - 20-25 | H42: ='в часах'!H58 -> 5.12 | I42: ='в часах'!I58 -> 1.75 | ... K42: ='в часах'!K58 -> 1 | L42: =J42/24*'в часах'!L58 -> 0 | M42: =J42/16*'в часах'!M58 -> 158565.12 | N42: =J42/16*'в часах'!N58 -> 0 | O42: =J42/16*'в часах'!O58 -> 0 | P42: =L42+M42+N42+O42 -> 158565.12 | Q42: =P42*'в часах'!P58 -> 39641.28 | R42: =P42+Q42 -> 198206.4 | S42: =P42*'в часах'!Q58 -> 15856.512 | T42: =(M42+N42+O42)*1.25*30% -> 59461.92 | U42: =17697*40%/16*'в часах'!S58 -> 0 | V42: =17697*20%/16*'в часах'!T58 -> 3539.4 | W42: =17697*40%/16*'в часах'!U58 -> 0 | X42: =17697*25%/16*'в часах'!V58 -> 0 | Y42: =17697*50%/16*'в часах'!W58 -> 0 | Z42: =17697*20%/16*'в часах'!X58 -> 0 | AA42: =17697*40%/16*'в часах'!Y58 -> 0 | AB42: =17697*25%/16*'в часах'!Z58 -> 0 | AC42: =17697*50%/16*'в часах'!AA58 -> 0 | AD42: =17697*20%/16*'в часах'!AB58 -> 0 | AE42: =17697*40%/16*'в часах'!AC58 -> 0 | AF42: =17697*25%/16*'в часах'!AD58 -> 0 | AG42: =17697*50%/16*'в часах'!AE58 -> 0 | AH42: =17697*'в часах'!#REF! -> #REF! | AI42: =17697*'в часах'!AG57 -> 0 | AJ42: =17697*'в часах'!AH57 -> 0 | AK42: =17697*'в часах'!AI57 -> 0 | AL42: =17697*'в часах'!AJ58 -> 0 | AM42: =17697*'в часах'!AK58 -> 0 | AO42: =R42*'в часах'!AM58 -> 0 | AP42: =R42*'в часах'!AN58 -> 69372.24 | AQ42: =R42*'в часах'!AO58 -> 0 | AR42: =3063*'в часах'!AP58 -> 0 | AS42: =17697*'в часах'!AQ58 -> 0 | AT42: =17697*'в часах'!AR58 -> 0 | AU42: =17697*'в часах'!AS58 -> 0 | AV42: =17697*'в часах'!AT58 -> 3539.4 | AW42: =17697*'в часах'!AU58 -> 0 | AX42: =SUM(S42:AW42) -> #REF! | AY42: =AX42+R42 -> #REF! | AZ42: 12 | BA42: =AZ42*AY42 -> #REF!
A43: =A42+1 -> 26 | B43: ='в часах'!B59 -> Каламыцева Надежда Алексеевна | C43: ='в часах'!C59 -> Глобальная компетенция | D43: ='в часах'!D59 -> высшееЦентрально-азиатский университет. | E43: ='в часах'!E59 -> 21.00.01. | F43: ='в часах'!F59 -> б\к | G43: ='в часах'!G59 -> В24 -20-25 | H43: ='в часах'!H59 -> 4.67 | I43: ='в часах'!I59 -> 1.75 | ... K43: ='в часах'!K59 -> 0.1875 | L43: =J43/24*'в часах'!L59 -> 0 | M43: =J43/16*'в часах'!M59 -> 0 | N43: =J43/16*'в часах'!N59 -> 9039.2958 | O43: =J43/16*'в часах'!O59 -> 18078.592 | P43: =L43+M43+N43+O43 -> 27117.887 | Q43: =P43*'в часах'!P59 -> 6779.4718 | R43: =P43+Q43 -> 33897.359 | S43: =P43*'в часах'!Q59 -> 2711.7887 | T43: =(M43+N43+O43)*1.25*30% -> 10169.208 | U43: =17697*40%/16*'в часах'!S59 -> 0 | V43: =17697*20%/16*'в часах'!T59 -> 0 | W43: =17697*40%/16*'в часах'!U59 -> 0 | X43: =17697*25%/16*'в часах'!V59 -> 0 | Y43: =17697*50%/16*'в часах'!W59 -> 0 | Z43: =17697*20%/16*'в часах'!X59 -> 0 | AA43: =17697*40%/16*'в часах'!Y59 -> 0 | AB43: =17697*25%/16*'в часах'!Z59 -> 0 | AC43: =17697*50%/16*'в часах'!AA59 -> 0 | AD43: =17697*20%/16*'в часах'!AB59 -> 0 | AE43: =17697*40%/16*'в часах'!AC59 -> 0 | AF43: =17697*25%/16*'в часах'!AD59 -> 0 | AG43: =17697*50%/16*'в часах'!AE59 -> 0 | AH43: =17697*'в часах'!AF57 -> 0 | AI43: =17697*'в часах'!AG58 -> 0 | AJ43: =17697*'в часах'!AH58 -> 0 | AK43: =17697*'в часах'!AI58 -> 0 | AL43: =17697*'в часах'!AJ59 -> 0 | AM43: =17697*'в часах'!AK59 -> 0 | AO43: =R43*'в часах'!AM59 -> 0 | AP43: =R43*'в часах'!AN59 -> 0 | AQ43: =R43*'в часах'!AO59 -> 0 | AR43: =3063*'в часах'!AP59 -> 0 | AS43: =17697*'в часах'!AQ59 -> 0 | AT43: =17697*'в часах'!AR59 -> 0 | AU43: =17697*'в часах'!AS59 -> 0 | AV43: =17697*'в часах'!AT59 -> 0 | AW43: =17697*'в часах'!AU59 -> 0 | AX43: =SUM(S43:AW43) -> 12880.996 | AY43: =AX43+R43 -> 46778.356 | AZ43: 12 | BA43: =AZ43*AY43 -> 561340.27
A44: =A43+1 -> 27 | B44: ='в часах'!B60 -> Агипа Тасхын | C44: ='в часах'!C60 -> казахский язык и литература | D44: ='в часах'!D60 -> высшее.Кокшетауский университет им. Ш. Уалиханова | E44: ='в часах'!E60 -> 18.07.14 | F44: ='в часах'!F60 -> педагог-модератор №445 от 29.06.2022 | G44: ='в часах'!G60 -> В23 16-20 | H44: ='в часах'!H60 -> 4.99 | I44: ='в часах'!I60 -> 1.75 | ... K44: ='в часах'!K60 -> 1.0833333 | L44: =J44/24*'в часах'!L60 -> 12878.254 | M44: =J44/16*'в часах'!M60 -> 48293.454 | N44: =J44/16*'в часах'!N60 -> 77269.526 | O44: =J44/16*'в часах'!O60 -> 28976.072 | P44: =L44+M44+N44+O44 -> 167417.31 | Q44: =P44*'в часах'!P60 -> 41854.327 | R44: =P44+Q44 -> 209271.63 | S44: =P44*'в часах'!Q60 -> 16741.731 | T44: =(M44+N44+O44)*1.25*30% -> 57952.145 | U44: =17697*40%/16*'в часах'!S60 -> 442.425 | V44: =17697*20%/16*'в часах'!T60 -> 0 | W44: =17697*40%/16*'в часах'!U60 -> 0 | X44: =17697*25%/16*'в часах'!V60 -> 1382.5781 | Y44: =17697*50%/16*'в часах'!W60 -> 0 | Z44: =17697*20%/16*'в часах'!X60 -> 0 | AA44: =17697*40%/16*'в часах'!Y60 -> 0 | AB44: =17697*25%/16*'в часах'!Z60 -> 276.51562 | AC44: =17697*50%/16*'в часах'!AA60 -> 4424.25 | AD44: =17697*20%/16*'в часах'!AB60 -> 0 | AE44: =17697*40%/16*'в часах'!AC60 -> 0 | AF44: =17697*25%/16*'в часах'!AD60 -> 829.54688 | AG44: =17697*50%/16*'в часах'!AE60 -> 0 | AH44: =17697*'в часах'!AF58 -> 4424.25 | AI44: =17697*'в часах'!AG59 -> 0 | AJ44: =17697*'в часах'!AH59 -> 0 | AK44: =17697*'в часах'!AI59 -> 0 | AL44: =17697*'в часах'!AJ60 -> 0 | AM44: =17697*'в часах'!AK60 -> 0 | AO44: =R44*'в часах'!AM60 -> 0 | AP44: =R44*'в часах'!AN60 -> 0 | AQ44: =R44*'в часах'!AO60 -> 62781.49 | AR44: =3063*'в часах'!AP60 -> 0 | AS44: =17697*'в часах'!AQ60 -> 0 | AT44: =17697*'в часах'!AR60 -> 0 | AU44: =17697*'в часах'!AS60 -> 0 | AV44: =17697*'в часах'!AT60 -> 3539.4 | AW44: =17697*'в часах'!AU60 -> 0 | AX44: =SUM(S44:AW44) -> 152794.33 | AY44: =AX44+R44 -> 362065.96 | AZ44: 12 | BA44: =AZ44*AY44 -> 4344791.6
A45: =A44+1 -> 28 | B45: ='в часах'!B61 -> Гептина Галина Ивановна | C45: ='в часах'!C61 -> 0 | D45: ='в часах'!D61 -> высшее.Кокшетауский ГУ | E45: ='в часах'!E61 -> 18.00.08. | F45: ='в часах'!F61 -> первая № 302/а от 06.04.2018 | G45: ='в часах'!G61 -> B22 - 16-20 | H45: ='в часах'!H61 -> 5.03 | I45: ='в часах'!I61 -> 1.75 | ... K45: ='в часах'!K61 -> 1.25 | L45: =J45/24*'в часах'!L61 -> 0 | M45: =J45/16*'в часах'!M61 -> 0 | N45: =J45/16*'в часах'!N61 -> 97361.152 | O45: =J45/16*'в часах'!O61 -> 97361.152 | P45: =L45+M45+N45+O45 -> 194722.3 | Q45: =P45*'в часах'!P61 -> 48680.576 | R45: =P45+Q45 -> 243402.88 | S45: =P45*'в часах'!Q61 -> 19472.23 | T45: =(M45+N45+O45)*1.25*30% -> 73020.864 | U45: =17697*40%/16*'в часах'!S61 -> 0 | V45: =17697*20%/16*'в часах'!T61 -> 0 | W45: =17697*40%/16*'в часах'!U61 -> 0 | X45: =17697*25%/16*'в часах'!V61 -> 0 | Y45: =17697*50%/16*'в часах'!W61 -> 0 | Z45: =17697*20%/16*'в часах'!X61 -> 1106.0625 | AA45: =17697*40%/16*'в часах'!Y61 -> 2212.125 | AB45: =17697*25%/16*'в часах'!Z61 -> 0 | AC45: =17697*50%/16*'в часах'!AA61 -> 0 | AD45: =17697*20%/16*'в часах'!AB61 -> 2212.125 | AE45: =17697*40%/16*'в часах'!AC61 -> 0 | AF45: =17697*25%/16*'в часах'!AD61 -> 0 | AG45: =17697*50%/16*'в часах'!AE61 -> 0 | AH45: =17697*'в часах'!AF59 -> 0 | AI45: =17697*'в часах'!AG60 -> 0 | AJ45: =17697*'в часах'!AH60 -> 0 | AK45: =17697*'в часах'!AI60 -> 0 | AL45: =17697*'в часах'!AJ61 -> 0 | AM45: =17697*'в часах'!AK61 -> 0 | AO45: =R45*'в часах'!AM61 -> 0 | AP45: =R45*'в часах'!AN61 -> 0 | AQ45: =R45*'в часах'!AO61 -> 0 | AR45: =3063*'в часах'!AP61 -> 0 | AS45: =17697*'в часах'!AQ61 -> 0 | AT45: =17697*'в часах'!AR61 -> 0 | AU45: =17697*'в часах'!AS61 -> 0 | AV45: =17697*'в часах'!AT61 -> 3539.4 | AW45: =17697*'в часах'!AU61 -> 0 | AX45: =SUM(S45:AW45) -> 101562.81 | AY45: =AX45+R45 -> 344965.69 | AZ45: 12 | BA45: =AZ45*AY45 -> 4139588.2
A46: =A45+1 -> 29 | B46: ='в часах'!B62 -> Гептина Галина Ивановна | C46: ='в часах'!C62 -> математика | D46: ='в часах'!D62 -> высшее.Кокшетауский ГУ | E46: ='в часах'!E62 -> 18.00.08. | F46: ='в часах'!F62 -> первая № 302/а от 06.04.2019 | G46: ='в часах'!G62 -> B22 - 16-20 | H46: ='в часах'!H62 -> 5.03 | I46: ='в часах'!I62 -> 1.75 | ... K46: ='в часах'!K62 -> 0 | L46: =J46/24*'в часах'!L62 -> 0 | M46: =J46/16*'в часах'!M62 -> 0 | N46: =J46/16*'в часах'!N62 -> 0 | O46: =J46/16*'в часах'!O62 -> 0 | P46: =L46+M46+N46+O46 -> 0 | Q46: =P46*'в часах'!P62 -> 0 | R46: =P46+Q46 -> 0 | S46: =P46*'в часах'!Q62 -> 0 | T46: =(M46+N46+O46)*1.25*30% -> 0 | U46: =17697*40%/16*'в часах'!S62 -> 884.85 | V46: =17697*20%/16*'в часах'!T62 -> 0 | W46: =17697*40%/16*'в часах'!U62 -> 0 | X46: =17697*25%/16*'в часах'!V62 -> 0 | Y46: =17697*50%/16*'в часах'!W62 -> 0 | Z46: =17697*20%/16*'в часах'!X62 -> 442.425 | AA46: =17697*40%/16*'в часах'!Y62 -> 0 | AB46: =17697*25%/16*'в часах'!Z62 -> 0 | AC46: =17697*50%/16*'в часах'!AA62 -> 0 | AD46: =17697*20%/16*'в часах'!AB62 -> 0 | AE46: =17697*40%/16*'в часах'!AC62 -> 0 | AF46: =17697*25%/16*'в часах'!AD62 -> 0 | AG46: =17697*50%/16*'в часах'!AE62 -> 0 | AH46: =17697*'в часах'!AF60 -> 0 | AI46: =17697*'в часах'!AG61 -> 0 | AJ46: =17697*'в часах'!AH61 -> 0 | AK46: =17697*'в часах'!AI61 -> 10618.2 | AL46: =17697*'в часах'!AJ62 -> 0 | AM46: =17697*'в часах'!AK62 -> 0 | AO46: =R46*'в часах'!AM62 -> 0 | AP46: =R46*'в часах'!AN62 -> 0 | AQ46: =R46*'в часах'!AO62 -> 0 | AR46: =3063*'в часах'!AP62 -> 0 | AS46: =17697*'в часах'!AQ62 -> 0 | AT46: =17697*'в часах'!AR62 -> 0 | AU46: =17697*'в часах'!AS62 -> 0 | AV46: =17697*'в часах'!AT62 -> 0 | AW46: =17697*'в часах'!AU62 -> 0 | AX46: =SUM(S46:AW46) -> 11945.475 | AY46: =AX46+R46 -> 11945.475 | AZ46: 12 | BA46: =AZ46*AY46 -> 143345.7
A47: =A46+1 -> 30 | B47: ='в часах'!B63 -> Момунова Виктория Сергеевна | C47: ='в часах'!C63 -> воспитатель предшколы | D47: ='в часах'!D63 -> учитель (курсы переподготовки) | E47: ='в часах'!E63 -> 07.00.01 | F47: ='в часах'!F63 -> б\к | G47: ='в часах'!G63 -> B44 - 07-10 | H47: ='в часах'!H63 -> 3.53 | I47: ='в часах'!I63 -> 1.75 | ... K47: ='в часах'!K63 -> 0.66666667 | L47: =J47 -> 109323.22 | M47: =J47/16*'в часах'!M63 -> 0 | N47: =J47/16*'в часах'!N63 -> 0 | O47: =J47/16*'в часах'!O63 -> 0 | P47: =L47+M47+N47+O47 -> 109323.22 | Q47: =P47*'в часах'!P63 -> 27330.804 | R47: =P47+Q47 -> 136654.02 | S47: =P47*'в часах'!Q63 -> 10932.322 | T47: =(M47+N47+O47)*1.25*30% -> 0 | U47: =17697*40%/16*'в часах'!S63 -> 0 | V47: =17697*20%/16*'в часах'!T63 -> 0 | W47: =17697*40%/16*'в часах'!U63 -> 0 | X47: =17697*25%/16*'в часах'!V63 -> 0 | Y47: =17697*50%/16*'в часах'!W63 -> 0 | Z47: =17697*20%/16*'в часах'!X63 -> 0 | AA47: =17697*40%/16*'в часах'!Y63 -> 0 | AB47: =17697*25%/16*'в часах'!Z63 -> 0 | AC47: =17697*50%/16*'в часах'!AA63 -> 0 | AD47: =17697*20%/16*'в часах'!AB63 -> 0 | AE47: =17697*40%/16*'в часах'!AC63 -> 0 | AF47: =17697*25%/16*'в часах'!AD63 -> 0 | AG47: =17697*50%/16*'в часах'!AE63 -> 0 | AH47: =17697*'в часах'!AF61 -> 0 | AI47: =17697*'в часах'!AG62 -> 0 | AJ47: =17697*'в часах'!AH62 -> 0 | AK47: =17697*'в часах'!AI62 -> 0 | AL47: =17697*'в часах'!AJ63 -> 0 | AM47: =17697*'в часах'!AK63 -> 0 | AO47: =R47*'в часах'!AM63 -> 0 | AP47: =R47*'в часах'!AN63 -> 0 | AQ47: =R47*'в часах'!AO63 -> 0 | AR47: =3063*'в часах'!AP63 -> 0 | AS47: =17697*'в часах'!AQ63 -> 0 | AT47: =17697*'в часах'!AR63 -> 0 | AU47: =17697*'в часах'!AS63 -> 0 | AV47: =17697*'в часах'!AT63 -> 3539.4 | AW47: =17697*'в часах'!AU63 -> 0 | AX47: =SUM(S47:AW47) -> 14471.722 | AY47: =AX47+R47 -> 151125.74 | AZ47: 12 | BA47: =AZ47*AY47 -> 1813508.9
A48: =A47+1 -> 31 | B48: ='в часах'!B64 -> Ахметова Дана Турсунбековна | C48: ='в часах'!C64 -> психолог надомное | D48: ='в часах'!D64 -> Бакалавр педагогики и психологии | E48: ='в часах'!E64 -> 18,05,15 | F48: ='в часах'!F64 -> вторая № 150 от 25.06.2019 | G48: ='в часах'!G64 -> B23 - 16-20 | H48: ='в часах'!H64 -> 4.99 | I48: ='в часах'!I64 -> 1.75 | ... K48: ='в часах'!K64 -> 0 | L48: =J48/24*'в часах'!L64 -> 0 | M48: =J48/16*'в часах'!M64 -> 0 | N48: =J48/16*'в часах'!N64 -> 0 | O48: =J48/16*'в часах'!O64 -> 0 | P48: =L48+M48+N48+O48 -> 0 | Q48: =P48*'в часах'!P64 -> 0 | R48: =P48+Q48 -> 0 | S48: =P48*'в часах'!Q64 -> 0 | T48: =(M48+N48+O48)*1.25*30% -> 0 | U48: =17697*40%/16*'в часах'!S64 -> 884.85 | V48: =17697*20%/16*'в часах'!T64 -> 0 | W48: =17697*40%/16*'в часах'!U64 -> 0 | X48: =17697*25%/16*'в часах'!V64 -> 0 | Y48: =17697*50%/16*'в часах'!W64 -> 0 | Z48: =17697*20%/16*'в часах'!X64 -> 0 | AA48: =17697*40%/16*'в часах'!Y64 -> 0 | AB48: =17697*25%/16*'в часах'!Z64 -> 0 | AC48: =17697*50%/16*'в часах'!AA64 -> 0 | AD48: =17697*20%/16*'в часах'!AB64 -> 0 | AE48: =17697*40%/16*'в часах'!AC64 -> 0 | AF48: =17697*25%/16*'в часах'!AD64 -> 0 | AG48: =17697*50%/16*'в часах'!AE64 -> 0 | AH48: =17697*'в часах'!AF62 -> 0 | AI48: =17697*'в часах'!AG63 -> 0 | AJ48: =17697*'в часах'!AH63 -> 0 | AK48: =17697*'в часах'!AI63 -> 0 | AL48: =17697*'в часах'!AJ64 -> 0 | AM48: =17697*'в часах'!AK64 -> 0 | AO48: =R48*'в часах'!AM64 -> 0 | AP48: =R48*'в часах'!AN64 -> 0 | AQ48: =R48*'в часах'!AO64 -> 0 | AR48: =3063*'в часах'!AP64 -> 0 | AS48: =17697*'в часах'!AQ64 -> 0 | AT48: =17697*'в часах'!AR64 -> 0 | AU48: =17697*'в часах'!AS64 -> 0 | AV48: =17697*'в часах'!AT64 -> 0 | AW48: =17697*'в часах'!AU64 -> 0 | AX48: =SUM(S48:AW48) -> 884.85 | AY48: =AX48+R48 -> 884.85 | AZ48: 12 | BA48: =AZ48*AY48 -> 10618.2
A49: =A48+1 -> 32 | B49: ='в часах'!B65 -> Шульга Татьяна Алексеевна | C49: ='в часах'!C65 -> начальные классы\надомное обучение | D49: ='в часах'!D65 -> учитель (курсы переподготовки) | E49: ='в часах'!E65 -> 38.00.19. | F49: ='в часах'!F65 -> б\к | G49: ='в часах'!G65 -> В44 - 3000 | H49: ='в часах'!H65 -> 3.73 | I49: ='в часах'!I65 -> 1.75 | ... K49: ='в часах'!K65 -> 0 | L49: =J49/24*'в часах'!L65 -> 0 | M49: =J49/16*'в часах'!M65 -> 0 | N49: =J49/16*'в часах'!N65 -> 0 | O49: =J49/16*'в часах'!O65 -> 0 | P49: =L49+M49+N49+O49 -> 0 | Q49: =P49*'в часах'!P65 -> 0 | R49: =P49+Q49 -> 0 | S49: =P49*'в часах'!Q65 -> 0 | T49: =(M49+N49+O49)*1.25*30% -> 0 | U49: =17697*40%/16*'в часах'!S65 -> 3096.975 | V49: =17697*20%/16*'в часах'!T65 -> 1548.4875 | W49: =17697*40%/16*'в часах'!U65 -> 0 | X49: =17697*25%/16*'в часах'!V65 -> 0 | Y49: =17697*50%/16*'в часах'!W65 -> 0 | Z49: =17697*20%/16*'в часах'!X65 -> 0 | AA49: =17697*40%/16*'в часах'!Y65 -> 0 | AB49: =17697*25%/16*'в часах'!Z65 -> 0 | AC49: =17697*50%/16*'в часах'!AA65 -> 0 | AD49: =17697*20%/16*'в часах'!AB65 -> 0 | AE49: =17697*40%/16*'в часах'!AC65 -> 0 | AF49: =17697*25%/16*'в часах'!AD65 -> 0 | AG49: =17697*50%/16*'в часах'!AE65 -> 0 | AH49: =17697*'в часах'!AF63 -> 0 | AI49: =17697*'в часах'!AG64 -> 0 | AJ49: =17697*'в часах'!AH64 -> 0 | AK49: =17697*'в часах'!AI64 -> 0 | AL49: =17697*'в часах'!AJ65 -> 0 | AM49: =17697*'в часах'!AK65 -> 0 | AO49: =R49*'в часах'!AM65 -> 0 | AP49: =R49*'в часах'!AN65 -> 0 | AQ49: =R49*'в часах'!AO65 -> 0 | AR49: =3063*'в часах'!AP65 -> 0 | AS49: =17697*'в часах'!AQ65 -> 0 | AT49: =17697*'в часах'!AR65 -> 0 | AU49: =17697*'в часах'!AS65 -> 0 | AV49: =17697*'в часах'!AT65 -> 0 | AW49: =17697*'в часах'!AU65 -> 0 | AX49: =SUM(S49:AW49) -> 4645.4625 | AY49: =AX49+R49 -> 4645.4625 | AZ49: 12 | BA49: =AZ49*AY49 -> 55745.55
A50: =A49+1 -> 33 | B50: ='в часах'!B66 -> Мркоян Екатерина Петровна | C50: ='в часах'!C66 -> музыка | D50: ='в часах'!D66 -> с/с Педагогический колледж г.Щучинск | E50: ='в часах'!E66 -> 04.11.21 | F50: ='в часах'!F66 -> б\к | G50: ='в часах'!G66 -> В44 03-05 | H50: ='в часах'!H66 -> 3.45 | I50: ='в часах'!I66 -> 1.75 | ... K50: ='в часах'!K66 -> 0.45833333 | L50: =J50/24*'в часах'!L66 -> 8903.8031 | M50: =J50/16*'в часах'!M66 -> 26711.409 | N50: =J50/16*'в часах'!N66 -> 13355.705 | O50: =J50/16*'в часах'!O66 -> 0 | P50: =L50+M50+N50+O50 -> 48970.917 | Q50: =P50*'в часах'!P66 -> 12242.729 | R50: =P50+Q50 -> 61213.646 | S50: =P50*'в часах'!Q66 -> 4897.0917 | T50: =(M50+N50+O50)*1.25*30% -> 15025.168 | U50: =17697*40%/16*'в часах'!S66 -> 0 | V50: =17697*20%/16*'в часах'!T66 -> 0 | W50: =17697*40%/16*'в часах'!U66 -> 0 | X50: =17697*25%/16*'в часах'!V66 -> 0 | Y50: =17697*50%/16*'в часах'!W66 -> 0 | Z50: =17697*20%/16*'в часах'!X66 -> 0 | AA50: =17697*40%/16*'в часах'!Y66 -> 0 | AB50: =17697*25%/16*'в часах'!Z66 -> 0 | AC50: =17697*50%/16*'в часах'!AA66 -> 0 | AD50: =17697*20%/16*'в часах'!AB66 -> 0 | AE50: =17697*40%/16*'в часах'!AC66 -> 0 | AF50: =17697*25%/16*'в часах'!AD66 -> 0 | AG50: =17697*50%/16*'в часах'!AE66 -> 0 | AH50: =17697*'в часах'!AF64 -> 0 | AI50: =17697*'в часах'!AG65 -> 0 | AJ50: =17697*'в часах'!AH65 -> 0 | AK50: =17697*'в часах'!AI65 -> 0 | AL50: =17697*'в часах'!AJ66 -> 0 | AM50: =17697*'в часах'!AK66 -> 0 | AO50: =R50*'в часах'!AM66 -> 0 | AP50: =R50*'в часах'!AN66 -> 0 | AQ50: =R50*'в часах'!AO66 -> 0 | AR50: =3063*'в часах'!AP66 -> 0 | AS50: =17697*'в часах'!AQ66 -> 0 | AT50: =17697*'в часах'!AR66 -> 0 | AU50: =17697*'в часах'!AS66 -> 0 | AV50: =17697*'в часах'!AT66 -> 0 | AW50: =17697*'в часах'!AU66 -> 0 | AX50: =SUM(S50:AW50) -> 19922.259 | AY50: =AX50+R50 -> 81135.906 | AZ50: 12 | BA50: =AZ50*AY50 -> 973630.87
A51: =A50+1 -> 34 | B51: ='в часах'!B67 -> Шульга Евгений Викторович | C51: ='в часах'!C67 -> НВТП | D51: ='в часах'!D67 -> Высшее | E51: ='в часах'!E67 -> 17.07.18 | F51: ='в часах'!F67 -> педагог-эксперт № 264 от 14.07.2021 | G51: ='в часах'!G67 -> B22 -16-20 | H51: ='в часах'!H67 -> 5.03 | I51: ='в часах'!I67 -> 1.75 | ... K51: ='в часах'!K67 -> 0.125 | L51: =J51/24*'в часах'!L67 -> 0 | M51: =J51/16*'в часах'!M67 -> 0 | N51: =J51/16*'в часах'!N67 -> 0 | O51: =J51/16*'в часах'!O67 -> 19472.23 | P51: =L51+M51+N51+O51 -> 19472.23 | Q51: =P51*'в часах'!P67 -> 4868.0576 | R51: =P51+Q51 -> 24340.288 | S51: =P51*'в часах'!Q67 -> 1947.223 | T51: =(M51+N51+O51)*1.25*30% -> 7302.0864 | U51: =17697*40%/16*'в часах'!S67 -> 0 | V51: =17697*20%/16*'в часах'!T67 -> 0 | W51: =17697*40%/16*'в часах'!U67 -> 0 | X51: =17697*25%/16*'в часах'!V67 -> 0 | Y51: =17697*50%/16*'в часах'!W67 -> 0 | Z51: =17697*20%/16*'в часах'!X67 -> 0 | AA51: =17697*40%/16*'в часах'!Y67 -> 0 | AB51: =17697*25%/16*'в часах'!Z67 -> 0 | AC51: =17697*50%/16*'в часах'!AA67 -> 0 | AD51: =17697*20%/16*'в часах'!AB67 -> 0 | AE51: =17697*40%/16*'в часах'!AC67 -> 0 | AF51: =17697*25%/16*'в часах'!AD67 -> 0 | AG51: =17697*50%/16*'в часах'!AE67 -> 0 | AH51: =17697*'в часах'!AF65 -> 0 | AI51: =17697*'в часах'!AG66 -> 0 | AJ51: =17697*'в часах'!AH66 -> 0 | AK51: =17697*'в часах'!AI66 -> 0 | AL51: =17697*'в часах'!AJ67 -> 0 | AM51: =17697*'в часах'!AK67 -> 0 | AO51: =R51*'в часах'!AM67 -> 0 | AP51: =R51*'в часах'!AN67 -> 8519.1008 | AQ51: =R51*'в часах'!AO67 -> 0 | AR51: =3063*'в часах'!AP67 -> 0 | AS51: =17697*'в часах'!AQ67 -> 0 | AT51: =17697*'в часах'!AR67 -> 0 | AU51: =17697*'в часах'!AS67 -> 0 | AV51: =17697*'в часах'!AT67 -> 0 | AW51: =17697*'в часах'!AU67 -> 0 | AX51: =SUM(S51:AW51) -> 17768.41 | AY51: =AX51+R51 -> 42108.698 | AZ51: 13 | BA51: =AZ51*AY51 -> 547413.07
J52: =SUM(J18:J50) -> #REF! | K52: =SUM(K20:K50) -> #REF! | L52: =SUM(L18:L50) -> #REF! | M52: =SUM(M18:M50) -> #REF! | N52: =SUM(N18:N50) -> #REF! | O52: =SUM(O18:O50) -> #REF! | P52: =SUM(P18:P50) -> #REF! | Q52: =SUM(Q18:Q50) -> #REF! | R52: =SUM(R18:R50) -> #REF! | S52: =SUM(S18:S50) -> #REF! | ... AY52: =SUM(AY18:AY50) -> #REF! | BA52: =SUM(BA18:BA50) -> #REF!
D54: Главный бухгалтер: | H54: Зам директора по УЧ:
D56: Главный экономист: | H56: Главный специалист:
D58: Методист по кадром РОО: | H58: Профорг школы:
